Workbook

Sheet Lønn
A1: 07251: Arbeidskraftkostnadsindeks (2016=100), etter kvartal, statistikkvariabel og næring (SN2007)
A2: https://www.ssb.no/statbank/table/07251/
A3: Indeks for totale arbeidskraftkostnader
A4: 49-53b Transport og lagring | N4: År | O4: 2015 | P4: 2016 | Q4: 2017 | R4: 2018 | S4: 2019 | T4: 2020 | U4: 2021 | V4: 2022 | W4: 2023 | X4: 2024
A5: Kvartal | B5: 2016=100 | C5: AKI, Årlig | D5: Prisrelativer | E5: 2020=100 | F5: AKI, Årlig | G5: Prisrelativer | I5: Måned | J5: Månedsverdi | K5: Prisrelativer | N5: AKI, årlig gjennomsnitt | O5: =F9 -> 88.625 | P5: =F13 -> 90.325 | Q5: =F17 -> 92.625 | R5: =F21 -> 94.55 | S5: =F25 -> 97.625 | T5: =F29 -> 100.025 | U5: =F33 -> 103.15 | V5: =F37 -> 107.65 | W5: =F41 -> 113.325
A6: 2015K1 | B6: 97.5 | D6: =B6/B6 -> 1 | E6: =IF('Rådata - Lønnskostnader'!D2<>"",'Rådata - Lønnskostnader'!D2,"") -> 88.1 | G6: =E6/E6 -> 1 | I6: 2015M01 | J6: =E6 -> 88.1 | K6: 1 | N6: Prisrelativer [(Pt/Pt-1)] | P6: =P5/O5 -> 1.0191819 | Q6: =Q5/P5 -> 1.0254636 | R6: =R5/Q5 -> 1.0207827 | S6: =S5/R5 -> 1.0325225 | T6: =T5/S5 -> 1.0245839 | U6: =U5/T5 -> 1.0312422 | V6: =V5/U5 -> 1.0436258 | W6: =W5/V5 -> 1.0527171
A7: 2015K2 | B7: 97.8 | D7: =B7/B6 -> 1.0030769 | E7: =IF('Rådata - Lønnskostnader'!D3<>"",'Rådata - Lønnskostnader'!D3,"") -> 88.4 | G7: =IFERROR(E7/E6,"") -> 1.0034052 | I7: 2015M02 | J7: =J6 -> 88.1 | K7: 1
A8: 2015K3 | B8: 98.3 | D8: =B8/B7 -> 1.0051125 | E8: =IF('Rådata - Lønnskostnader'!D4<>"",'Rådata - Lønnskostnader'!D4,"") -> 88.8 | G8: =IFERROR(E8/E7,"") -> 1.0045249 | I8: 2015M03 | J8: =J7 -> 88.1 | K8: 1
A9: 2015K4 | B9: 98.8 | C9: =AVERAGE(B6:B9) -> 98.1 | D9: =B9/B8 -> 1.0050865 | E9: =IF('Rådata - Lønnskostnader'!D5<>"",'Rådata - Lønnskostnader'!D5,"") -> 89.2 | F9: =AVERAGE(E6:E9) -> 88.625 | G9: =IFERROR(E9/E8,"") -> 1.0045045 | I9: 2015M04 | J9: =E7 -> 88.4 | K9: =1+(J9/J8-1)/3 -> 1.0011351 | N9: Gjennomsnittlig endring i observert periode
A10: 2016K1 | B10: 99.5 | D10: =B10/B9 -> 1.007085 | E10: =IF('Rådata - Lønnskostnader'!D6<>"",'Rådata - Lønnskostnader'!D6,"") -> 89.9 | G10: =IFERROR(E10/E9,"") -> 1.0078475 | I10: 2015M05 | J10: =J9 -> 88.4 | K10: =K9 -> 1.0011351 | N10: 2022 = 100
A11: 2016K2 | B11: 99.7 | D11: =B11/B10 -> 1.0020101 | E11: =IF('Rådata - Lønnskostnader'!D7<>"",'Rådata - Lønnskostnader'!D7,"") -> 90.1 | G11: =IFERROR(E11/E10,"") -> 1.0022247 | I11: 2015M06 | J11: =J10 -> 88.4 | K11: =K10 -> 1.0011351 | N11: Periode | P11: Verdi
A12: 2016K3 | B12: 99.8 | D12: =B12/B11 -> 1.001003 | E12: =IF('Rådata - Lønnskostnader'!D8<>"",'Rådata - Lønnskostnader'!D8,"") -> 90.1 | G12: =IFERROR(E12/E11,"") -> 1 | I12: 2015M07 | J12: =E8 -> 88.8 | K12: =1+(J12/J11-1)/3 -> 1.0015083 | N12: Januar 15 - November 23 (kvartalsvis) | P12: =EXP(LN(1+(E43/E6-1))/((COUNT(E6:E43))-1))-1 -> 0.0076970768
A13: 2016K4 | B13: 101 | C13: =AVERAGE(B10:B13) -> 100 | D13: =B13/B12 -> 1.012024 | E13: =IF('Rådata - Lønnskostnader'!D9<>"",'Rådata - Lønnskostnader'!D9,"") -> 91.2 | F13: =AVERAGE(E10:E13) -> 90.325 | G13: =IFERROR(E13/E12,"") -> 1.0122087 | I13: 2015M08 | J13: =J12 -> 88.8 | K13: =K12 -> 1.0015083 | N13: Januar 15 - November 23 (månedsvis) | P13: =EXP(LN(1+(J119/J6-1))/((COUNT(J6:J119))-1))-1 -> 0.0025137862
A14: 2017K1 | B14: 102.1 | D14: =B14/B13 -> 1.0108911 | E14: =IF('Rådata - Lønnskostnader'!D10<>"",'Rådata - Lønnskostnader'!D10,"") -> 92.3 | G14: =IFERROR(E14/E13,"") -> 1.0120614 | I14: 2015M09 | J14: =J13 -> 88.8 | K14: =K13 -> 1.0015083
A15: 2017K2 | B15: 102.7 | D15: =B15/B14 -> 1.0058766 | E15: =IF('Rådata - Lønnskostnader'!D11<>"",'Rådata - Lønnskostnader'!D11,"") -> 92.8 | G15: =IFERROR(E15/E14,"") -> 1.0054171 | I15: 2015M10 | J15: =E9 -> 89.2 | K15: =1+(J15/J14-1)/3 -> 1.0015015
A16: 2017K3 | B16: 102.1 | D16: =B16/B15 -> 0.99415774 | E16: =IF('Rådata - Lønnskostnader'!D12<>"",'Rådata - Lønnskostnader'!D12,"") -> 92.2 | G16: =IFERROR(E16/E15,"") -> 0.99353448 | I16: 2015M11 | J16: =J15 -> 89.2 | K16: =K15 -> 1.0015015
A17: 2017K4 | B17: 103.2 | C17: =AVERAGE(B14:B17) -> 102.525 | D17: =B17/B16 -> 1.0107738 | E17: =IF('Rådata - Lønnskostnader'!D13<>"",'Rådata - Lønnskostnader'!D13,"") -> 93.2 | F17: =AVERAGE(E14:E17) -> 92.625 | G17: =IFERROR(E17/E16,"") -> 1.010846 | I17: 2015M12 | J17: =J16 -> 89.2 | K17: =K16 -> 1.0015015
A18: 2018K1 | B18: 103.8 | D18: =B18/B17 -> 1.005814 | E18: =IF('Rådata - Lønnskostnader'!D14<>"",'Rådata - Lønnskostnader'!D14,"") -> 93.8 | G18: =IFERROR(E18/E17,"") -> 1.0064378 | I18: 2016M01 | J18: =E10 -> 89.9 | K18: =1+(J18/J17-1)/3 -> 1.0026158
A19: 2018K2 | B19: 104.7 | D19: =B19/B18 -> 1.0086705 | E19: =IF('Rådata - Lønnskostnader'!D15<>"",'Rådata - Lønnskostnader'!D15,"") -> 94.6 | G19: =IFERROR(E19/E18,"") -> 1.0085288 | I19: 2016M02 | J19: =J18 -> 89.9 | K19: =K18 -> 1.0026158
A20: 2018K3 | B20: 104.3 | D20: =B20/B19 -> 0.99617956 | E20: =IF('Rådata - Lønnskostnader'!D16<>"",'Rådata - Lønnskostnader'!D16,"") -> 94.2 | G20: =IFERROR(E20/E19,"") -> 0.99577167 | I20: 2016M03 | J20: =J19 -> 89.9 | K20: =K19 -> 1.0026158
A21: 2018K4 | B21: 105.8 | C21: =AVERAGE(B18:B21) -> 104.65 | D21: =B21/B20 -> 1.0143816 | E21: =IF('Rådata - Lønnskostnader'!D17<>"",'Rådata - Lønnskostnader'!D17,"") -> 95.6 | F21: =AVERAGE(E18:E21) -> 94.55 | G21: =IFERROR(E21/E20,"") -> 1.014862 | I21: 2016M04 | J21: =E11 -> 90.1 | K21: =1+(J21/J20-1)/3 -> 1.0007416
A22: 2019K1 | B22: 106.3 | D22: =B22/B21 -> 1.0047259 | E22: =IF('Rådata - Lønnskostnader'!D18<>"",'Rådata - Lønnskostnader'!D18,"") -> 96 | G22: =IFERROR(E22/E21,"") -> 1.0041841 | I22: 2016M05 | J22: =J21 -> 90.1 | K22: =K21 -> 1.0007416
A23: 2019K2 | B23: 108.6 | D23: =B23/B22 -> 1.0216369 | E23: =IF('Rådata - Lønnskostnader'!D19<>"",'Rådata - Lønnskostnader'!D19,"") -> 98.1 | G23: =IFERROR(E23/E22,"") -> 1.021875 | I23: 2016M06 | J23: =J22 -> 90.1 | K23: =K22 -> 1.0007416
A24: 2019K3 | B24: 108.5 | D24: =B24/B23 -> 0.99907919 | E24: =IF('Rådata - Lønnskostnader'!D20<>"",'Rådata - Lønnskostnader'!D20,"") -> 98.1 | G24: =IFERROR(E24/E23,"") -> 1 | I24: 2016M07 | J24: =E12 -> 90.1 | K24: =1+(J24/J23-1)/3 -> 1
A25: 2019K4 | B25: 108.8 | C25: =AVERAGE(B22:B25) -> 108.05 | D25: =B25/B24 -> 1.002765 | E25: =IF('Rådata - Lønnskostnader'!D21<>"",'Rådata - Lønnskostnader'!D21,"") -> 98.3 | F25: =AVERAGE(E22:E25) -> 97.625 | G25: =IFERROR(E25/E24,"") -> 1.0020387 | I25: 2016M08 | J25: =J24 -> 90.1 | K25: =K24 -> 1
A26: 2020K1 | B26: 110 | D26: =B26/B25 -> 1.0110294 | E26: =IF('Rådata - Lønnskostnader'!D22<>"",'Rådata - Lønnskostnader'!D22,"") -> 99.4 | G26: =IFERROR(E26/E25,"") -> 1.0111902 | I26: 2016M09 | J26: =J25 -> 90.1 | K26: =K25 -> 1
A27: 2020K2 | B27: 111 | D27: =B27/B26 -> 1.0090909 | E27: =IF('Rådata - Lønnskostnader'!D23<>"",'Rådata - Lønnskostnader'!D23,"") -> 100.3 | G27: =IFERROR(E27/E26,"") -> 1.0090543 | I27: 2016M10 | J27: =E13 -> 91.2 | K27: =1+(J27/J26-1)/3 -> 1.0040696
A28: 2020K3 | B28: 110.3 | D28: =B28/B27 -> 0.99369369 | E28: =IF('Rådata - Lønnskostnader'!D24<>"",'Rådata - Lønnskostnader'!D24,"") -> 99.7 | G28: =IFERROR(E28/E27,"") -> 0.99401795 | I28: 2016M11 | J28: =J27 -> 91.2 | K28: =K27 -> 1.0040696
A29: 2020K4 | B29: 111.4 | C29: =AVERAGE(B26:B29) -> 110.675 | D29: =B29/B28 -> 1.0099728 | E29: =IF('Rådata - Lønnskostnader'!D25<>"",'Rådata - Lønnskostnader'!D25,"") -> 100.7 | F29: =AVERAGE(E26:E29) -> 100.025 | G29: =IFERROR(E29/E28,"") -> 1.0100301 | I29: 2016M12 | J29: =J28 -> 91.2 | K29: =K28 -> 1.0040696
A30: 2021K1 | B30: 112.4 | D30: =B30/B29 -> 1.0089767 | E30: =IF('Rådata - Lønnskostnader'!D26<>"",'Rådata - Lønnskostnader'!D26,"") -> 101.6 | G30: =IFERROR(E30/E29,"") -> 1.0089374 | I30: 2017M01 | J30: =E14 -> 92.3 | K30: =1+(J30/J29-1)/3 -> 1.0040205
A31: 2021K2 | B31: 114.5 | D31: =B31/B30 -> 1.0186833 | E31: =IF('Rådata - Lønnskostnader'!D27<>"",'Rådata - Lønnskostnader'!D27,"") -> 103.5 | G31: =IFERROR(E31/E30,"") -> 1.0187008 | I31: 2017M02 | J31: =J30 -> 92.3 | K31: =K30 -> 1.0040205
A32: 2021K3 | B32: 114.1 | D32: =B32/B31 -> 0.99650655 | E32: =IF('Rådata - Lønnskostnader'!D28<>"",'Rådata - Lønnskostnader'!D28,"") -> 103.1 | G32: =IFERROR(E32/E31,"") -> 0.99613527 | I32: 2017M03 | J32: =J31 -> 92.3 | K32: =K31 -> 1.0040205
A33: 2021K4 | B33: 115.6 | C33: =AVERAGE(B30:B33) -> 114.15 | D33: =B33/B32 -> 1.0131464 | E33: =IF('Rådata - Lønnskostnader'!D29<>"",'Rådata - Lønnskostnader'!D29,"") -> 104.4 | F33: =AVERAGE(E30:E33) -> 103.15 | G33: =IFERROR(E33/E32,"") -> 1.0126091 | I33: 2017M04 | J33: =E15 -> 92.8 | K33: =1+(J33/J32-1)/3 -> 1.0018057
A34: 2022K1 | B34: 117.1 | D34: =B34/B33 -> 1.0129758 | E34: =IF('Rådata - Lønnskostnader'!D30<>"",'Rådata - Lønnskostnader'!D30,"") -> 105.8 | G34: =IFERROR(E34/E33,"") -> 1.01341 | I34: 2017M05 | J34: =J33 -> 92.8 | K34: =K33 -> 1.0018057
A35: 2022K2 | B35: 119.1 | D35: =B35/B34 -> 1.0170794 | E35: =IF('Rådata - Lønnskostnader'!D31<>"",'Rådata - Lønnskostnader'!D31,"") -> 107.7 | G35: =IFERROR(E35/E34,"") -> 1.0179584 | I35: 2017M06 | J35: =J34 -> 92.8 | K35: =K34 -> 1.0018057
A36: 2022K3 | B36: 118.4 | D36: =B36/B35 -> 0.99412259 | E36: =IF('Rådata - Lønnskostnader'!D32<>"",'Rådata - Lønnskostnader'!D32,"") -> 107 | G36: =IFERROR(E36/E35,"") -> 0.99350046 | I36: 2017M07 | J36: =E16 -> 92.2 | K36: =1+(J36/J35-1)/3 -> 0.99784483
A37: 2022K4 | B37: 121.8 | C37: =AVERAGE(B34:B37) -> 119.1 | D37: =B37/B36 -> 1.0287162 | E37: =IF('Rådata - Lønnskostnader'!D33<>"",'Rådata - Lønnskostnader'!D33,"") -> 110.1 | F37: =AVERAGE(E34:E37) -> 107.65 | G37: =IFERROR(E37/E36,"") -> 1.028972 | I37: 2017M08 | J37: =J36 -> 92.2 | K37: =K36 -> 0.99784483
A38: 2023K1 | E38: =IF('Rådata - Lønnskostnader'!D34<>"",'Rådata - Lønnskostnader'!D34,"") -> 111 | G38: =IFERROR(E38/E37,"") -> 1.0081744 | I38: 2017M09 | J38: =J37 -> 92.2 | K38: =K37 -> 0.99784483
A39: 2023K2 | E39: =IF('Rådata - Lønnskostnader'!D35<>"",'Rådata - Lønnskostnader'!D35,"") -> 113 | G39: =IFERROR(E39/E38,"") -> 1.018018 | I39: 2017M10 | J39: =E17 -> 93.2 | K39: =1+(J39/J38-1)/3 -> 1.0036153
A40: 2023K3 | E40: =IF('Rådata - Lønnskostnader'!D36<>"",'Rådata - Lønnskostnader'!D36,"") -> 111.8 | G40: =IFERROR(E40/E39,"") -> 0.98938053 | I40: 2017M11 | J40: =J39 -> 93.2 | K40: =K39 -> 1.0036153
A41: 2023K4 | E41: =IF('Rådata - Lønnskostnader'!D37<>"",'Rådata - Lønnskostnader'!D37,"") -> 117.5 | F41: =AVERAGE(E38:E41) -> 113.325 | G41: =IFERROR(E41/E40,"") -> 1.0509839 | I41: 2017M12 | J41: =J40 -> 93.2 | K41: =K40 -> 1.0036153
A42: 2024K1 | E42: =IF('Rådata - Lønnskostnader'!D38<>"",'Rådata - Lønnskostnader'!D38,"") -> 116.9 | G42: =IFERROR(E42/E41,"") -> 0.99489362 | I42: 2018M01 | J42: =E18 -> 93.8 | K42: =1+(J42/J41-1)/3 -> 1.0021459
A43: 2024K2 | E43: =IF('Rådata - Lønnskostnader'!D39<>"",'Rådata - Lønnskostnader'!D39,"") -> 117 | G43: =IFERROR(E43/E42,"") -> 1.0008554 | I43: 2018M02 | J43: =J42 -> 93.8 | K43: =K42 -> 1.0021459
A44: 2024K3 | E44: =IF('Rådata - Lønnskostnader'!D40<>"",'Rådata - Lønnskostnader'!D40,"") -> 115.4 | G44: =IFERROR(E44/E43,"") -> 0.98632479 | I44: 2018M03 | J44: =J43 -> 93.8 | K44: =K43 -> 1.0021459
A45: 2024K4 | E45: =IF('Rådata - Lønnskostnader'!D41<>"",'Rådata - Lønnskostnader'!D41,"") -> 122 | G45: =IFERROR(E45/E44,"") -> 1.0571924 | I45: 2018M04 | J45: =E19 -> 94.6 | K45: =1+(J45/J44-1)/3 -> 1.0028429
A46: 2025K1 | E46: =IF('Rådata - Lønnskostnader'!D42<>"",'Rådata - Lønnskostnader'!D42,"") -> 121.5 | G46: =IFERROR(E46/E45,"") -> 0.99590164 | I46: 2018M05 | J46: =J45 -> 94.6 | K46: =K45 -> 1.0028429
A47: 2025K2 | E47: =IF('Rådata - Lønnskostnader'!D43<>"",'Rådata - Lønnskostnader'!D43,"") -> 121.4 | G47: =IFERROR(E47/E46,"") -> 0.99917695 | I47: 2018M06 | J47: =J46 -> 94.6 | K47: =K46 -> 1.0028429
A48: 2025K3 | E48: =IF('Rådata - Lønnskostnader'!D44<>"",'Rådata - Lønnskostnader'!D44,"") -> 120.3 | G48: =IFERROR(E48/E47,"") -> 0.99093904 | I48: 2018M07 | J48: =E20 -> 94.2 | K48: =1+(J48/J47-1)/3 -> 0.99859056
A49: 2025K4 | E49: =IF('Rådata - Lønnskostnader'!D45<>"",'Rådata - Lønnskostnader'!D45,"") -> 125.8 | G49: =IFERROR(E49/E48,"") -> 1.045719 | I49: 2018M08 | J49: =J48 -> 94.2 | K49: =K48 -> 0.99859056
A50: 2026K1 | E50: =IF('Rådata - Lønnskostnader'!D46<>"",'Rådata - Lønnskostnader'!D46,"") -> 126.5 | G50: =IFERROR(E50/E49,"") -> 1.0055644 | I50: 2018M09 | J50: =J49 -> 94.2 | K50: =K49 -> 0.99859056
A51: 2026K2 | E51: =IF('Rådata - Lønnskostnader'!D47<>"",'Rådata - Lønnskostnader'!D47,"") -> 126.1 | G51: =IFERROR(E51/E50,"") -> 0.99683794 | I51: 2018M10 | J51: =E21 -> 95.6 | K51: =1+(J51/J50-1)/3 -> 1.004954
A52: 2026K3 | E52: =IF('Rådata - Lønnskostnader'!D48<>"",'Rådata - Lønnskostnader'!D48,"") | G52: =IFERROR(E52/E51,"") | I52: 2018M11 | J52: =J51 -> 95.6 | K52: =K51 -> 1.004954
A53: 2026K4 | E53: =IF('Rådata - Lønnskostnader'!D49<>"",'Rådata - Lønnskostnader'!D49,"") | G53: =IFERROR(E53/E52,"") | I53: 2018M12 | J53: =J52 -> 95.6 | K53: =K52 -> 1.004954
A54: 2027K1 | E54: =IF('Rådata - Lønnskostnader'!D50<>"",'Rådata - Lønnskostnader'!D50,"") | G54: =IFERROR(E54/E53,"") | I54: 2019M01 | J54: =E22 -> 96 | K54: =1+(J54/J53-1)/3 -> 1.0013947
A55: 2027K2 | E55: =IF('Rådata - Lønnskostnader'!D51<>"",'Rådata - Lønnskostnader'!D51,"") | G55: =IFERROR(E55/E54,"") | I55: 2019M02 | J55: =J54 -> 96 | K55: =K54 -> 1.0013947
A56: 2027K3 | E56: =IF('Rådata - Lønnskostnader'!D52<>"",'Rådata - Lønnskostnader'!D52,"") | G56: =IFERROR(E56/E55,"") | I56: 2019M03 | J56: =J55 -> 96 | K56: =K55 -> 1.0013947
A57: 2027K4 | E57: =IF('Rådata - Lønnskostnader'!D53<>"",'Rådata - Lønnskostnader'!D53,"") | G57: =IFERROR(E57/E56,"") | I57: 2019M04 | J57: =E23 -> 98.1 | K57: =1+(J57/J56-1)/3 -> 1.0072917
A58: 2028K1 | E58: =IF('Rådata - Lønnskostnader'!D54<>"",'Rådata - Lønnskostnader'!D54,"") | G58: =IFERROR(E58/E57,"") | I58: 2019M05 | J58: =J57 -> 98.1 | K58: =K57 -> 1.0072917
A59: 2028K2 | E59: =IF('Rådata - Lønnskostnader'!D55<>"",'Rådata - Lønnskostnader'!D55,"") | G59: =IFERROR(E59/E58,"") | I59: 2019M06 | J59: =J58 -> 98.1 | K59: =K58 -> 1.0072917
A60: 2028K3 | E60: =IF('Rådata - Lønnskostnader'!D56<>"",'Rådata - Lønnskostnader'!D56,"") | G60: =IFERROR(E60/E59,"") | I60: 2019M07 | J60: =E24 -> 98.1 | K60: =1+(J60/J59-1)/3 -> 1
A61: 2028K4 | E61: =IF('Rådata - Lønnskostnader'!D57<>"",'Rådata - Lønnskostnader'!D57,"") | G61: =IFERROR(E61/E60,"") | I61: 2019M08 | J61: =J60 -> 98.1 | K61: =K60 -> 1
A62: 2029K1 | E62: =IF('Rådata - Lønnskostnader'!D58<>"",'Rådata - Lønnskostnader'!D58,"") | G62: =IFERROR(E62/E61,"") | I62: 2019M09 | J62: =J61 -> 98.1 | K62: =K61 -> 1
A63: 2029K2 | E63: =IF('Rådata - Lønnskostnader'!D59<>"",'Rådata - Lønnskostnader'!D59,"") | G63: =IFERROR(E63/E62,"") | I63: 2019M10 | J63: =E25 -> 98.3 | K63: =1+(J63/J62-1)/3 -> 1.0006796
A64: 2029K3 | E64: =IF('Rådata - Lønnskostnader'!D60<>"",'Rådata - Lønnskostnader'!D60,"") | G64: =IFERROR(E64/E63,"") | I64: 2019M11 | J64: =J63 -> 98.3 | K64: =K63 -> 1.0006796
A65: 2029K4 | E65: =IF('Rådata - Lønnskostnader'!D61<>"",'Rådata - Lønnskostnader'!D61,"") | G65: =IFERROR(E65/E64,"") | I65: 2019M12 | J65: =J64 -> 98.3 | K65: =K64 -> 1.0006796
A66: 2030K1 | E66: =IF('Rådata - Lønnskostnader'!D62<>"",'Rådata - Lønnskostnader'!D62,"") | G66: =IFERROR(E66/E65,"") | I66: 2020M01 | J66: =E26 -> 99.4 | K66: =1+(J66/J65-1)/3 -> 1.0037301
A67: 2030K2 | E67: =IF('Rådata - Lønnskostnader'!D63<>"",'Rådata - Lønnskostnader'!D63,"") | G67: =IFERROR(E67/E66,"") | I67: 2020M02 | J67: =J66 -> 99.4 | K67: =K66 -> 1.0037301
A68: 2030K3 | E68: =IF('Rådata - Lønnskostnader'!D64<>"",'Rådata - Lønnskostnader'!D64,"") | G68: =IFERROR(E68/E67,"") | I68: 2020M03 | J68: =J67 -> 99.4 | K68: =K67 -> 1.0037301
A69: 2030K4 | E69: =IF('Rådata - Lønnskostnader'!D65<>"",'Rådata - Lønnskostnader'!D65,"") | G69: =IFERROR(E69/E68,"") | I69: 2020M04 | J69: =E27 -> 100.3 | K69: =1+(J69/J68-1)/3 -> 1.0030181
E70: =IF('Rådata - Lønnskostnader'!D70<>"",'Rådata - Lønnskostnader'!D70,"") | G70: =IFERROR(E70/E69,"") | I70: 2020M05 | J70: =J69 -> 100.3 | K70: =K69 -> 1.0030181
E71: =IF('Rådata - Lønnskostnader'!D71<>"",'Rådata - Lønnskostnader'!D71,"") | G71: =IFERROR(E71/E70,"") | I71: 2020M06 | J71: =J70 -> 100.3 | K71: =K70 -> 1.0030181
E72: =IF('Rådata - Lønnskostnader'!D72<>"",'Rådata - Lønnskostnader'!D72,"") | G72: =IFERROR(E72/E71,"") | I72: 2020M07 | J72: =E28 -> 99.7 | K72: =1+(J72/J71-1)/3 -> 0.99800598
E73: =IF('Rådata - Lønnskostnader'!D73<>"",'Rådata - Lønnskostnader'!D73,"") | G73: =IFERROR(E73/E72,"") | I73: 2020M08 | J73: =J72 -> 99.7 | K73: =K72 -> 0.99800598
E74: =IF('Rådata - Lønnskostnader'!D74<>"",'Rådata - Lønnskostnader'!D74,"") | G74: =IFERROR(E74/E73,"") | I74: 2020M09 | J74: =J73 -> 99.7 | K74: =K73 -> 0.99800598
E75: =IF('Rådata - Lønnskostnader'!D75<>"",'Rådata - Lønnskostnader'!D75,"") | G75: =IFERROR(E75/E74,"") | I75: 2020M10 | J75: =E29 -> 100.7 | K75: =1+(J75/J74-1)/3 -> 1.0033434
E76: =IF('Rådata - Lønnskostnader'!D76<>"",'Rådata - Lønnskostnader'!D76,"") | G76: =IFERROR(E76/E75,"") | I76: 2020M11 | J76: =J75 -> 100.7 | K76: =K75 -> 1.0033434
E77: =IF('Rådata - Lønnskostnader'!D77<>"",'Rådata - Lønnskostnader'!D77,"") | G77: =IFERROR(E77/E76,"") | I77: 2020M12 | J77: =J76 -> 100.7 | K77: =K76 -> 1.0033434
E78: =IF('Rådata - Lønnskostnader'!D78<>"",'Rådata - Lønnskostnader'!D78,"") | G78: =IFERROR(E78/E77,"") | I78: 2021M01 | J78: =E30 -> 101.6 | K78: =1+(J78/J77-1)/3 -> 1.0029791
E79: =IF('Rådata - Lønnskostnader'!D79<>"",'Rådata - Lønnskostnader'!D79,"") | G79: =IFERROR(E79/E78,"") | I79: 2021M02 | J79: =J78 -> 101.6 | K79: =K78 -> 1.0029791
E80: =IF('Rådata - Lønnskostnader'!D80<>"",'Rådata - Lønnskostnader'!D80,"") | G80: =IFERROR(E80/E79,"") | I80: 2021M03 | J80: =J79 -> 101.6 | K80: =K79 -> 1.0029791
E81: =IF('Rådata - Lønnskostnader'!D81<>"",'Rådata - Lønnskostnader'!D81,"") | G81: =IFERROR(E81/E80,"") | I81: 2021M04 | J81: =E31 -> 103.5 | K81: =1+(J81/J80-1)/3 -> 1.0062336
E82: =IF('Rådata - Lønnskostnader'!D82<>"",'Rådata - Lønnskostnader'!D82,"") | G82: =IFERROR(E82/E81,"") | I82: 2021M05 | J82: =J81 -> 103.5 | K82: =K81 -> 1.0062336
E83: =IF('Rådata - Lønnskostnader'!D83<>"",'Rådata - Lønnskostnader'!D83,"") | G83: =IFERROR(E83/E82,"") | I83: 2021M06 | J83: =J82 -> 103.5 | K83: =K82 -> 1.0062336
E84: =IF('Rådata - Lønnskostnader'!D84<>"",'Rådata - Lønnskostnader'!D84,"") | G84: =IFERROR(E84/E83,"") | I84: 2021M07 | J84: =E32 -> 103.1 | K84: =1+(J84/J83-1)/3 -> 0.99871176
E85: =IF('Rådata - Lønnskostnader'!D85<>"",'Rådata - Lønnskostnader'!D85,"") | G85: =IFERROR(E85/E84,"") | I85: 2021M08 | J85: =J84 -> 103.1 | K85: =K84 -> 0.99871176
E86: =IF('Rådata - Lønnskostnader'!D86<>"",'Rådata - Lønnskostnader'!D86,"") | G86: =IFERROR(E86/E85,"") | I86: 2021M09 | J86: =J85 -> 103.1 | K86: =K85 -> 0.99871176
E87: =IF('Rådata - Lønnskostnader'!D87<>"",'Rådata - Lønnskostnader'!D87,"") | G87: =IFERROR(E87/E86,"") | I87: 2021M10 | J87: =E33 -> 104.4 | K87: =1+(J87/J86-1)/3 -> 1.004203
E88: =IF('Rådata - Lønnskostnader'!D88<>"",'Rådata - Lønnskostnader'!D88,"") | G88: =IFERROR(E88/E87,"") | I88: 2021M11 | J88: =J87 -> 104.4 | K88: =K87 -> 1.004203
E89: =IF('Rådata - Lønnskostnader'!D89<>"",'Rådata - Lønnskostnader'!D89,"") | G89: =IFERROR(E89/E88,"") | I89: 2021M12 | J89: =J88 -> 104.4 | K89: =K88 -> 1.004203
E90: =IF('Rådata - Lønnskostnader'!D90<>"",'Rådata - Lønnskostnader'!D90,"") | G90: =IFERROR(E90/E89,"") | I90: 2022M01 | J90: =E34 -> 105.8 | K90: =1+(J90/J89-1)/3 -> 1.00447
E91: =IF('Rådata - Lønnskostnader'!D91<>"",'Rådata - Lønnskostnader'!D91,"") | G91: =IFERROR(E91/E90,"") | I91: 2022M02 | J91: =J90 -> 105.8 | K91: =K90 -> 1.00447
E92: =IF('Rådata - Lønnskostnader'!D92<>"",'Rådata - Lønnskostnader'!D92,"") | G92: =IFERROR(E92/E91,"") | I92: 2022M03 | J92: =J91 -> 105.8 | K92: =K91 -> 1.00447
E93: =IF('Rådata - Lønnskostnader'!D93<>"",'Rådata - Lønnskostnader'!D93,"") | G93: =IFERROR(E93/E92,"") | I93: 2022M04 | J93: =E35 -> 107.7 | K93: =1+(J93/J92-1)/3 -> 1.0059861
E94: =IF('Rådata - Lønnskostnader'!D94<>"",'Rådata - Lønnskostnader'!D94,"") | G94: =IFERROR(E94/E93,"") | I94: 2022M05 | J94: =J93 -> 107.7 | K94: =K93 -> 1.0059861
E95: =IF('Rådata - Lønnskostnader'!D95<>"",'Rådata - Lønnskostnader'!D95,"") | G95: =IFERROR(E95/E94,"") | I95: 2022M06 | J95: =J94 -> 107.7 | K95: =K94 -> 1.0059861
E96: =IF('Rådata - Lønnskostnader'!D96<>"",'Rådata - Lønnskostnader'!D96,"") | G96: =IFERROR(E96/E95,"") | I96: 2022M07 | J96: =E36 -> 107 | K96: =1+(J96/J95-1)/3 -> 0.99783349
E97: =IF('Rådata - Lønnskostnader'!D97<>"",'Rådata - Lønnskostnader'!D97,"") | G97: =IFERROR(E97/E96,"") | I97: 2022M08 | J97: =J96 -> 107 | K97: =K96 -> 0.99783349
E98: =IF('Rådata - Lønnskostnader'!D98<>"",'Rådata - Lønnskostnader'!D98,"") | G98: =IFERROR(E98/E97,"") | I98: 2022M09 | J98: =J97 -> 107 | K98: =K97 -> 0.99783349
E99: =IF('Rådata - Lønnskostnader'!D99<>"",'Rådata - Lønnskostnader'!D99,"") | G99: =IFERROR(E99/E98,"") | I99: 2022M10 | J99: =E37 -> 110.1 | K99: =1+(J99/J98-1)/3 -> 1.0096573
E100: =IF('Rådata - Lønnskostnader'!D100<>"",'Rådata - Lønnskostnader'!D100,"") | G100: =IFERROR(E100/E99,"") | I100: 2022M11 | J100: =J99 -> 110.1 | K100: =K99 -> 1.0096573
...

Sheet Kapital_avskrivning
A1: 03013: Konsumprisindeks, etter måned, statistikkvariabel og konsumgruppe
A2: 03013: Konsumprisindeks, etter konsumgruppe, måned og statistikkvariabel. Statistikkbanken (ssb.no)
A4: Konsumprisindeks for biler (2015=100)
A5: Måned | B5: 2015=100 | D5: Prisrelativer | G5: År | H5: 2015 | I5: 2016 | J5: 2017 | K5: 2018 | L5: 2019 | M5: 2020 | N5: 2021 | O5: 2022 | P5: 2023 | Q5: 2024
A6: 2015M01 | B6: =IF('Rådata - Kapital avskrivning'!D2<>"",'Rådata - Kapital avskrivning'!D2,"") -> 79.2 | D6: 1 | G6: KPI, årlig gjennomsnitt | H6: =C17 -> 79.425 | I6: =C29 -> 81.141667 | J6: =C41 -> 83.033333 | K6: =C53 -> 85.675 | L6: =C65 -> 86.825 | M6: =C77 -> 88.516667 | N6: =C89 -> 89.966667 | O6: =C101 -> 93.925 | P6: =C113 -> 101.08333
A7: 2015M02 | B7: =IF('Rådata - Kapital avskrivning'!D3<>"",'Rådata - Kapital avskrivning'!D3,"") -> 79.2 | D7: =B7/B6 -> 1 | G7: Prisrelativer [(Pt/Pt-1)] | I7: =I6/H6 -> 1.0216137 | J7: =J6/I6 -> 1.0233131 | K7: =K6/J6 -> 1.0318145 | L7: =L6/K6 -> 1.0134228 | M7: =M6/L6 -> 1.0194836 | N7: =N6/M6 -> 1.0163811 | O7: =O6/N6 -> 1.0439978 | P7: =P6/O6 -> 1.0762133
A8: 2015M03 | B8: =IF('Rådata - Kapital avskrivning'!D4<>"",'Rådata - Kapital avskrivning'!D4,"") -> 79.2 | D8: =B8/B7 -> 1
A9: 2015M04 | B9: =IF('Rådata - Kapital avskrivning'!D5<>"",'Rådata - Kapital avskrivning'!D5,"") -> 79.2 | D9: =B9/B8 -> 1 | G9: Gjennomsnittlig endring i observert periode
A10: 2015M05 | B10: =IF('Rådata - Kapital avskrivning'!D6<>"",'Rådata - Kapital avskrivning'!D6,"") -> 79.5 | D10: =B10/B9 -> 1.0037879 | G10: 2015 = 100
A11: 2015M06 | B11: =IF('Rådata - Kapital avskrivning'!D7<>"",'Rådata - Kapital avskrivning'!D7,"") -> 79.5 | D11: =B11/B10 -> 1 | G11: Periode | J11: Verdi
A12: 2015M07 | B12: =IF('Rådata - Kapital avskrivning'!D8<>"",'Rådata - Kapital avskrivning'!D8,"") -> 79.5 | D12: =B12/B11 -> 1 | G12: Januar 15 - juli 2025 (månedsvis) | J12: =EXP(LN(1+(B132/B6-1))/((COUNT(B6:B132))-1))-1 -> 0.0018445037
A13: 2015M08 | B13: =IF('Rådata - Kapital avskrivning'!D9<>"",'Rådata - Kapital avskrivning'!D9,"") -> 79.5 | D13: =B13/B12 -> 1
A14: 2015M09 | B14: =IF('Rådata - Kapital avskrivning'!D10<>"",'Rådata - Kapital avskrivning'!D10,"") -> 79.5 | D14: =B14/B13 -> 1
A15: 2015M10 | B15: =IF('Rådata - Kapital avskrivning'!D11<>"",'Rådata - Kapital avskrivning'!D11,"") -> 79.6 | D15: =B15/B14 -> 1.0012579
A16: 2015M11 | B16: =IF('Rådata - Kapital avskrivning'!D12<>"",'Rådata - Kapital avskrivning'!D12,"") -> 79.6 | D16: =B16/B15 -> 1
A17: 2015M12 | B17: =IF('Rådata - Kapital avskrivning'!D13<>"",'Rådata - Kapital avskrivning'!D13,"") -> 79.6 | C17: =AVERAGE(B6:B17) -> 79.425 | D17: =B17/B16 -> 1
A18: 2016M01 | B18: =IF('Rådata - Kapital avskrivning'!D14<>"",'Rådata - Kapital avskrivning'!D14,"") -> 81 | D18: =B18/B17 -> 1.0175879
A19: 2016M02 | B19: =IF('Rådata - Kapital avskrivning'!D15<>"",'Rådata - Kapital avskrivning'!D15,"") -> 81 | D19: =B19/B18 -> 1
A20: 2016M03 | B20: =IF('Rådata - Kapital avskrivning'!D16<>"",'Rådata - Kapital avskrivning'!D16,"") -> 81.1 | D20: =B20/B19 -> 1.0012346
A21: 2016M04 | B21: =IF('Rådata - Kapital avskrivning'!D17<>"",'Rådata - Kapital avskrivning'!D17,"") -> 81.1 | D21: =B21/B20 -> 1
A22: 2016M05 | B22: =IF('Rådata - Kapital avskrivning'!D18<>"",'Rådata - Kapital avskrivning'!D18,"") -> 81.1 | D22: =B22/B21 -> 1
A23: 2016M06 | B23: =IF('Rådata - Kapital avskrivning'!D19<>"",'Rådata - Kapital avskrivning'!D19,"") -> 81.1 | D23: =B23/B22 -> 1
A24: 2016M07 | B24: =IF('Rådata - Kapital avskrivning'!D20<>"",'Rådata - Kapital avskrivning'!D20,"") -> 81.1 | D24: =B24/B23 -> 1
A25: 2016M08 | B25: =IF('Rådata - Kapital avskrivning'!D21<>"",'Rådata - Kapital avskrivning'!D21,"") -> 81.1 | D25: =B25/B24 -> 1
A26: 2016M09 | B26: =IF('Rådata - Kapital avskrivning'!D22<>"",'Rådata - Kapital avskrivning'!D22,"") -> 81.1 | D26: =B26/B25 -> 1
A27: 2016M10 | B27: =IF('Rådata - Kapital avskrivning'!D23<>"",'Rådata - Kapital avskrivning'!D23,"") -> 81.3 | D27: =B27/B26 -> 1.0024661
A28: 2016M11 | B28: =IF('Rådata - Kapital avskrivning'!D24<>"",'Rådata - Kapital avskrivning'!D24,"") -> 81.3 | D28: =B28/B27 -> 1
A29: 2016M12 | B29: =IF('Rådata - Kapital avskrivning'!D25<>"",'Rådata - Kapital avskrivning'!D25,"") -> 81.4 | C29: =AVERAGE(B18:B29) -> 81.141667 | D29: =B29/B28 -> 1.00123
A30: 2017M01 | B30: =IF('Rådata - Kapital avskrivning'!D26<>"",'Rådata - Kapital avskrivning'!D26,"") -> 82.2 | D30: =B30/B29 -> 1.009828
A31: 2017M02 | B31: =IF('Rådata - Kapital avskrivning'!D27<>"",'Rådata - Kapital avskrivning'!D27,"") -> 82.3 | D31: =B31/B30 -> 1.0012165
A32: 2017M03 | B32: =IF('Rådata - Kapital avskrivning'!D28<>"",'Rådata - Kapital avskrivning'!D28,"") -> 82.3 | D32: =B32/B31 -> 1
A33: 2017M04 | B33: =IF('Rådata - Kapital avskrivning'!D29<>"",'Rådata - Kapital avskrivning'!D29,"") -> 83 | D33: =B33/B32 -> 1.0085055
A34: 2017M05 | B34: =IF('Rådata - Kapital avskrivning'!D30<>"",'Rådata - Kapital avskrivning'!D30,"") -> 83 | D34: =B34/B33 -> 1
A35: 2017M06 | B35: =IF('Rådata - Kapital avskrivning'!D31<>"",'Rådata - Kapital avskrivning'!D31,"") -> 83 | D35: =B35/B34 -> 1
A36: 2017M07 | B36: =IF('Rådata - Kapital avskrivning'!D32<>"",'Rådata - Kapital avskrivning'!D32,"") -> 83 | D36: =B36/B35 -> 1
A37: 2017M08 | B37: =IF('Rådata - Kapital avskrivning'!D33<>"",'Rådata - Kapital avskrivning'!D33,"") -> 83 | D37: =B37/B36 -> 1
A38: 2017M09 | B38: =IF('Rådata - Kapital avskrivning'!D34<>"",'Rådata - Kapital avskrivning'!D34,"") -> 83.4 | D38: =B38/B37 -> 1.0048193
A39: 2017M10 | B39: =IF('Rådata - Kapital avskrivning'!D35<>"",'Rådata - Kapital avskrivning'!D35,"") -> 82.8 | D39: =B39/B38 -> 0.99280576
A40: 2017M11 | B40: =IF('Rådata - Kapital avskrivning'!D36<>"",'Rådata - Kapital avskrivning'!D36,"") -> 84.2 | D40: =B40/B39 -> 1.0169082
A41: 2017M12 | B41: =IF('Rådata - Kapital avskrivning'!D37<>"",'Rådata - Kapital avskrivning'!D37,"") -> 84.2 | C41: =AVERAGE(B30:B41) -> 83.033333 | D41: =B41/B40 -> 1
A42: 2018M01 | B42: =IF('Rådata - Kapital avskrivning'!D38<>"",'Rådata - Kapital avskrivning'!D38,"") -> 85.3 | D42: =B42/B41 -> 1.0130641
A43: 2018M02 | B43: =IF('Rådata - Kapital avskrivning'!D39<>"",'Rådata - Kapital avskrivning'!D39,"") -> 85.3 | D43: =B43/B42 -> 1
A44: 2018M03 | B44: =IF('Rådata - Kapital avskrivning'!D40<>"",'Rådata - Kapital avskrivning'!D40,"") -> 85.3 | D44: =B44/B43 -> 1
A45: 2018M04 | B45: =IF('Rådata - Kapital avskrivning'!D41<>"",'Rådata - Kapital avskrivning'!D41,"") -> 85.3 | D45: =B45/B44 -> 1
A46: 2018M05 | B46: =IF('Rådata - Kapital avskrivning'!D42<>"",'Rådata - Kapital avskrivning'!D42,"") -> 85.4 | D46: =B46/B45 -> 1.0011723
A47: 2018M06 | B47: =IF('Rådata - Kapital avskrivning'!D43<>"",'Rådata - Kapital avskrivning'!D43,"") -> 85.7 | D47: =B47/B46 -> 1.0035129
A48: 2018M07 | B48: =IF('Rådata - Kapital avskrivning'!D44<>"",'Rådata - Kapital avskrivning'!D44,"") -> 85.7 | D48: =B48/B47 -> 1
A49: 2018M08 | B49: =IF('Rådata - Kapital avskrivning'!D45<>"",'Rådata - Kapital avskrivning'!D45,"") -> 85.8 | D49: =B49/B48 -> 1.0011669
A50: 2018M09 | B50: =IF('Rådata - Kapital avskrivning'!D46<>"",'Rådata - Kapital avskrivning'!D46,"") -> 85.5 | D50: =B50/B49 -> 0.9965035
A51: 2018M10 | B51: =IF('Rådata - Kapital avskrivning'!D47<>"",'Rådata - Kapital avskrivning'!D47,"") -> 86 | D51: =B51/B50 -> 1.005848
A52: 2018M11 | B52: =IF('Rådata - Kapital avskrivning'!D48<>"",'Rådata - Kapital avskrivning'!D48,"") -> 86.4 | D52: =B52/B51 -> 1.0046512
A53: 2018M12 | B53: =IF('Rådata - Kapital avskrivning'!D49<>"",'Rådata - Kapital avskrivning'!D49,"") -> 86.4 | C53: =AVERAGE(B42:B53) -> 85.675 | D53: =B53/B52 -> 1
A54: 2019M01 | B54: =IF('Rådata - Kapital avskrivning'!D50<>"",'Rådata - Kapital avskrivning'!D50,"") -> 87.1 | D54: =B54/B53 -> 1.0081019
A55: 2019M02 | B55: =IF('Rådata - Kapital avskrivning'!D51<>"",'Rådata - Kapital avskrivning'!D51,"") -> 87.1 | D55: =B55/B54 -> 1
A56: 2019M03 | B56: =IF('Rådata - Kapital avskrivning'!D52<>"",'Rådata - Kapital avskrivning'!D52,"") -> 87.2 | D56: =B56/B55 -> 1.0011481
A57: 2019M04 | B57: =IF('Rådata - Kapital avskrivning'!D53<>"",'Rådata - Kapital avskrivning'!D53,"") -> 87.3 | D57: =B57/B56 -> 1.0011468
A58: 2019M05 | B58: =IF('Rådata - Kapital avskrivning'!D54<>"",'Rådata - Kapital avskrivning'!D54,"") -> 87.3 | D58: =B58/B57 -> 1
A59: 2019M06 | B59: =IF('Rådata - Kapital avskrivning'!D55<>"",'Rådata - Kapital avskrivning'!D55,"") -> 87.4 | D59: =B59/B58 -> 1.0011455
A60: 2019M07 | B60: =IF('Rådata - Kapital avskrivning'!D56<>"",'Rådata - Kapital avskrivning'!D56,"") -> 87.4 | D60: =B60/B59 -> 1
A61: 2019M08 | B61: =IF('Rådata - Kapital avskrivning'!D57<>"",'Rådata - Kapital avskrivning'!D57,"") -> 87.3 | D61: =B61/B60 -> 0.99885584
A62: 2019M09 | B62: =IF('Rådata - Kapital avskrivning'!D58<>"",'Rådata - Kapital avskrivning'!D58,"") -> 85.9 | D62: =B62/B61 -> 0.98396334
A63: 2019M10 | B63: =IF('Rådata - Kapital avskrivning'!D59<>"",'Rådata - Kapital avskrivning'!D59,"") -> 85.9 | D63: =B63/B62 -> 1
A64: 2019M11 | B64: =IF('Rådata - Kapital avskrivning'!D60<>"",'Rådata - Kapital avskrivning'!D60,"") -> 86 | D64: =B64/B63 -> 1.0011641
A65: 2019M12 | B65: =IF('Rådata - Kapital avskrivning'!D61<>"",'Rådata - Kapital avskrivning'!D61,"") -> 86 | C65: =AVERAGE(B54:B65) -> 86.825 | D65: =B65/B64 -> 1
A66: 2020M01 | B66: =IF('Rådata - Kapital avskrivning'!D62<>"",'Rådata - Kapital avskrivning'!D62,"") -> 85.5 | D66: =B66/B65 -> 0.99418605
A67: 2020M02 | B67: =IF('Rådata - Kapital avskrivning'!D63<>"",'Rådata - Kapital avskrivning'!D63,"") -> 85.5 | D67: =B67/B66 -> 1
A68: 2020M03 | B68: =IF('Rådata - Kapital avskrivning'!D64<>"",'Rådata - Kapital avskrivning'!D64,"") -> 85.5 | D68: =B68/B67 -> 1
A69: 2020M04 | B69: =IF('Rådata - Kapital avskrivning'!D65<>"",'Rådata - Kapital avskrivning'!D65,"") -> 87 | D69: =B69/B68 -> 1.0175439
A70: 2020M05 | B70: =IF('Rådata - Kapital avskrivning'!D66<>"",'Rådata - Kapital avskrivning'!D66,"") -> 88.9 | D70: =B70/B69 -> 1.0218391
A71: 2020M06 | B71: =IF('Rådata - Kapital avskrivning'!D67<>"",'Rådata - Kapital avskrivning'!D67,"") -> 89.6 | D71: =B71/B70 -> 1.007874
A72: 2020M07 | B72: =IF('Rådata - Kapital avskrivning'!D68<>"",'Rådata - Kapital avskrivning'!D68,"") -> 90.1 | D72: =B72/B71 -> 1.0055804
A73: 2020M08 | B73: =IF('Rådata - Kapital avskrivning'!D69<>"",'Rådata - Kapital avskrivning'!D69,"") -> 90.1 | D73: =B73/B72 -> 1
A74: 2020M09 | B74: =IF('Rådata - Kapital avskrivning'!D70<>"",'Rådata - Kapital avskrivning'!D70,"") -> 90.3 | D74: =B74/B73 -> 1.0022198
A75: 2020M10 | B75: =IF('Rådata - Kapital avskrivning'!D71<>"",'Rådata - Kapital avskrivning'!D71,"") -> 89.9 | D75: =B75/B74 -> 0.99557032
A76: 2020M11 | B76: =IF('Rådata - Kapital avskrivning'!D72<>"",'Rådata - Kapital avskrivning'!D72,"") -> 89.9 | D76: =B76/B75 -> 1
A77: 2020M12 | B77: =IF('Rådata - Kapital avskrivning'!D73<>"",'Rådata - Kapital avskrivning'!D73,"") -> 89.9 | C77: =AVERAGE(B66:B77) -> 88.516667 | D77: =B77/B76 -> 1
A78: 2021M01 | B78: =IF('Rådata - Kapital avskrivning'!D74<>"",'Rådata - Kapital avskrivning'!D74,"") -> 90 | D78: =B78/B77 -> 1.0011123
A79: 2021M02 | B79: =IF('Rådata - Kapital avskrivning'!D75<>"",'Rådata - Kapital avskrivning'!D75,"") -> 90 | D79: =B79/B78 -> 1
A80: 2021M03 | B80: =IF('Rådata - Kapital avskrivning'!D76<>"",'Rådata - Kapital avskrivning'!D76,"") -> 90 | D80: =B80/B79 -> 1
A81: 2021M04 | B81: =IF('Rådata - Kapital avskrivning'!D77<>"",'Rådata - Kapital avskrivning'!D77,"") -> 89.9 | D81: =B81/B80 -> 0.99888889
A82: 2021M05 | B82: =IF('Rådata - Kapital avskrivning'!D78<>"",'Rådata - Kapital avskrivning'!D78,"") -> 89.9 | D82: =B82/B81 -> 1
A83: 2021M06 | B83: =IF('Rådata - Kapital avskrivning'!D79<>"",'Rådata - Kapital avskrivning'!D79,"") -> 89.6 | D83: =B83/B82 -> 0.99666296
A84: 2021M07 | B84: =IF('Rådata - Kapital avskrivning'!D80<>"",'Rådata - Kapital avskrivning'!D80,"") -> 89.7 | D84: =B84/B83 -> 1.0011161
A85: 2021M08 | B85: =IF('Rådata - Kapital avskrivning'!D81<>"",'Rådata - Kapital avskrivning'!D81,"") -> 89.7 | D85: =B85/B84 -> 1
A86: 2021M09 | B86: =IF('Rådata - Kapital avskrivning'!D82<>"",'Rådata - Kapital avskrivning'!D82,"") -> 89.8 | D86: =B86/B85 -> 1.0011148
A87: 2021M10 | B87: =IF('Rådata - Kapital avskrivning'!D83<>"",'Rådata - Kapital avskrivning'!D83,"") -> 90 | D87: =B87/B86 -> 1.0022272
A88: 2021M11 | B88: =IF('Rådata - Kapital avskrivning'!D84<>"",'Rådata - Kapital avskrivning'!D84,"") -> 90.5 | D88: =B88/B87 -> 1.0055556
A89: 2021M12 | B89: =IF('Rådata - Kapital avskrivning'!D85<>"",'Rådata - Kapital avskrivning'!D85,"") -> 90.5 | C89: =AVERAGE(B78:B89) -> 89.966667 | D89: =B89/B88 -> 1
A90: 2022M01 | B90: =IF('Rådata - Kapital avskrivning'!D86<>"",'Rådata - Kapital avskrivning'!D86,"") -> 91.4 | D90: =B90/B89 -> 1.0099448
A91: 2022M02 | B91: =IF('Rådata - Kapital avskrivning'!D87<>"",'Rådata - Kapital avskrivning'!D87,"") -> 91.7 | D91: =B91/B90 -> 1.0032823
A92: 2022M03 | B92: =IF('Rådata - Kapital avskrivning'!D88<>"",'Rådata - Kapital avskrivning'!D88,"") -> 92.3 | D92: =B92/B91 -> 1.0065431
A93: 2022M04 | B93: =IF('Rådata - Kapital avskrivning'!D89<>"",'Rådata - Kapital avskrivning'!D89,"") -> 92.5 | D93: =B93/B92 -> 1.0021668
A94: 2022M05 | B94: =IF('Rådata - Kapital avskrivning'!D90<>"",'Rådata - Kapital avskrivning'!D90,"") -> 93.2 | D94: =B94/B93 -> 1.0075676
A95: 2022M06 | B95: =IF('Rådata - Kapital avskrivning'!D91<>"",'Rådata - Kapital avskrivning'!D91,"") -> 93.9 | D95: =B95/B94 -> 1.0075107
A96: 2022M07 | B96: =IF('Rådata - Kapital avskrivning'!D92<>"",'Rådata - Kapital avskrivning'!D92,"") -> 94.7 | D96: =B96/B95 -> 1.0085197
A97: 2022M08 | B97: =IF('Rådata - Kapital avskrivning'!D93<>"",'Rådata - Kapital avskrivning'!D93,"") -> 95.3 | D97: =B97/B96 -> 1.0063358
A98: 2022M09 | B98: =IF('Rådata - Kapital avskrivning'!D94<>"",'Rådata - Kapital avskrivning'!D94,"") -> 95.4 | D98: =B98/B97 -> 1.0010493
A99: 2022M10 | B99: =IF('Rådata - Kapital avskrivning'!D95<>"",'Rådata - Kapital avskrivning'!D95,"") -> 95.5 | D99: =B99/B98 -> 1.0010482
A100: 2022M11 | B100: =IF('Rådata - Kapital avskrivning'!D96<>"",'Rådata - Kapital avskrivning'!D96,"") -> 95.6 | D100: =B100/B99 -> 1.0010471
A101: 2022M12 | B101: =IF('Rådata - Kapital avskrivning'!D97<>"",'Rådata - Kapital avskrivning'!D97,"") -> 95.6 | C101: =AVERAGE(B90:B101) -> 93.925 | D101: =B101/B100 -> 1
...

Sheet Kapital_rente
A1: 10729: Renter på nye utlån (prosent), etter måned, statistikkvariabel, sektor og utlånstype | C1: 03013: Konsumprisindeks, etter måned, statistikkvariabel og konsumgruppe
B4: https://www.ssb.no/statbank/table/10729
B5: Renter på nye utlån, ikke-finansielle foretak | C5: Konsumprisindeks (2015=100)
B6: Andre nedbetalingslån | C6: TOTAL Totalindeks | D6: KPI, årlig endring | E6: Realrente | F6: Realrente, årlig gjennomsnitt | G6: Standardiserte verdier (1+r) | H6: Prisrelativer [(Pt/Pt-1)]
C7: 96.6 | D7: 2.2
C8: 97.1 | D8: 2.1
C9: 97.3 | D9: 2
C10: 97.7 | D10: 1.9 | K10: År | L10: 2015 | M10: 2016 | N10: 2017 | O10: 2018 | P10: 2019 | Q10: 2020 | R10: 2021 | S10: 2022 | T10: 2023 | U10: 2024 | V10: 2025
C11: 97.8 | D11: 1.9 | K11: Real rente, årlig gjennomsnitt (%) | M11: -0.0062365303 | N11: 0.0097234309 | O11: 0.002412823 | P11: 0.012791411 | Q11: 0.014563792 | R11: -0.011144493 | S11: -0.019749444 | T11: =F126/10 -> 0.030195387
C12: 97.5 | D12: 1.9 | K12: Standardiserte verdier (1+r) | L12: 1 | M12: =1+M11 -> 0.99376347 | N12: =1+N11 -> 1.0097234 | O12: =1+O11 -> 1.0024128 | P12: =1+P11 -> 1.0127914 | Q12: =1+Q11 -> 1.0145638 | R12: =1+R11 -> 0.98885551 | S12: =1+S11 -> 0.98025056 | T12: =1+T11 -> 1.0301954
C13: 98.3 | D13: 2.3 | K13: Prisrelativer [(Pt/Pt-1)] | M13: =M12/L12 -> 0.99376347 | N13: =N12/M12 -> 1.0160601 | O13: =O12/N12 -> 0.99275979 | P13: =P12/O12 -> 1.0103536 | Q13: =Q12/P12 -> 1.00175 | R13: =R12/Q12 -> 0.97466075 | S13: =S12/R12 -> 0.99129807 | T13: =T12/S12 -> 1.0509511
C14: 97.9 | D14: 2
C15: 98.5 | D15: 2.2 | K15: Gjennomsnittlig endring i observert periode | N15: Verdi
C16: 98.6 | D16: 2.1 | K16: Realrente: januar 2015 - juni 2025 | N16: =EXP(LN(1+(E144/E19-1))/((COUNT(E19:E144))-1))-1 -> 0.0082674528
C17: 98.6 | D17: 2 | K17: KPI: januar 2015 - juli 2025 | N17: =EXP(LN(1+(C145/C19-1))/((COUNT(C19:C145))-1))-1 -> 0.0027183172
C18: 98.6 | D18: 2.1 | K18: Renter: januar 2015 - oktober 2023 | N18: =EXP(LN(1+(B144/B19-1))/((COUNT(B19:B144))-1))-1 -> 0.0053052109
A19: 2015M01 | B19: =IF('Rådata - Renter'!E2<>"",'Rådata - Renter'!E2,"") -> 3.36 | C19: =IF('Rådata - KPI total'!C2<>"",'Rådata - KPI total'!C2,"") -> 71.6 | D19: 2.1 | E19: =B19-D19 -> 1.26 | G19: =(1+(E19/100)) -> 1.0126 | H19: =G19/G19 -> 1 | K19: Predikert differanse | N19: =N18-N17 -> 0.0025868938
A20: 2015M02 | B20: =IF('Rådata - Renter'!E3<>"",'Rådata - Renter'!E3,"") -> 3.07 | C20: =IF('Rådata - KPI total'!C3<>"",'Rådata - KPI total'!C3,"") -> 71.8 | D20: 1.9 | E20: =B20-D20 -> 1.17 | G20: =(1+(E20/100)) -> 1.0117 | H20: =G20/G19 -> 0.9991112
A21: 2015M03 | B21: =IF('Rådata - Renter'!E4<>"",'Rådata - Renter'!E4,"") -> 3.22 | C21: =IF('Rådata - KPI total'!C4<>"",'Rådata - KPI total'!C4,"") -> 72 | D21: 2 | E21: =B21-D21 -> 1.22 | G21: =(1+(E21/100)) -> 1.0122 | H21: =G21/G20 -> 1.0004942
A22: 2015M04 | B22: =IF('Rådata - Renter'!E5<>"",'Rådata - Renter'!E5,"") -> 3.37 | C22: =IF('Rådata - KPI total'!C5<>"",'Rådata - KPI total'!C5,"") -> 72.3 | D22: 1.9 | E22: =B22-D22 -> 1.47 | G22: =(1+(E22/100)) -> 1.0147 | H22: =G22/G21 -> 1.0024699
A23: 2015M05 | B23: =IF('Rådata - Renter'!E6<>"",'Rådata - Renter'!E6,"") -> 3.07 | C23: =IF('Rådata - KPI total'!C6<>"",'Rådata - KPI total'!C6,"") -> 72.5 | D23: 2 | E23: =B23-D23 -> 1.07 | G23: =(1+(E23/100)) -> 1.0107 | H23: =G23/G22 -> 0.99605795
A24: 2015M06 | B24: =IF('Rådata - Renter'!E7<>"",'Rådata - Renter'!E7,"") -> 3.17 | C24: =IF('Rådata - KPI total'!C7<>"",'Rådata - KPI total'!C7,"") -> 72.7 | D24: 2.7 | E24: =B24-D24 -> 0.47 | G24: =(1+(E24/100)) -> 1.0047 | H24: =G24/G23 -> 0.99406352
A25: 2015M07 | B25: =IF('Rådata - Renter'!E8<>"",'Rådata - Renter'!E8,"") -> 3.07 | C25: =IF('Rådata - KPI total'!C8<>"",'Rådata - KPI total'!C8,"") -> 72.7 | D25: 1.8 | E25: =B25-D25 -> 1.27 | G25: =(1+(E25/100)) -> 1.0127 | H25: =G25/G24 -> 1.0079626
A26: 2015M08 | B26: =IF('Rådata - Renter'!E9<>"",'Rådata - Renter'!E9,"") -> 2.71 | C26: =IF('Rådata - KPI total'!C9<>"",'Rådata - KPI total'!C9,"") -> 72.5 | D26: 2 | E26: =B26-D26 -> 0.71 | G26: =(1+(E26/100)) -> 1.0071 | H26: =G26/G25 -> 0.99447023
A27: 2015M09 | B27: =IF('Rådata - Renter'!E10<>"",'Rådata - Renter'!E10,"") -> 2.78 | C27: =IF('Rådata - KPI total'!C10<>"",'Rådata - KPI total'!C10,"") -> 73 | D27: 2.1 | E27: =B27-D27 -> 0.68 | G27: =(1+(E27/100)) -> 1.0068 | H27: =G27/G26 -> 0.99970211
A28: 2015M10 | B28: =IF('Rådata - Renter'!E11<>"",'Rådata - Renter'!E11,"") -> 2.72 | C28: =IF('Rådata - KPI total'!C11<>"",'Rådata - KPI total'!C11,"") -> 73.3 | D28: 2.4 | E28: =B28-D28 -> 0.32 | G28: =(1+(E28/100)) -> 1.0032 | H28: =G28/G27 -> 0.99642431
A29: 2015M11 | B29: =IF('Rådata - Renter'!E12<>"",'Rådata - Renter'!E12,"") -> 2.7 | C29: =IF('Rådata - KPI total'!C12<>"",'Rådata - KPI total'!C12,"") -> 73.6 | D29: 2.7 | E29: =B29-D29 -> 0 | G29: =(1+(E29/100)) -> 1 | H29: =G29/G28 -> 0.99681021
A30: 2015M12 | B30: =IF('Rådata - Renter'!E13<>"",'Rådata - Renter'!E13,"") -> 2.83 | C30: =IF('Rådata - KPI total'!C13<>"",'Rådata - KPI total'!C13,"") -> 73.3 | D30: 2.3 | E30: =B30-D30 -> 0.53 | F30: =AVERAGE(E19:E30) -> 0.8475 | G30: =(1+(E30/100)) -> 1.0053 | H30: =G30/G29 -> 1.0053
A31: 2016M01 | B31: =IF('Rådata - Renter'!E14<>"",'Rådata - Renter'!E14,"") -> 2.81 | C31: =IF('Rådata - KPI total'!C14<>"",'Rådata - KPI total'!C14,"") -> 73.7 | D31: =((C31-C19)/C19)*100 -> 2.9329609 | E31: =B31-D31 -> -0.12296089 | G31: =(1+(E31/100)) -> 0.99877039 | H31: =G31/G30 -> 0.99350482
A32: 2016M02 | B32: =IF('Rådata - Renter'!E15<>"",'Rådata - Renter'!E15,"") -> 2.8 | C32: =IF('Rådata - KPI total'!C15<>"",'Rådata - KPI total'!C15,"") -> 74.1 | D32: =((C32-C20)/C20)*100 -> 3.2033426 | E32: =B32-D32 -> -0.40334262 | G32: =(1+(E32/100)) -> 0.99596657 | H32: =G32/G31 -> 0.99719273
A33: 2016M03 | B33: =IF('Rådata - Renter'!E16<>"",'Rådata - Renter'!E16,"") -> 3.01 | C33: =IF('Rådata - KPI total'!C16<>"",'Rådata - KPI total'!C16,"") -> 74.4 | D33: =((C33-C21)/C21)*100 -> 3.3333333 | E33: =B33-D33 -> -0.32333333 | G33: =(1+(E33/100)) -> 0.99676667 | H33: =G33/G32 -> 1.0008033
A34: 2016M04 | B34: =IF('Rådata - Renter'!E17<>"",'Rådata - Renter'!E17,"") -> 2.97 | C34: =IF('Rådata - KPI total'!C17<>"",'Rådata - KPI total'!C17,"") -> 74.7 | D34: =((C34-C22)/C22)*100 -> 3.3195021 | E34: =B34-D34 -> -0.34950207 | G34: =(1+(E34/100)) -> 0.99650498 | H34: =G34/G33 -> 0.99973746
A35: 2016M05 | B35: =IF('Rådata - Renter'!E18<>"",'Rådata - Renter'!E18,"") -> 2.84 | C35: =IF('Rådata - KPI total'!C18<>"",'Rådata - KPI total'!C18,"") -> 74.9 | D35: =((C35-C23)/C23)*100 -> 3.3103448 | E35: =B35-D35 -> -0.47034483 | G35: =(1+(E35/100)) -> 0.99529655 | H35: =G35/G34 -> 0.99878733
A36: 2016M06 | B36: =IF('Rådata - Renter'!E19<>"",'Rådata - Renter'!E19,"") -> 2.95 | C36: =IF('Rådata - KPI total'!C19<>"",'Rådata - KPI total'!C19,"") -> 75.4 | D36: =((C36-C24)/C24)*100 -> 3.7138927 | E36: =B36-D36 -> -0.76389271 | G36: =(1+(E36/100)) -> 0.99236107 | H36: =G36/G35 -> 0.99705065
A37: 2016M07 | B37: =IF('Rådata - Renter'!E20<>"",'Rådata - Renter'!E20,"") -> 2.84 | C37: =IF('Rådata - KPI total'!C20<>"",'Rådata - KPI total'!C20,"") -> 75.9 | D37: =((C37-C25)/C25)*100 -> 4.4016506 | E37: =B37-D37 -> -1.5616506 | G37: =(1+(E37/100)) -> 0.98438349 | H37: =G37/G36 -> 0.99196101
A38: 2016M08 | B38: =IF('Rådata - Renter'!E21<>"",'Rådata - Renter'!E21,"") -> 2.8 | C38: =IF('Rådata - KPI total'!C21<>"",'Rådata - KPI total'!C21,"") -> 75.4 | D38: =((C38-C26)/C26)*100 -> 4 | E38: =B38-D38 -> -1.2 | G38: =(1+(E38/100)) -> 0.988 | H38: =G38/G37 -> 1.0036739
A39: 2016M09 | B39: =IF('Rådata - Renter'!E22<>"",'Rådata - Renter'!E22,"") -> 3.03 | C39: =IF('Rådata - KPI total'!C22<>"",'Rådata - KPI total'!C22,"") -> 75.7 | D39: =((C39-C27)/C27)*100 -> 3.6986301 | E39: =B39-D39 -> -0.66863014 | G39: =(1+(E39/100)) -> 0.9933137 | H39: =G39/G38 -> 1.0053782
A40: 2016M10 | B40: =IF('Rådata - Renter'!E23<>"",'Rådata - Renter'!E23,"") -> 3.05 | C40: =IF('Rådata - KPI total'!C23<>"",'Rådata - KPI total'!C23,"") -> 76 | D40: =((C40-C28)/C28)*100 -> 3.6834925 | E40: =B40-D40 -> -0.6334925 | G40: =(1+(E40/100)) -> 0.99366508 | H40: =G40/G39 -> 1.0003537
A41: 2016M11 | B41: =IF('Rådata - Renter'!E24<>"",'Rådata - Renter'!E24,"") -> 2.91 | C41: =IF('Rådata - KPI total'!C24<>"",'Rådata - KPI total'!C24,"") -> 76.2 | D41: =((C41-C29)/C29)*100 -> 3.5326087 | E41: =B41-D41 -> -0.6226087 | G41: =(1+(E41/100)) -> 0.99377391 | H41: =G41/G40 -> 1.0001095
A42: 2016M12 | B42: =IF('Rådata - Renter'!E25<>"",'Rådata - Renter'!E25,"") -> 3.09 | C42: =IF('Rådata - KPI total'!C25<>"",'Rådata - KPI total'!C25,"") -> 75.8 | D42: =((C42-C30)/C30)*100 -> 3.4106412 | E42: =B42-D42 -> -0.3206412 | F42: =AVERAGE(E31:E42) -> -0.6200333 | G42: =(1+(E42/100)) -> 0.99679359 | H42: =G42/G41 -> 1.0030386
A43: 2017M01 | B43: =IF('Rådata - Renter'!E26<>"",'Rådata - Renter'!E26,"") -> 3.02 | C43: =IF('Rådata - KPI total'!C26<>"",'Rådata - KPI total'!C26,"") -> 75.7 | D43: =((C43-C31)/C31)*100 -> 2.7137042 | E43: =B43-D43 -> 0.30629579 | G43: =(1+(E43/100)) -> 1.003063 | H43: =G43/G42 -> 1.0062895
A44: 2017M02 | B44: =IF('Rådata - Renter'!E27<>"",'Rådata - Renter'!E27,"") -> 2.83 | C44: =IF('Rådata - KPI total'!C27<>"",'Rådata - KPI total'!C27,"") -> 76 | D44: =((C44-C32)/C32)*100 -> 2.5641026 | E44: =B44-D44 -> 0.26589744 | G44: =(1+(E44/100)) -> 1.002659 | H44: =G44/G43 -> 0.99959725
A45: 2017M03 | B45: =IF('Rådata - Renter'!E28<>"",'Rådata - Renter'!E28,"") -> 3.03 | C45: =IF('Rådata - KPI total'!C28<>"",'Rådata - KPI total'!C28,"") -> 76.3 | D45: =((C45-C33)/C33)*100 -> 2.5537634 | E45: =B45-D45 -> 0.47623656 | G45: =(1+(E45/100)) -> 1.0047624 | H45: =G45/G44 -> 1.0020978
A46: 2017M04 | B46: =IF('Rådata - Renter'!E29<>"",'Rådata - Renter'!E29,"") -> 3.05 | C46: =IF('Rådata - KPI total'!C29<>"",'Rådata - KPI total'!C29,"") -> 76.4 | D46: =((C46-C34)/C34)*100 -> 2.2757697 | E46: =B46-D46 -> 0.77423025 | G46: =(1+(E46/100)) -> 1.0077423 | H46: =G46/G45 -> 1.0029658
A47: 2017M05 | B47: =IF('Rådata - Renter'!E30<>"",'Rådata - Renter'!E30,"") -> 2.74 | C47: =IF('Rådata - KPI total'!C30<>"",'Rådata - KPI total'!C30,"") -> 76.6 | D47: =((C47-C35)/C35)*100 -> 2.2696929 | E47: =B47-D47 -> 0.47030708 | G47: =(1+(E47/100)) -> 1.0047031 | H47: =G47/G46 -> 0.99698412
A48: 2017M06 | B48: =IF('Rådata - Renter'!E31<>"",'Rådata - Renter'!E31,"") -> 2.84 | C48: =IF('Rådata - KPI total'!C31<>"",'Rådata - KPI total'!C31,"") -> 76.9 | D48: =((C48-C36)/C36)*100 -> 1.9893899 | E48: =B48-D48 -> 0.85061008 | G48: =(1+(E48/100)) -> 1.0085061 | H48: =G48/G47 -> 1.0037852
A49: 2017M07 | B49: =IF('Rådata - Renter'!E32<>"",'Rådata - Renter'!E32,"") -> 2.78 | C49: =IF('Rådata - KPI total'!C32<>"",'Rådata - KPI total'!C32,"") -> 77.1 | D49: =((C49-C37)/C37)*100 -> 1.5810277 | E49: =B49-D49 -> 1.1989723 | G49: =(1+(E49/100)) -> 1.0119897 | H49: =G49/G48 -> 1.0034542
A50: 2017M08 | B50: =IF('Rådata - Renter'!E33<>"",'Rådata - Renter'!E33,"") -> 2.83 | C50: =IF('Rådata - KPI total'!C33<>"",'Rådata - KPI total'!C33,"") -> 76.5 | D50: =((C50-C38)/C38)*100 -> 1.4588859 | E50: =B50-D50 -> 1.3711141 | G50: =(1+(E50/100)) -> 1.0137111 | H50: =G50/G49 -> 1.001701
A51: 2017M09 | B51: =IF('Rådata - Renter'!E34<>"",'Rådata - Renter'!E34,"") -> 2.81 | C51: =IF('Rådata - KPI total'!C34<>"",'Rådata - KPI total'!C34,"") -> 76.9 | D51: =((C51-C39)/C39)*100 -> 1.5852048 | E51: =B51-D51 -> 1.2247952 | G51: =(1+(E51/100)) -> 1.012248 | H51: =G51/G50 -> 0.9985566
A52: 2017M10 | B52: =IF('Rådata - Renter'!E35<>"",'Rådata - Renter'!E35,"") -> 2.77 | C52: =IF('Rådata - KPI total'!C35<>"",'Rådata - KPI total'!C35,"") -> 76.9 | D52: =((C52-C40)/C40)*100 -> 1.1842105 | E52: =B52-D52 -> 1.5857895 | G52: =(1+(E52/100)) -> 1.0158579 | H52: =G52/G51 -> 1.0035663
A53: 2017M11 | B53: =IF('Rådata - Renter'!E36<>"",'Rådata - Renter'!E36,"") -> 2.68 | C53: =IF('Rådata - KPI total'!C36<>"",'Rådata - KPI total'!C36,"") -> 77 | D53: =((C53-C41)/C41)*100 -> 1.0498688 | E53: =B53-D53 -> 1.6301312 | G53: =(1+(E53/100)) -> 1.0163013 | H53: =G53/G52 -> 1.0004365
A54: 2017M12 | B54: =IF('Rådata - Renter'!E37<>"",'Rådata - Renter'!E37,"") -> 2.85 | C54: =IF('Rådata - KPI total'!C37<>"",'Rådata - KPI total'!C37,"") -> 77.1 | D54: =((C54-C42)/C42)*100 -> 1.7150396 | E54: =B54-D54 -> 1.1349604 | F54: =AVERAGE(E43:E54) -> 0.94077833 | G54: =(1+(E54/100)) -> 1.0113496 | H54: =G54/G53 -> 0.99512772
A55: 2018M01 | B55: =IF('Rådata - Renter'!E38<>"",'Rådata - Renter'!E38,"") -> 2.81 | C55: =IF('Rådata - KPI total'!C38<>"",'Rådata - KPI total'!C38,"") -> 77 | D55: =((C55-C43)/C43)*100 -> 1.7173052 | E55: =B55-D55 -> 1.0926948 | G55: =(1+(E55/100)) -> 1.0109269 | H55: =G55/G54 -> 0.99958209
A56: 2018M02 | B56: =IF('Rådata - Renter'!E39<>"",'Rådata - Renter'!E39,"") -> 3.02 | C56: =IF('Rådata - KPI total'!C39<>"",'Rådata - KPI total'!C39,"") -> 77.7 | D56: =((C56-C44)/C44)*100 -> 2.2368421 | E56: =B56-D56 -> 0.78315789 | G56: =(1+(E56/100)) -> 1.0078316 | H56: =G56/G55 -> 0.99693809
A57: 2018M03 | B57: =IF('Rådata - Renter'!E40<>"",'Rådata - Renter'!E40,"") -> 3.02 | C57: =IF('Rådata - KPI total'!C40<>"",'Rådata - KPI total'!C40,"") -> 77.9 | D57: =((C57-C45)/C45)*100 -> 2.0969856 | E57: =B57-D57 -> 0.92301442 | G57: =(1+(E57/100)) -> 1.0092301 | H57: =G57/G56 -> 1.0013877
A58: 2018M04 | B58: =IF('Rådata - Renter'!E41<>"",'Rådata - Renter'!E41,"") -> 3.16 | C58: =IF('Rådata - KPI total'!C41<>"",'Rådata - KPI total'!C41,"") -> 78.2 | D58: =((C58-C46)/C46)*100 -> 2.3560209 | E58: =B58-D58 -> 0.80397906 | G58: =(1+(E58/100)) -> 1.0080398 | H58: =G58/G57 -> 0.99882053
A59: 2018M05 | B59: =IF('Rådata - Renter'!E42<>"",'Rådata - Renter'!E42,"") -> 2.95 | C59: =IF('Rådata - KPI total'!C42<>"",'Rådata - KPI total'!C42,"") -> 78.2 | D59: =((C59-C47)/C47)*100 -> 2.0887728 | E59: =B59-D59 -> 0.86122715 | G59: =(1+(E59/100)) -> 1.0086123 | H59: =G59/G58 -> 1.0005679
A60: 2018M06 | B60: =IF('Rådata - Renter'!E43<>"",'Rådata - Renter'!E43,"") -> 3 | C60: =IF('Rådata - KPI total'!C43<>"",'Rådata - KPI total'!C43,"") -> 78.8 | D60: =((C60-C48)/C48)*100 -> 2.4707412 | E60: =B60-D60 -> 0.52925878 | G60: =(1+(E60/100)) -> 1.0052926 | H60: =G60/G59 -> 0.99670866
A61: 2018M07 | B61: =IF('Rådata - Renter'!E44<>"",'Rådata - Renter'!E44,"") -> 3.08 | C61: =IF('Rådata - KPI total'!C44<>"",'Rådata - KPI total'!C44,"") -> 79.4 | D61: =((C61-C49)/C49)*100 -> 2.9831388 | E61: =B61-D61 -> 0.096861219 | G61: =(1+(E61/100)) -> 1.0009686 | H61: =G61/G60 -> 0.99569879
A62: 2018M08 | B62: =IF('Rådata - Renter'!E45<>"",'Rådata - Renter'!E45,"") -> 2.7 | C62: =IF('Rådata - KPI total'!C45<>"",'Rådata - KPI total'!C45,"") -> 79.1 | D62: =((C62-C50)/C50)*100 -> 3.3986928 | E62: =B62-D62 -> -0.69869281 | G62: =(1+(E62/100)) -> 0.99301307 | H62: =G62/G61 -> 0.99205216
A63: 2018M09 | B63: =IF('Rådata - Renter'!E46<>"",'Rådata - Renter'!E46,"") -> 2.95 | C63: =IF('Rådata - KPI total'!C46<>"",'Rådata - KPI total'!C46,"") -> 79.5 | D63: =((C63-C51)/C51)*100 -> 3.3810143 | E63: =B63-D63 -> -0.4310143 | G63: =(1+(E63/100)) -> 0.99568986 | H63: =G63/G62 -> 1.0026956
A64: 2018M10 | B64: =IF('Rådata - Renter'!E47<>"",'Rådata - Renter'!E47,"") -> 3.06 | C64: =IF('Rådata - KPI total'!C47<>"",'Rådata - KPI total'!C47,"") -> 79.4 | D64: =((C64-C52)/C52)*100 -> 3.2509753 | E64: =B64-D64 -> -0.19097529 | G64: =(1+(E64/100)) -> 0.99809025 | H64: =G64/G63 -> 1.0024108
A65: 2018M11 | B65: =IF('Rådata - Renter'!E48<>"",'Rådata - Renter'!E48,"") -> 2.95 | C65: =IF('Rådata - KPI total'!C48<>"",'Rådata - KPI total'!C48,"") -> 79.7 | D65: =((C65-C53)/C53)*100 -> 3.5064935 | E65: =B65-D65 -> -0.55649351 | G65: =(1+(E65/100)) -> 0.99443506 | H65: =G65/G64 -> 0.99633782
A66: 2018M12 | B66: =IF('Rådata - Renter'!E49<>"",'Rådata - Renter'!E49,"") -> 3.34 | C66: =IF('Rådata - KPI total'!C49<>"",'Rådata - KPI total'!C49,"") -> 79.7 | D66: =((C66-C54)/C54)*100 -> 3.3722438 | E66: =B66-D66 -> -0.032243839 | F66: =AVERAGE(E55:E66) -> 0.26506447 | G66: =(1+(E66/100)) -> 0.99967756 | H66: =G66/G65 -> 1.0052718
A67: 2019M01 | B67: =IF('Rådata - Renter'!E50<>"",'Rådata - Renter'!E50,"") -> 3.15 | C67: =IF('Rådata - KPI total'!C50<>"",'Rådata - KPI total'!C50,"") -> 79.4 | D67: =((C67-C55)/C55)*100 -> 3.1168831 | E67: =B67-D67 -> 0.033116883 | G67: =(1+(E67/100)) -> 1.0003312 | H67: =G67/G66 -> 1.0006538
A68: 2019M02 | B68: =IF('Rådata - Renter'!E51<>"",'Rådata - Renter'!E51,"") -> 3.14 | C68: =IF('Rådata - KPI total'!C51<>"",'Rådata - KPI total'!C51,"") -> 80 | D68: =((C68-C56)/C56)*100 -> 2.960103 | E68: =B68-D68 -> 0.17989704 | G68: =(1+(E68/100)) -> 1.001799 | H68: =G68/G67 -> 1.0014673
A69: 2019M03 | B69: =IF('Rådata - Renter'!E52<>"",'Rådata - Renter'!E52,"") -> 3.26 | C69: =IF('Rådata - KPI total'!C52<>"",'Rådata - KPI total'!C52,"") -> 80.1 | D69: =((C69-C57)/C57)*100 -> 2.8241335 | E69: =B69-D69 -> 0.4358665 | G69: =(1+(E69/100)) -> 1.0043587 | H69: =G69/G68 -> 1.0025551
A70: 2019M04 | B70: =IF('Rådata - Renter'!E53<>"",'Rådata - Renter'!E53,"") -> 3.34 | C70: =IF('Rådata - KPI total'!C53<>"",'Rådata - KPI total'!C53,"") -> 80.5 | D70: =((C70-C58)/C58)*100 -> 2.9411765 | E70: =B70-D70 -> 0.39882353 | G70: =(1+(E70/100)) -> 1.0039882 | H70: =G70/G69 -> 0.99963118
A71: 2019M05 | B71: =IF('Rådata - Renter'!E54<>"",'Rådata - Renter'!E54,"") -> 3.3 | C71: =IF('Rådata - KPI total'!C54<>"",'Rådata - KPI total'!C54,"") -> 80.3 | D71: =((C71-C59)/C59)*100 -> 2.685422 | E71: =B71-D71 -> 0.61457801 | G71: =(1+(E71/100)) -> 1.0061458 | H71: =G71/G70 -> 1.002149
A72: 2019M06 | B72: =IF('Rådata - Renter'!E55<>"",'Rådata - Renter'!E55,"") -> 3.3 | C72: =IF('Rådata - KPI total'!C55<>"",'Rådata - KPI total'!C55,"") -> 80.3 | D72: =((C72-C60)/C60)*100 -> 1.9035533 | E72: =B72-D72 -> 1.3964467 | G72: =(1+(E72/100)) -> 1.0139645 | H72: =G72/G71 -> 1.0077709
A73: 2019M07 | B73: =IF('Rådata - Renter'!E56<>"",'Rådata - Renter'!E56,"") -> 3.6 | C73: =IF('Rådata - KPI total'!C56<>"",'Rådata - KPI total'!C56,"") -> 80.9 | D73: =((C73-C61)/C61)*100 -> 1.8891688 | E73: =B73-D73 -> 1.7108312 | G73: =(1+(E73/100)) -> 1.0171083 | H73: =G73/G72 -> 1.0031005
A74: 2019M08 | B74: =IF('Rådata - Renter'!E57<>"",'Rådata - Renter'!E57,"") -> 3.53 | C74: =IF('Rådata - KPI total'!C57<>"",'Rådata - KPI total'!C57,"") -> 80.3 | D74: =((C74-C62)/C62)*100 -> 1.517067 | E74: =B74-D74 -> 2.012933 | G74: =(1+(E74/100)) -> 1.0201293 | H74: =G74/G73 -> 1.0029702
A75: 2019M09 | B75: =IF('Rådata - Renter'!E58<>"",'Rådata - Renter'!E58,"") -> 3.5 | C75: =IF('Rådata - KPI total'!C58<>"",'Rådata - KPI total'!C58,"") -> 80.7 | D75: =((C75-C63)/C63)*100 -> 1.509434 | E75: =B75-D75 -> 1.990566 | G75: =(1+(E75/100)) -> 1.0199057 | H75: =G75/G74 -> 0.99978074
A76: 2019M10 | B76: =IF('Rådata - Renter'!E59<>"",'Rådata - Renter'!E59,"") -> 3.71 | C76: =IF('Rådata - KPI total'!C59<>"",'Rådata - KPI total'!C59,"") -> 80.8 | D76: =((C76-C64)/C64)*100 -> 1.7632242 | E76: =B76-D76 -> 1.9467758 | G76: =(1+(E76/100)) -> 1.0194678 | H76: =G76/G75 -> 0.99957064
A77: 2019M11 | B77: =IF('Rådata - Renter'!E60<>"",'Rådata - Renter'!E60,"") -> 3.86 | C77: =IF('Rådata - KPI total'!C60<>"",'Rådata - KPI total'!C60,"") -> 81 | D77: =((C77-C65)/C65)*100 -> 1.6311167 | E77: =B77-D77 -> 2.2288833 | G77: =(1+(E77/100)) -> 1.0222888 | H77: =G77/G76 -> 1.0027672
A78: 2019M12 | B78: =IF('Rådata - Renter'!E61<>"",'Rådata - Renter'!E61,"") -> 3.75 | C78: =IF('Rådata - KPI total'!C61<>"",'Rådata - KPI total'!C61,"") -> 80.8 | D78: =((C78-C66)/C66)*100 -> 1.3801757 | E78: =B78-D78 -> 2.3698243 | F78: =AVERAGE(E67:E78) -> 1.2765452 | G78: =(1+(E78/100)) -> 1.0236982 | H78: =G78/G77 -> 1.0013787
A79: 2020M01 | B79: =IF('Rådata - Renter'!E62<>"",'Rådata - Renter'!E62,"") -> 3.86 | C79: =IF('Rådata - KPI total'!C62<>"",'Rådata - KPI total'!C62,"") -> 80.8 | D79: =((C79-C67)/C67)*100 -> 1.7632242 | E79: =B79-D79 -> 2.0967758 | G79: =(1+(E79/100)) -> 1.0209678 | H79: =G79/G78 -> 0.99733272
A80: 2020M02 | B80: =IF('Rådata - Renter'!E63<>"",'Rådata - Renter'!E63,"") -> 3.78 | C80: =IF('Rådata - KPI total'!C63<>"",'Rådata - KPI total'!C63,"") -> 80.8 | D80: =((C80-C68)/C68)*100 -> 1 | E80: =B80-D80 -> 2.78 | G80: =(1+(E80/100)) -> 1.0278 | H80: =G80/G79 -> 1.0066919
A81: 2020M03 | B81: =IF('Rådata - Renter'!E64<>"",'Rådata - Renter'!E64,"") -> 3.26 | C81: =IF('Rådata - KPI total'!C64<>"",'Rådata - KPI total'!C64,"") -> 80.8 | D81: =((C81-C69)/C69)*100 -> 0.87390762 | E81: =B81-D81 -> 2.3860924 | G81: =(1+(E81/100)) -> 1.0238609 | H81: =G81/G80 -> 0.99616747
A82: 2020M04 | B82: =IF('Rådata - Renter'!E65<>"",'Rådata - Renter'!E65,"") -> 2.93 | C82: =IF('Rådata - KPI total'!C65<>"",'Rådata - KPI total'!C65,"") -> 81.1 | D82: =((C82-C70)/C70)*100 -> 0.74534161 | E82: =B82-D82 -> 2.1846584 | G82: =(1+(E82/100)) -> 1.0218466 | H82: =G82/G81 -> 0.9980326
A83: 2020M05 | B83: =IF('Rådata - Renter'!E66<>"",'Rådata - Renter'!E66,"") -> 2.46 | C83: =IF('Rådata - KPI total'!C66<>"",'Rådata - KPI total'!C66,"") -> 81.2 | D83: =((C83-C71)/C71)*100 -> 1.120797 | E83: =B83-D83 -> 1.339203 | G83: =(1+(E83/100)) -> 1.013392 | H83: =G83/G82 -> 0.9917262
A84: 2020M06 | B84: =IF('Rådata - Renter'!E67<>"",'Rådata - Renter'!E67,"") -> 2.33 | C84: =IF('Rådata - KPI total'!C67<>"",'Rådata - KPI total'!C67,"") -> 81.4 | D84: =((C84-C72)/C72)*100 -> 1.369863 | E84: =B84-D84 -> 0.96013699 | G84: =(1+(E84/100)) -> 1.0096014 | H84: =G84/G83 -> 0.99625943
A85: 2020M07 | B85: =IF('Rådata - Renter'!E68<>"",'Rådata - Renter'!E68,"") -> 2.62 | C85: =IF('Rådata - KPI total'!C68<>"",'Rådata - KPI total'!C68,"") -> 82 | D85: =((C85-C73)/C73)*100 -> 1.3597033 | E85: =B85-D85 -> 1.2602967 | G85: =(1+(E85/100)) -> 1.012603 | H85: =G85/G84 -> 1.0029731
A86: 2020M08 | B86: =IF('Rådata - Renter'!E69<>"",'Rådata - Renter'!E69,"") -> 2.23 | C86: =IF('Rådata - KPI total'!C69<>"",'Rådata - KPI total'!C69,"") -> 81.7 | D86: =((C86-C74)/C74)*100 -> 1.743462 | E86: =B86-D86 -> 0.48653798 | G86: =(1+(E86/100)) -> 1.0048654 | H86: =G86/G85 -> 0.99235872
A87: 2020M09 | B87: =IF('Rådata - Renter'!E70<>"",'Rådata - Renter'!E70,"") -> 2.32 | C87: =IF('Rådata - KPI total'!C70<>"",'Rådata - KPI total'!C70,"") -> 82 | D87: =((C87-C75)/C75)*100 -> 1.6109046 | E87: =B87-D87 -> 0.70909542 | G87: =(1+(E87/100)) -> 1.007091 | H87: =G87/G86 -> 1.0022148
A88: 2020M10 | B88: =IF('Rådata - Renter'!E71<>"",'Rådata - Renter'!E71,"") -> 2.43 | C88: =IF('Rådata - KPI total'!C71<>"",'Rådata - KPI total'!C71,"") -> 82.2 | D88: =((C88-C76)/C76)*100 -> 1.7326733 | E88: =B88-D88 -> 0.69732673 | G88: =(1+(E88/100)) -> 1.0069733 | H88: =G88/G87 -> 0.99988314
A89: 2020M11 | B89: =IF('Rådata - Renter'!E72<>"",'Rådata - Renter'!E72,"") -> 2.36 | C89: =IF('Rådata - KPI total'!C72<>"",'Rådata - KPI total'!C72,"") -> 81.6 | D89: =((C89-C77)/C77)*100 -> 0.74074074 | E89: =B89-D89 -> 1.6192593 | G89: =(1+(E89/100)) -> 1.0161926 | H89: =G89/G88 -> 1.0091555
A90: 2020M12 | B90: =IF('Rådata - Renter'!E73<>"",'Rådata - Renter'!E73,"") -> 2.34 | C90: =IF('Rådata - KPI total'!C73<>"",'Rådata - KPI total'!C73,"") -> 82 | D90: =((C90-C78)/C78)*100 -> 1.4851485 | E90: =B90-D90 -> 0.85485149 | F90: =AVERAGE(E79:E90) -> 1.4478528 | G90: =(1+(E90/100)) -> 1.0085485 | H90: =G90/G89 -> 0.99247773
A91: 2021M01 | B91: =IF('Rådata - Renter'!E74<>"",'Rådata - Renter'!E74,"") -> 2.41 | C91: =IF('Rådata - KPI total'!C74<>"",'Rådata - KPI total'!C74,"") -> 82.8 | D91: =((C91-C79)/C79)*100 -> 2.4752475 | E91: =B91-D91 -> -0.065247525 | G91: =(1+(E91/100)) -> 0.99934752 | H91: =G91/G90 -> 0.990877
A92: 2021M02 | B92: =IF('Rådata - Renter'!E75<>"",'Rådata - Renter'!E75,"") -> 2.33 | C92: =IF('Rådata - KPI total'!C75<>"",'Rådata - KPI total'!C75,"") -> 83.4 | D92: =((C92-C80)/C80)*100 -> 3.2178218 | E92: =B92-D92 -> -0.88782178 | G92: =(1+(E92/100)) -> 0.99112178 | H92: =G92/G91 -> 0.99176889
A93: 2021M03 | B93: =IF('Rådata - Renter'!E76<>"",'Rådata - Renter'!E76,"") -> 2.39 | C93: =IF('Rådata - KPI total'!C76<>"",'Rådata - KPI total'!C76,"") -> 83.2 | D93: =((C93-C81)/C81)*100 -> 2.970297 | E93: =B93-D93 -> -0.58029703 | G93: =(1+(E93/100)) -> 0.99419703 | H93: =G93/G92 -> 1.0031028
A94: 2021M04 | B94: =IF('Rådata - Renter'!E77<>"",'Rådata - Renter'!E77,"") -> 2.24 | C94: =IF('Rådata - KPI total'!C77<>"",'Rådata - KPI total'!C77,"") -> 83.5 | D94: =((C94-C82)/C82)*100 -> 2.9593095 | E94: =B94-D94 -> -0.71930949 | G94: =(1+(E94/100)) -> 0.99280691 | H94: =G94/G93 -> 0.99860176
A95: 2021M05 | B95: =IF('Rådata - Renter'!E78<>"",'Rådata - Renter'!E78,"") -> 2.14 | C95: =IF('Rådata - KPI total'!C78<>"",'Rådata - KPI total'!C78,"") -> 83.4 | D95: =((C95-C83)/C83)*100 -> 2.7093596 | E95: =B95-D95 -> -0.56935961 | G95: =(1+(E95/100)) -> 0.9943064 | H95: =G95/G94 -> 1.0015104
A96: 2021M06 | B96: =IF('Rådata - Renter'!E79<>"",'Rådata - Renter'!E79,"") -> 2.29 | C96: =IF('Rådata - KPI total'!C79<>"",'Rådata - KPI total'!C79,"") -> 83.7 | D96: =((C96-C84)/C84)*100 -> 2.8255528 | E96: =B96-D96 -> -0.53555283 | G96: =(1+(E96/100)) -> 0.99464447 | H96: =G96/G95 -> 1.00034
A97: 2021M07 | B97: =IF('Rådata - Renter'!E80<>"",'Rådata - Renter'!E80,"") -> 2.07 | C97: =IF('Rådata - KPI total'!C80<>"",'Rådata - KPI total'!C80,"") -> 84.5 | D97: =((C97-C85)/C85)*100 -> 3.0487805 | E97: =B97-D97 -> -0.97878049 | G97: =(1+(E97/100)) -> 0.9902122 | H97: =G97/G96 -> 0.99554386
A98: 2021M08 | B98: =IF('Rådata - Renter'!E81<>"",'Rådata - Renter'!E81,"") -> 2.28 | C98: =IF('Rådata - KPI total'!C81<>"",'Rådata - KPI total'!C81,"") -> 84.4 | D98: =((C98-C86)/C86)*100 -> 3.3047736 | E98: =B98-D98 -> -1.0247736 | G98: =(1+(E98/100)) -> 0.98975226 | H98: =G98/G97 -> 0.99953552
A99: 2021M09 | B99: =IF('Rådata - Renter'!E82<>"",'Rådata - Renter'!E82,"") -> 2.37 | C99: =IF('Rådata - KPI total'!C82<>"",'Rådata - KPI total'!C82,"") -> 85.4 | D99: =((C99-C87)/C87)*100 -> 4.1463415 | E99: =B99-D99 -> -1.7763415 | G99: =(1+(E99/100)) -> 0.98223659 | H99: =G99/G98 -> 0.9924065
A100: 2021M10 | B100: =IF('Rådata - Renter'!E83<>"",'Rådata - Renter'!E83,"") -> 2.55 | C100: =IF('Rådata - KPI total'!C83<>"",'Rådata - KPI total'!C83,"") -> 85.1 | D100: =((C100-C88)/C88)*100 -> 3.5279805 | E100: =B100-D100 -> -0.97798054 | G100: =(1+(E100/100)) -> 0.99022019 | H100: =G100/G99 -> 1.008128
A101: 2021M11 | B101: =IF('Rådata - Renter'!E84<>"",'Rådata - Renter'!E84,"") -> 2.67 | C101: =IF('Rådata - KPI total'!C84<>"",'Rådata - KPI total'!C84,"") -> 85.8 | D101: =((C101-C89)/C89)*100 -> 5.1470588 | E101: =B101-D101 -> -2.4770588 | G101: =(1+(E101/100)) -> 0.97522941 | H101: =G101/G100 -> 0.98486116
A102: 2021M12 | B102: =IF('Rådata - Renter'!E85<>"",'Rådata - Renter'!E85,"") -> 2.66 | C102: =IF('Rådata - KPI total'!C85<>"",'Rådata - KPI total'!C85,"") -> 86.3 | D102: =((C102-C90)/C90)*100 -> 5.2439024 | E102: =B102-D102 -> -2.5839024 | F102: =AVERAGE(E91:E102) -> -1.0980355 | G102: =(1+(E102/100)) -> 0.97416098 | H102: =G102/G101 -> 0.99890443
...

Sheet Drivstoff_bensin&diesel
A1: 03013: Konsumprisindeks, etter måned, statistikkvariabel og konsumgruppe
A2: 03013: Konsumprisindeks, etter konsumgruppe, måned og statistikkvariabel. Statistikkbanken (ssb.no)
B4: Konsumprisindeks (2015=100) | F4: Prisrelativer
A5: Måned | B5: Diesel | C5: Bensin | D5: Diesel, årlig | E5: Bensin, årlig | F5: Diesel | H5: Bensin | I5: Bensin | K5: År | L5: 2015 | M5: 2016 | N5: 2017 | O5: 2018 | P5: 2019 | Q5: 2020 | R5: 2021 | S5: 2022 | T5: 2023 | U5: 2024
A6: 2015M01 | B6: =IF('Rådata - Diesel'!C2<>"",'Rådata - Diesel'!D2,"") -> 64.5 | C6: =IF('Rådata - Bensin'!B2<>"",'Rådata - Bensin'!D2,"") -> 69.5 | F6: =B6/B6 -> 1 | H6: =C6/C6 -> 1 | K6: Diesel, årlig gjennomsnitt | L6: 100 | M6: 95.366667 | N6: 103.74167 | O6: 114.90833 | P6: 115.2 | Q6: 107.51667 | R6: 120.74167 | S6: 168.38333 | T6: =D113 -> 101.8 | U6: =D125 -> 102.32727
A7: 2015M02 | B7: =IF('Rådata - Diesel'!C3<>"",'Rådata - Diesel'!D3,"") -> 62.8 | C7: =IF('Rådata - Bensin'!B3<>"",'Rådata - Bensin'!D3,"") -> 68.4 | F7: =B7/B6 -> 0.97364341 | H7: =C7/C6 -> 0.98417266 | K7: Bensin, årlig gjennomsnitt | L7: 99.991667 | M7: 97.091667 | N7: 103.275 | O7: 109.70833 | P7: 110.5 | Q7: 103.425 | R7: 116.39167 | S7: 150.63333 | T7: =E113 -> 105.92727 | U7: =E125 -> 106.05455
A8: 2015M03 | B8: =IF('Rådata - Diesel'!C4<>"",'Rådata - Diesel'!D4,"") -> 64.6 | C8: =IF('Rådata - Bensin'!B4<>"",'Rådata - Bensin'!D4,"") -> 70.4 | F8: =B8/B7 -> 1.0286624 | H8: =C8/C7 -> 1.0292398 | K8: Diesel [(Pt/Pt-1)] | L8: 1 | M8: =M6/L6 -> 0.95366667 | N8: =N6/M6 -> 1.0878189 | O8: =O6/N6 -> 1.1076392 | P8: =P6/O6 -> 1.0025383 | Q8: =Q6/P6 -> 0.9333044 | R8: =R6/Q6 -> 1.1230042 | S8: =S6/R6 -> 1.3945752 | T8: =T6/S6 -> 0.6045729 | U8: =U6/T6 -> 1.0051795
A9: 2015M04 | B9: =IF('Rådata - Diesel'!C5<>"",'Rådata - Diesel'!D5,"") -> 65.6 | C9: =IF('Rådata - Bensin'!B5<>"",'Rådata - Bensin'!D5,"") -> 72.1 | F9: =B9/B8 -> 1.0154799 | H9: =C9/C8 -> 1.0241477 | K9: Bensin [(Pt/Pt-1)] | L9: 1 | M9: =M7/L7 -> 0.97099758 | N9: =N7/M7 -> 1.0636855 | O9: =O7/N7 -> 1.0622932 | P9: =P7/O7 -> 1.0072161 | Q9: =Q7/P7 -> 0.93597285 | R9: =R7/Q7 -> 1.1253727 | S9: =S7/R7 -> 1.2941935 | T9: =T7/S7 -> 0.7032127 | U9: =U7/T7 -> 1.0012015
A10: 2015M05 | B10: =IF('Rådata - Diesel'!C6<>"",'Rådata - Diesel'!D6,"") -> 62.3 | C10: =IF('Rådata - Bensin'!B6<>"",'Rådata - Bensin'!D6,"") -> 70.6 | F10: =B10/B9 -> 0.94969512 | H10: =C10/C9 -> 0.97919556
A11: 2015M06 | B11: =IF('Rådata - Diesel'!C7<>"",'Rådata - Diesel'!D7,"") -> 65.4 | C11: =IF('Rådata - Bensin'!B7<>"",'Rådata - Bensin'!D7,"") -> 74.1 | F11: =B11/B10 -> 1.0497592 | H11: =C11/C10 -> 1.0495751 | K11: Gjennomsnittlig endring i observert periode
A12: 2015M07 | B12: =IF('Rådata - Diesel'!C8<>"",'Rådata - Diesel'!D8,"") -> 65.2 | C12: =IF('Rådata - Bensin'!B8<>"",'Rådata - Bensin'!D8,"") -> 75.3 | F12: =B12/B11 -> 0.9969419 | H12: =C12/C11 -> 1.0161943 | K12: 2015 = 100 | N12: Diesel | O12: Bensin
A13: 2015M08 | B13: =IF('Rådata - Diesel'!C9<>"",'Rådata - Diesel'!D9,"") -> 61.6 | C13: =IF('Rådata - Bensin'!B9<>"",'Rådata - Bensin'!D9,"") -> 72.4 | F13: =B13/B12 -> 0.94478528 | H13: =C13/C12 -> 0.96148738 | K13: Periode | N13: Verdi | O13: Verdi
A14: 2015M09 | B14: =IF('Rådata - Diesel'!C10<>"",'Rådata - Diesel'!D10,"") -> 62.4 | C14: =IF('Rådata - Bensin'!B10<>"",'Rådata - Bensin'!D10,"") -> 69.1 | F14: =B14/B13 -> 1.012987 | H14: =C14/C13 -> 0.95441989 | K14: Januar 15 - juni 25 (månedsvis) | N14: =EXP(LN(1+(B132/B6-1))/((COUNT(B6:B132))-1))-1 -> 0.0037294305 | O14: =EXP(LN(1+(C132/C6-1))/((COUNT(C6:C132))-1))-1 -> 0.0031810438
A15: 2015M10 | B15: =IF('Rådata - Diesel'!C11<>"",'Rådata - Diesel'!D11,"") -> 62.3 | C15: =IF('Rådata - Bensin'!B11<>"",'Rådata - Bensin'!D11,"") -> 68.2 | F15: =B15/B14 -> 0.99839744 | H15: =C15/C14 -> 0.9869754
A16: 2015M11 | B16: =IF('Rådata - Diesel'!C12<>"",'Rådata - Diesel'!D12,"") -> 62.1 | C16: =IF('Rådata - Bensin'!B12<>"",'Rådata - Bensin'!D12,"") -> 68.4 | F16: =B16/B15 -> 0.99678973 | H16: =C16/C15 -> 1.0029326
A17: 2015M12 | B17: =IF('Rådata - Diesel'!C13<>"",'Rådata - Diesel'!D13,"") -> 60.8 | C17: =IF('Rådata - Bensin'!B13<>"",'Rådata - Bensin'!D13,"") -> 67.1 | D17: =AVERAGE(B6:B17) -> 63.3 | E17: =AVERAGE(C6:C17) -> 70.466667 | F17: =B17/B16 -> 0.97906602 | H17: =C17/C16 -> 0.98099415
A18: 2016M01 | B18: =IF('Rådata - Diesel'!C14<>"",'Rådata - Diesel'!D14,"") -> 60.1 | C18: =IF('Rådata - Bensin'!B14<>"",'Rådata - Bensin'!D14,"") -> 67.1 | F18: =B18/B17 -> 0.98848684 | H18: =C18/C17 -> 1
A19: 2016M02 | B19: =IF('Rådata - Diesel'!C15<>"",'Rådata - Diesel'!D15,"") -> 56.7 | C19: =IF('Rådata - Bensin'!B15<>"",'Rådata - Bensin'!D15,"") -> 65.3 | F19: =B19/B18 -> 0.94342762 | H19: =C19/C18 -> 0.97317437
A20: 2016M03 | B20: =IF('Rådata - Diesel'!C16<>"",'Rådata - Diesel'!D16,"") -> 61.4 | C20: =IF('Rådata - Bensin'!B16<>"",'Rådata - Bensin'!D16,"") -> 67.8 | F20: =B20/B19 -> 1.0828924 | H20: =C20/C19 -> 1.0382848
A21: 2016M04 | B21: =IF('Rådata - Diesel'!C17<>"",'Rådata - Diesel'!D17,"") -> 59.1 | C21: =IF('Rådata - Bensin'!B17<>"",'Rådata - Bensin'!D17,"") -> 68.3 | F21: =B21/B20 -> 0.96254072 | H21: =C21/C20 -> 1.0073746
A22: 2016M05 | B22: =IF('Rådata - Diesel'!C18<>"",'Rådata - Diesel'!D18,"") -> 58 | C22: =IF('Rådata - Bensin'!B18<>"",'Rådata - Bensin'!D18,"") -> 68.5 | F22: =B22/B21 -> 0.98138748 | H22: =C22/C21 -> 1.0029283
A23: 2016M06 | B23: =IF('Rådata - Diesel'!C19<>"",'Rådata - Diesel'!D19,"") -> 61.9 | C23: =IF('Rådata - Bensin'!B19<>"",'Rådata - Bensin'!D19,"") -> 70.7 | F23: =B23/B22 -> 1.0672414 | H23: =C23/C22 -> 1.0321168
A24: 2016M07 | B24: =IF('Rådata - Diesel'!C20<>"",'Rådata - Diesel'!D20,"") -> 62.4 | C24: =IF('Rådata - Bensin'!B20<>"",'Rådata - Bensin'!D20,"") -> 70 | F24: =B24/B23 -> 1.0080775 | H24: =C24/C23 -> 0.99009901
A25: 2016M08 | B25: =IF('Rådata - Diesel'!C21<>"",'Rådata - Diesel'!D21,"") -> 60.2 | C25: =IF('Rådata - Bensin'!B21<>"",'Rådata - Bensin'!D21,"") -> 68.8 | F25: =B25/B24 -> 0.96474359 | H25: =C25/C24 -> 0.98285714
A26: 2016M09 | B26: =IF('Rådata - Diesel'!C22<>"",'Rådata - Diesel'!D22,"") -> 59.9 | C26: =IF('Rådata - Bensin'!B22<>"",'Rådata - Bensin'!D22,"") -> 68 | F26: =B26/B25 -> 0.99501661 | H26: =C26/C25 -> 0.98837209
A27: 2016M10 | B27: =IF('Rådata - Diesel'!C23<>"",'Rådata - Diesel'!D23,"") -> 59.3 | C27: =IF('Rådata - Bensin'!B23<>"",'Rådata - Bensin'!D23,"") -> 67.3 | F27: =B27/B26 -> 0.98998331 | H27: =C27/C26 -> 0.98970588
A28: 2016M11 | B28: =IF('Rådata - Diesel'!C24<>"",'Rådata - Diesel'!D24,"") -> 62 | C28: =IF('Rådata - Bensin'!B24<>"",'Rådata - Bensin'!D24,"") -> 69.1 | F28: =B28/B27 -> 1.0455312 | H28: =C28/C27 -> 1.0267459
A29: 2016M12 | B29: =IF('Rådata - Diesel'!C25<>"",'Rådata - Diesel'!D25,"") -> 63.4 | C29: =IF('Rådata - Bensin'!B25<>"",'Rådata - Bensin'!D25,"") -> 70.1 | D29: =AVERAGE(B18:B29) -> 60.366667 | E29: =AVERAGE(C18:C29) -> 68.416667 | F29: =B29/B28 -> 1.0225806 | H29: =C29/C28 -> 1.0144718
A30: 2017M01 | B30: =IF('Rådata - Diesel'!C26<>"",'Rådata - Diesel'!D26,"") -> 67.7 | C30: =IF('Rådata - Bensin'!B26<>"",'Rådata - Bensin'!D26,"") -> 74.3 | F30: =B30/B29 -> 1.0678233 | H30: =C30/C29 -> 1.0599144
A31: 2017M02 | B31: =IF('Rådata - Diesel'!C27<>"",'Rådata - Diesel'!D27,"") -> 67.3 | C31: =IF('Rådata - Bensin'!B27<>"",'Rådata - Bensin'!D27,"") -> 73.9 | F31: =B31/B30 -> 0.99409158 | H31: =C31/C30 -> 0.99461642
A32: 2017M03 | B32: =IF('Rådata - Diesel'!C28<>"",'Rådata - Diesel'!D28,"") -> 65.9 | C32: =IF('Rådata - Bensin'!B28<>"",'Rådata - Bensin'!D28,"") -> 72.7 | F32: =B32/B31 -> 0.97919762 | H32: =C32/C31 -> 0.98376184
A33: 2017M04 | B33: =IF('Rådata - Diesel'!C29<>"",'Rådata - Diesel'!D29,"") -> 63.1 | C33: =IF('Rådata - Bensin'!B29<>"",'Rådata - Bensin'!D29,"") -> 70.9 | F33: =B33/B32 -> 0.95751138 | H33: =C33/C32 -> 0.97524072
A34: 2017M05 | B34: =IF('Rådata - Diesel'!C30<>"",'Rådata - Diesel'!D30,"") -> 63.8 | C34: =IF('Rådata - Bensin'!B30<>"",'Rådata - Bensin'!D30,"") -> 71.5 | F34: =B34/B33 -> 1.0110935 | H34: =C34/C33 -> 1.0084626
A35: 2017M06 | B35: =IF('Rådata - Diesel'!C31<>"",'Rådata - Diesel'!D31,"") -> 65.2 | C35: =IF('Rådata - Bensin'!B31<>"",'Rådata - Bensin'!D31,"") -> 73.1 | F35: =B35/B34 -> 1.0219436 | H35: =C35/C34 -> 1.0223776
A36: 2017M07 | B36: =IF('Rådata - Diesel'!C32<>"",'Rådata - Diesel'!D32,"") -> 64.9 | C36: =IF('Rådata - Bensin'!B32<>"",'Rådata - Bensin'!D32,"") -> 72.5 | F36: =B36/B35 -> 0.99539877 | H36: =C36/C35 -> 0.99179207
A37: 2017M08 | B37: =IF('Rådata - Diesel'!C33<>"",'Rådata - Diesel'!D33,"") -> 66.2 | C37: =IF('Rådata - Bensin'!B33<>"",'Rådata - Bensin'!D33,"") -> 73.5 | F37: =B37/B36 -> 1.0200308 | H37: =C37/C36 -> 1.0137931
A38: 2017M09 | B38: =IF('Rådata - Diesel'!C34<>"",'Rådata - Diesel'!D34,"") -> 66.6 | C38: =IF('Rådata - Bensin'!B34<>"",'Rådata - Bensin'!D34,"") -> 74.8 | F38: =B38/B37 -> 1.0060423 | H38: =C38/C37 -> 1.0176871
A39: 2017M10 | B39: =IF('Rådata - Diesel'!C35<>"",'Rådata - Diesel'!D35,"") -> 63.1 | C39: =IF('Rådata - Bensin'!B35<>"",'Rådata - Bensin'!D35,"") -> 70.8 | F39: =B39/B38 -> 0.94744745 | H39: =C39/C38 -> 0.94652406
A40: 2017M11 | B40: =IF('Rådata - Diesel'!C36<>"",'Rådata - Diesel'!D36,"") -> 68.6 | C40: =IF('Rådata - Bensin'!B36<>"",'Rådata - Bensin'!D36,"") -> 74.4 | F40: =B40/B39 -> 1.0871632 | H40: =C40/C39 -> 1.0508475
A41: 2017M12 | B41: =IF('Rådata - Diesel'!C37<>"",'Rådata - Diesel'!D37,"") -> 65.5 | C41: =IF('Rådata - Bensin'!B37<>"",'Rådata - Bensin'!D37,"") -> 70.8 | D41: =AVERAGE(B30:B41) -> 65.658333 | E41: =AVERAGE(C30:C41) -> 72.766667 | F41: =B41/B40 -> 0.9548105 | H41: =C41/C40 -> 0.9516129
A42: 2018M01 | B42: =IF('Rådata - Diesel'!C38<>"",'Rådata - Diesel'!D38,"") -> 70.4 | C42: =IF('Rådata - Bensin'!B38<>"",'Rådata - Bensin'!D38,"") -> 74.7 | F42: =B42/B41 -> 1.0748092 | H42: =C42/C41 -> 1.0550847
A43: 2018M02 | B43: =IF('Rådata - Diesel'!C39<>"",'Rådata - Diesel'!D39,"") -> 70.8 | C43: =IF('Rådata - Bensin'!B39<>"",'Rådata - Bensin'!D39,"") -> 75.7 | F43: =B43/B42 -> 1.0056818 | H43: =C43/C42 -> 1.0133869
A44: 2018M03 | B44: =IF('Rådata - Diesel'!C40<>"",'Rådata - Diesel'!D40,"") -> 69.1 | C44: =IF('Rådata - Bensin'!B40<>"",'Rådata - Bensin'!D40,"") -> 74.2 | F44: =B44/B43 -> 0.9759887 | H44: =C44/C43 -> 0.98018494
A45: 2018M04 | B45: =IF('Rådata - Diesel'!C41<>"",'Rådata - Diesel'!D41,"") -> 70.2 | C45: =IF('Rådata - Bensin'!B41<>"",'Rådata - Bensin'!D41,"") -> 75.6 | F45: =B45/B44 -> 1.015919 | H45: =C45/C44 -> 1.0188679
A46: 2018M05 | B46: =IF('Rådata - Diesel'!C42<>"",'Rådata - Diesel'!D42,"") -> 74.2 | C46: =IF('Rådata - Bensin'!B42<>"",'Rådata - Bensin'!D42,"") -> 79.3 | F46: =B46/B45 -> 1.0569801 | H46: =C46/C45 -> 1.0489418
A47: 2018M06 | B47: =IF('Rådata - Diesel'!C43<>"",'Rådata - Diesel'!D43,"") -> 72.6 | C47: =IF('Rådata - Bensin'!B43<>"",'Rådata - Bensin'!D43,"") -> 77.8 | F47: =B47/B46 -> 0.97843666 | H47: =C47/C46 -> 0.98108449
A48: 2018M07 | B48: =IF('Rådata - Diesel'!C44<>"",'Rådata - Diesel'!D44,"") -> 73.2 | C48: =IF('Rådata - Bensin'!B44<>"",'Rådata - Bensin'!D44,"") -> 78.7 | F48: =B48/B47 -> 1.0082645 | H48: =C48/C47 -> 1.0115681
A49: 2018M08 | B49: =IF('Rådata - Diesel'!C45<>"",'Rådata - Diesel'!D45,"") -> 73.6 | C49: =IF('Rådata - Bensin'!B45<>"",'Rådata - Bensin'!D45,"") -> 79.2 | F49: =B49/B48 -> 1.0054645 | H49: =C49/C48 -> 1.0063532
A50: 2018M09 | B50: =IF('Rådata - Diesel'!C46<>"",'Rådata - Diesel'!D46,"") -> 74.1 | C50: =IF('Rådata - Bensin'!B46<>"",'Rådata - Bensin'!D46,"") -> 79.3 | F50: =B50/B49 -> 1.0067935 | H50: =C50/C49 -> 1.0012626
A51: 2018M10 | B51: =IF('Rådata - Diesel'!C47<>"",'Rådata - Diesel'!D47,"") -> 75.1 | C51: =IF('Rådata - Bensin'!B47<>"",'Rådata - Bensin'!D47,"") -> 79.3 | F51: =B51/B50 -> 1.0134953 | H51: =C51/C50 -> 1
A52: 2018M11 | B52: =IF('Rådata - Diesel'!C48<>"",'Rådata - Diesel'!D48,"") -> 77.1 | C52: =IF('Rådata - Bensin'!B48<>"",'Rådata - Bensin'!D48,"") -> 79.6 | F52: =B52/B51 -> 1.0266312 | H52: =C52/C51 -> 1.0037831
A53: 2018M12 | B53: =IF('Rådata - Diesel'!C49<>"",'Rådata - Diesel'!D49,"") -> 72.4 | C53: =IF('Rådata - Bensin'!B49<>"",'Rådata - Bensin'!D49,"") -> 74.2 | D53: =AVERAGE(B42:B53) -> 72.733333 | E53: =AVERAGE(C42:C53) -> 77.3 | F53: =B53/B52 -> 0.93904021 | H53: =C53/C52 -> 0.9321608
A54: 2019M01 | B54: =IF('Rådata - Diesel'!C50<>"",'Rådata - Diesel'!D50,"") -> 71.1 | C54: =IF('Rådata - Bensin'!B50<>"",'Rådata - Bensin'!D50,"") -> 74.1 | F54: =B54/B53 -> 0.9820442 | H54: =C54/C53 -> 0.99865229
A55: 2019M02 | B55: =IF('Rådata - Diesel'!C51<>"",'Rådata - Diesel'!D51,"") -> 72.7 | C55: =IF('Rådata - Bensin'!B51<>"",'Rådata - Bensin'!D51,"") -> 74.8 | F55: =B55/B54 -> 1.0225035 | H55: =C55/C54 -> 1.0094467
A56: 2019M03 | B56: =IF('Rådata - Diesel'!C52<>"",'Rådata - Diesel'!D52,"") -> 73.6 | C56: =IF('Rådata - Bensin'!B52<>"",'Rådata - Bensin'!D52,"") -> 76 | F56: =B56/B55 -> 1.0123796 | H56: =C56/C55 -> 1.0160428
A57: 2019M04 | B57: =IF('Rådata - Diesel'!C53<>"",'Rådata - Diesel'!D53,"") -> 72.5 | C57: =IF('Rådata - Bensin'!B53<>"",'Rådata - Bensin'!D53,"") -> 78.4 | F57: =B57/B56 -> 0.98505435 | H57: =C57/C56 -> 1.0315789
A58: 2019M05 | B58: =IF('Rådata - Diesel'!C54<>"",'Rådata - Diesel'!D54,"") -> 74.1 | C58: =IF('Rådata - Bensin'!B54<>"",'Rådata - Bensin'!D54,"") -> 79.7 | F58: =B58/B57 -> 1.022069 | H58: =C58/C57 -> 1.0165816
A59: 2019M06 | B59: =IF('Rådata - Diesel'!C55<>"",'Rådata - Diesel'!D55,"") -> 73.5 | C59: =IF('Rådata - Bensin'!B55<>"",'Rådata - Bensin'!D55,"") -> 79.3 | F59: =B59/B58 -> 0.99190283 | H59: =C59/C58 -> 0.99498118
A60: 2019M07 | B60: =IF('Rådata - Diesel'!C56<>"",'Rådata - Diesel'!D56,"") -> 73.7 | C60: =IF('Rådata - Bensin'!B56<>"",'Rådata - Bensin'!D56,"") -> 80.9 | F60: =B60/B59 -> 1.0027211 | H60: =C60/C59 -> 1.0201765
A61: 2019M08 | B61: =IF('Rådata - Diesel'!C57<>"",'Rådata - Diesel'!D57,"") -> 72.2 | C61: =IF('Rådata - Bensin'!B57<>"",'Rådata - Bensin'!D57,"") -> 79 | F61: =B61/B60 -> 0.97964722 | H61: =C61/C60 -> 0.97651422
A62: 2019M09 | B62: =IF('Rådata - Diesel'!C58<>"",'Rådata - Diesel'!D58,"") -> 72.5 | C62: =IF('Rådata - Bensin'!B58<>"",'Rådata - Bensin'!D58,"") -> 77.5 | F62: =B62/B61 -> 1.0041551 | H62: =C62/C61 -> 0.98101266
A63: 2019M10 | B63: =IF('Rådata - Diesel'!C59<>"",'Rådata - Diesel'!D59,"") -> 72.2 | C63: =IF('Rådata - Bensin'!B59<>"",'Rådata - Bensin'!D59,"") -> 77.4 | F63: =B63/B62 -> 0.99586207 | H63: =C63/C62 -> 0.99870968
A64: 2019M11 | B64: =IF('Rådata - Diesel'!C60<>"",'Rådata - Diesel'!D60,"") -> 74.3 | C64: =IF('Rådata - Bensin'!B60<>"",'Rådata - Bensin'!D60,"") -> 79.5 | F64: =B64/B63 -> 1.0290859 | H64: =C64/C63 -> 1.0271318
A65: 2019M12 | B65: =IF('Rådata - Diesel'!C61<>"",'Rådata - Diesel'!D61,"") -> 72.7 | C65: =IF('Rådata - Bensin'!B61<>"",'Rådata - Bensin'!D61,"") -> 77.9 | D65: =AVERAGE(B54:B65) -> 72.925 | E65: =AVERAGE(C54:C65) -> 77.875 | F65: =B65/B64 -> 0.97846568 | H65: =C65/C64 -> 0.97987421
A66: 2020M01 | B66: =IF('Rådata - Diesel'!C62<>"",'Rådata - Diesel'!D62,"") -> 75.5 | C66: =IF('Rådata - Bensin'!B62<>"",'Rådata - Bensin'!D62,"") -> 79 | F66: =B66/B65 -> 1.0385144 | H66: =C66/C65 -> 1.0141207
A67: 2020M02 | B67: =IF('Rådata - Diesel'!C63<>"",'Rådata - Diesel'!D63,"") -> 72.7 | C67: =IF('Rådata - Bensin'!B63<>"",'Rådata - Bensin'!D63,"") -> 77.4 | F67: =B67/B66 -> 0.96291391 | H67: =C67/C66 -> 0.97974684
A68: 2020M03 | B68: =IF('Rådata - Diesel'!C64<>"",'Rådata - Diesel'!D64,"") -> 70.5 | C68: =IF('Rådata - Bensin'!B64<>"",'Rådata - Bensin'!D64,"") -> 75.4 | F68: =B68/B67 -> 0.96973865 | H68: =C68/C67 -> 0.97416021
A69: 2020M04 | B69: =IF('Rådata - Diesel'!C65<>"",'Rådata - Diesel'!D65,"") -> 67 | C69: =IF('Rådata - Bensin'!B65<>"",'Rådata - Bensin'!D65,"") -> 67.9 | F69: =B69/B68 -> 0.95035461 | H69: =C69/C68 -> 0.9005305
A70: 2020M05 | B70: =IF('Rådata - Diesel'!C66<>"",'Rådata - Diesel'!D66,"") -> 66.1 | C70: =IF('Rådata - Bensin'!B66<>"",'Rådata - Bensin'!D66,"") -> 69.8 | F70: =B70/B69 -> 0.98656716 | H70: =C70/C69 -> 1.0279823
A71: 2020M06 | B71: =IF('Rådata - Diesel'!C67<>"",'Rådata - Diesel'!D67,"") -> 67.5 | C71: =IF('Rådata - Bensin'!B67<>"",'Rådata - Bensin'!D67,"") -> 73.3 | F71: =B71/B70 -> 1.02118 | H71: =C71/C70 -> 1.0501433
A72: 2020M07 | B72: =IF('Rådata - Diesel'!C68<>"",'Rådata - Diesel'!D68,"") -> 70.8 | C72: =IF('Rådata - Bensin'!B68<>"",'Rådata - Bensin'!D68,"") -> 76.2 | F72: =B72/B71 -> 1.0488889 | H72: =C72/C71 -> 1.0395634
A73: 2020M08 | B73: =IF('Rådata - Diesel'!C69<>"",'Rådata - Diesel'!D69,"") -> 68.8 | C73: =IF('Rådata - Bensin'!B69<>"",'Rådata - Bensin'!D69,"") -> 73.7 | F73: =B73/B72 -> 0.97175141 | H73: =C73/C72 -> 0.9671916
A74: 2020M09 | B74: =IF('Rådata - Diesel'!C70<>"",'Rådata - Diesel'!D70,"") -> 64.6 | C74: =IF('Rådata - Bensin'!B70<>"",'Rådata - Bensin'!D70,"") -> 71.3 | F74: =B74/B73 -> 0.93895349 | H74: =C74/C73 -> 0.96743555
A75: 2020M10 | B75: =IF('Rådata - Diesel'!C71<>"",'Rådata - Diesel'!D71,"") -> 64.8 | C75: =IF('Rådata - Bensin'!B71<>"",'Rådata - Bensin'!D71,"") -> 71.6 | F75: =B75/B74 -> 1.003096 | H75: =C75/C74 -> 1.0042076
A76: 2020M11 | B76: =IF('Rådata - Diesel'!C72<>"",'Rådata - Diesel'!D72,"") -> 61.8 | C76: =IF('Rådata - Bensin'!B72<>"",'Rådata - Bensin'!D72,"") -> 67.3 | F76: =B76/B75 -> 0.9537037 | H76: =C76/C75 -> 0.93994413
A77: 2020M12 | B77: =IF('Rådata - Diesel'!C73<>"",'Rådata - Diesel'!D73,"") -> 66.6 | C77: =IF('Rådata - Bensin'!B73<>"",'Rådata - Bensin'!D73,"") -> 71.6 | D77: =AVERAGE(B66:B77) -> 68.058333 | E77: =AVERAGE(C66:C77) -> 72.875 | F77: =B77/B76 -> 1.0776699 | H77: =C77/C76 -> 1.063893
A78: 2021M01 | B78: =IF('Rådata - Diesel'!C74<>"",'Rådata - Diesel'!D74,"") -> 71.5 | C78: =IF('Rådata - Bensin'!B74<>"",'Rådata - Bensin'!D74,"") -> 76.1 | F78: =B78/B77 -> 1.0735736 | H78: =C78/C77 -> 1.0628492
A79: 2021M02 | B79: =IF('Rådata - Diesel'!C75<>"",'Rådata - Diesel'!D75,"") -> 72.6 | C79: =IF('Rådata - Bensin'!B75<>"",'Rådata - Bensin'!D75,"") -> 77.3 | F79: =B79/B78 -> 1.0153846 | H79: =C79/C78 -> 1.0157687
A80: 2021M03 | B80: =IF('Rådata - Diesel'!C76<>"",'Rådata - Diesel'!D76,"") -> 71.8 | C80: =IF('Rådata - Bensin'!B76<>"",'Rådata - Bensin'!D76,"") -> 77.4 | F80: =B80/B79 -> 0.98898072 | H80: =C80/C79 -> 1.0012937
A81: 2021M04 | B81: =IF('Rådata - Diesel'!C77<>"",'Rådata - Diesel'!D77,"") -> 73.3 | C81: =IF('Rådata - Bensin'!B77<>"",'Rådata - Bensin'!D77,"") -> 78.7 | F81: =B81/B80 -> 1.0208914 | H81: =C81/C80 -> 1.0167959
A82: 2021M05 | B82: =IF('Rådata - Diesel'!C78<>"",'Rådata - Diesel'!D78,"") -> 73.9 | C82: =IF('Rådata - Bensin'!B78<>"",'Rådata - Bensin'!D78,"") -> 79.5 | F82: =B82/B81 -> 1.0081855 | H82: =C82/C81 -> 1.0101652
A83: 2021M06 | B83: =IF('Rådata - Diesel'!C79<>"",'Rådata - Diesel'!D79,"") -> 75 | C83: =IF('Rådata - Bensin'!B79<>"",'Rådata - Bensin'!D79,"") -> 80.4 | F83: =B83/B82 -> 1.014885 | H83: =C83/C82 -> 1.0113208
A84: 2021M07 | B84: =IF('Rådata - Diesel'!C80<>"",'Rådata - Diesel'!D80,"") -> 79.1 | C84: =IF('Rådata - Bensin'!B80<>"",'Rådata - Bensin'!D80,"") -> 84.1 | F84: =B84/B83 -> 1.0546667 | H84: =C84/C83 -> 1.0460199
A85: 2021M08 | B85: =IF('Rådata - Diesel'!C81<>"",'Rådata - Diesel'!D81,"") -> 77.7 | C85: =IF('Rådata - Bensin'!B81<>"",'Rådata - Bensin'!D81,"") -> 85.1 | F85: =B85/B84 -> 0.98230088 | H85: =C85/C84 -> 1.0118906
A86: 2021M09 | B86: =IF('Rådata - Diesel'!C82<>"",'Rådata - Diesel'!D82,"") -> 76.4 | C86: =IF('Rådata - Bensin'!B82<>"",'Rådata - Bensin'!D82,"") -> 84.6 | F86: =B86/B85 -> 0.98326898 | H86: =C86/C85 -> 0.99412456
A87: 2021M10 | B87: =IF('Rådata - Diesel'!C83<>"",'Rådata - Diesel'!D83,"") -> 80.3 | C87: =IF('Rådata - Bensin'!B83<>"",'Rådata - Bensin'!D83,"") -> 86.2 | F87: =B87/B86 -> 1.0510471 | H87: =C87/C86 -> 1.0189125
A88: 2021M11 | B88: =IF('Rådata - Diesel'!C84<>"",'Rådata - Diesel'!D84,"") -> 82.7 | C88: =IF('Rådata - Bensin'!B84<>"",'Rådata - Bensin'!D84,"") -> 87.6 | F88: =B88/B87 -> 1.0298879 | H88: =C88/C87 -> 1.0162413
A89: 2021M12 | B89: =IF('Rådata - Diesel'!C85<>"",'Rådata - Diesel'!D85,"") -> 82.7 | C89: =IF('Rådata - Bensin'!B85<>"",'Rådata - Bensin'!D85,"") -> 87.3 | D89: =AVERAGE(B78:B89) -> 76.416667 | E89: =AVERAGE(C78:C89) -> 82.025 | F89: =B89/B88 -> 1 | H89: =C89/C88 -> 0.99657534
A90: 2022M01 | B90: =IF('Rådata - Diesel'!C86<>"",'Rådata - Diesel'!D86,"") -> 84.2 | C90: =IF('Rådata - Bensin'!B86<>"",'Rådata - Bensin'!D86,"") -> 88.6 | F90: =B90/B89 -> 1.0181378 | H90: =C90/C89 -> 1.0148912
A91: 2022M02 | B91: =IF('Rådata - Diesel'!C87<>"",'Rådata - Diesel'!D87,"") -> 89.2 | C91: =IF('Rådata - Bensin'!B87<>"",'Rådata - Bensin'!D87,"") -> 94 | F91: =B91/B90 -> 1.0593824 | H91: =C91/C90 -> 1.0609481
A92: 2022M03 | B92: =IF('Rådata - Diesel'!C88<>"",'Rådata - Diesel'!D88,"") -> 107.7 | C92: =IF('Rådata - Bensin'!B88<>"",'Rådata - Bensin'!D88,"") -> 107.4 | F92: =B92/B91 -> 1.2073991 | H92: =C92/C91 -> 1.1425532
A93: 2022M04 | B93: =IF('Rådata - Diesel'!C89<>"",'Rådata - Diesel'!D89,"") -> 102.8 | C93: =IF('Rådata - Bensin'!B89<>"",'Rådata - Bensin'!D89,"") -> 102.8 | F93: =B93/B92 -> 0.95450325 | H93: =C93/C92 -> 0.95716946
A94: 2022M05 | B94: =IF('Rådata - Diesel'!C90<>"",'Rådata - Diesel'!D90,"") -> 109 | C94: =IF('Rådata - Bensin'!B90<>"",'Rådata - Bensin'!D90,"") -> 109 | F94: =B94/B93 -> 1.0603113 | H94: =C94/C93 -> 1.0603113
A95: 2022M06 | B95: =IF('Rådata - Diesel'!C91<>"",'Rådata - Diesel'!D91,"") -> 120.4 | C95: =IF('Rådata - Bensin'!B91<>"",'Rådata - Bensin'!D91,"") -> 128.2 | F95: =B95/B94 -> 1.1045872 | H95: =C95/C94 -> 1.1761468
A96: 2022M07 | B96: =IF('Rådata - Diesel'!C92<>"",'Rådata - Diesel'!D92,"") -> 121.5 | C96: =IF('Rådata - Bensin'!B92<>"",'Rådata - Bensin'!D92,"") -> 123 | F96: =B96/B95 -> 1.0091362 | H96: =C96/C95 -> 0.95943838
A97: 2022M08 | B97: =IF('Rådata - Diesel'!C93<>"",'Rådata - Diesel'!D93,"") -> 106.3 | C97: =IF('Rådata - Bensin'!B93<>"",'Rådata - Bensin'!D93,"") -> 106.1 | F97: =B97/B96 -> 0.87489712 | H97: =C97/C96 -> 0.86260163
A98: 2022M09 | B98: =IF('Rådata - Diesel'!C94<>"",'Rådata - Diesel'!D94,"") -> 109.5 | C98: =IF('Rådata - Bensin'!B94<>"",'Rådata - Bensin'!D94,"") -> 105.5 | F98: =B98/B97 -> 1.0301035 | H98: =C98/C97 -> 0.99434496
A99: 2022M10 | B99: =IF('Rådata - Diesel'!C95<>"",'Rådata - Diesel'!D95,"") -> 115.7 | C99: =IF('Rådata - Bensin'!B95<>"",'Rådata - Bensin'!D95,"") -> 110.2 | F99: =B99/B98 -> 1.056621 | H99: =C99/C98 -> 1.0445498
A100: 2022M11 | B100: =IF('Rådata - Diesel'!C96<>"",'Rådata - Diesel'!D96,"") -> 112.2 | C100: =IF('Rådata - Bensin'!B96<>"",'Rådata - Bensin'!D96,"") -> 103.6 | F100: =B100/B99 -> 0.96974935 | H100: =C100/C99 -> 0.94010889
A101: 2022M12 | B101: =IF('Rådata - Diesel'!C97<>"",'Rådata - Diesel'!D97,"") -> 100.6 | C101: =IF('Rådata - Bensin'!B97<>"",'Rådata - Bensin'!D97,"") -> 95.4 | D101: =AVERAGE(B90:B101) -> 106.59167 | E101: =AVERAGE(C90:C101) -> 106.15 | F101: =B101/B100 -> 0.89661319 | H101: =C101/C100 -> 0.92084942
...

Sheet Drivstof_El
A1: 03013: Konsumprisindeks, etter måned, statistikkvariabel og konsumgruppe
A2: 03013: Konsumprisindeks, etter konsumgruppe, måned og statistikkvariabel. Statistikkbanken (ssb.no)
B3: Konsumprisindeks, 04.5.1 Elektrisitet inkludert nettleie
B4: 2015=100 | D4: Prisrelativer
A5: 2015M01 | B5: =IF('Dådata - Elektrisitet'!C2<>"",'Dådata - Elektrisitet'!D2,"") -> 51.4 | D5: 1
A6: 2015M02 | B6: =IF('Dådata - Elektrisitet'!C3<>"",'Dådata - Elektrisitet'!D3,"") -> 50.6 | D6: {=_xlfn.IFS(B6="","",B6>0,B6/B5)} -> 0.9844358
A7: 2015M03 | B7: =IF('Dådata - Elektrisitet'!C4<>"",'Dådata - Elektrisitet'!D4,"") -> 48.7 | D7: {=_xlfn.IFS(B7="","",B7>0,B7/B6)} -> 0.96245059 | H7: År | I7: 2015 | J7: 2016 | K7: 2017 | L7: 2018 | M7: 2019 | N7: 2020 | O7: 2021 | P7: 2022 | Q7: 2023 | R7: 2024 | S7: 2025
A8: 2015M04 | B8: =IF('Dådata - Elektrisitet'!C5<>"",'Dådata - Elektrisitet'!D5,"") -> 48 | D8: {=_xlfn.IFS(B8="","",B8>0,B8/B7)} -> 0.98562628 | H8: Elektrisitet, årlig gjennomsnitt (%) | I8: 100 | J8: 122.21667 | K8: 133.61667 | L8: 167.84167 | M8: 168.90833 | N8: 119.30833 | O8: 203.81667 | P8: 242.60833 | Q8: =C112 -> 104.24545 | R8: =C124 -> 94.375
A9: 2015M05 | B9: =IF('Dådata - Elektrisitet'!C6<>"",'Dådata - Elektrisitet'!D6,"") -> 46 | D9: {=_xlfn.IFS(B9="","",B9>0,B9/B8)} -> 0.95833333 | H9: Prisrelativer [(Pt/Pt-1)] | J9: =J8/I8 -> 1.2221667 | K9: =K8/J8 -> 1.093277 | L9: =L8/K8 -> 1.2561432 | M9: =M8/L8 -> 1.0063552 | N9: =N8/M8 -> 0.7063496 | O9: =O8/N8 -> 1.7083188 | P9: =P8/O8 -> 1.1903263 | Q9: =Q8/P8 -> 0.42968621 | R9: =R8/Q8 -> 0.90531525
A10: 2015M06 | B10: =IF('Dådata - Elektrisitet'!C7<>"",'Dådata - Elektrisitet'!D7,"") -> 42.4 | D10: {=_xlfn.IFS(B10="","",B10>0,B10/B9)} -> 0.92173913
A11: 2015M07 | B11: =IF('Dådata - Elektrisitet'!C8<>"",'Dådata - Elektrisitet'!D8,"") -> 40.2 | D11: {=_xlfn.IFS(B11="","",B11>0,B11/B10)} -> 0.94811321
A12: 2015M08 | B12: =IF('Dådata - Elektrisitet'!C9<>"",'Dådata - Elektrisitet'!D9,"") -> 41.8 | D12: {=_xlfn.IFS(B12="","",B12>0,B12/B11)} -> 1.039801 | H12: Gjennomsnittlig endring i observert periode
A13: 2015M09 | B13: =IF('Dådata - Elektrisitet'!C10<>"",'Dådata - Elektrisitet'!D10,"") -> 43.3 | D13: {=_xlfn.IFS(B13="","",B13>0,B13/B12)} -> 1.0358852 | H13: Periode | I13: Verdi
A14: 2015M10 | B14: =IF('Dådata - Elektrisitet'!C11<>"",'Dådata - Elektrisitet'!D11,"") -> 47.5 | D14: {=_xlfn.IFS(B14="","",B14>0,B14/B13)} -> 1.0969977 | H14: Januar 2015 - juni 2025 (månedsvis) | I14: =EXP(LN(1+(B131/B5-1))/((COUNT(B5:B131))-1))-1 -> 0.0048868122
A15: 2015M11 | B15: =IF('Dådata - Elektrisitet'!C12<>"",'Dådata - Elektrisitet'!D12,"") -> 49.7 | D15: {=_xlfn.IFS(B15="","",B15>0,B15/B14)} -> 1.0463158
A16: 2015M12 | B16: =IF('Dådata - Elektrisitet'!C13<>"",'Dådata - Elektrisitet'!D13,"") -> 48 | C16: =AVERAGE(B5:B16) -> 46.466667 | D16: {=_xlfn.IFS(B16="","",B16>0,B16/B15)} -> 0.96579477
A17: 2016M01 | B17: =IF('Dådata - Elektrisitet'!C14<>"",'Dådata - Elektrisitet'!D14,"") -> 57.6 | D17: {=_xlfn.IFS(B17="","",B17>0,B17/B16)} -> 1.2
A18: 2016M02 | B18: =IF('Dådata - Elektrisitet'!C15<>"",'Dådata - Elektrisitet'!D15,"") -> 52.5 | D18: {=_xlfn.IFS(B18="","",B18>0,B18/B17)} -> 0.91145833
A19: 2016M03 | B19: =IF('Dådata - Elektrisitet'!C16<>"",'Dådata - Elektrisitet'!D16,"") -> 53.8 | D19: {=_xlfn.IFS(B19="","",B19>0,B19/B18)} -> 1.0247619
A20: 2016M04 | B20: =IF('Dådata - Elektrisitet'!C17<>"",'Dådata - Elektrisitet'!D17,"") -> 53.9 | D20: {=_xlfn.IFS(B20="","",B20>0,B20/B19)} -> 1.0018587
A21: 2016M05 | B21: =IF('Dådata - Elektrisitet'!C18<>"",'Dådata - Elektrisitet'!D18,"") -> 54.1 | D21: {=_xlfn.IFS(B21="","",B21>0,B21/B20)} -> 1.0037106
A22: 2016M06 | B22: =IF('Dådata - Elektrisitet'!C19<>"",'Dådata - Elektrisitet'!D19,"") -> 55.6 | D22: {=_xlfn.IFS(B22="","",B22>0,B22/B21)} -> 1.0277264
A23: 2016M07 | B23: =IF('Dådata - Elektrisitet'!C20<>"",'Dådata - Elektrisitet'!D20,"") -> 55.7 | D23: {=_xlfn.IFS(B23="","",B23>0,B23/B22)} -> 1.0017986
A24: 2016M08 | B24: =IF('Dådata - Elektrisitet'!C21<>"",'Dådata - Elektrisitet'!D21,"") -> 55 | D24: {=_xlfn.IFS(B24="","",B24>0,B24/B23)} -> 0.98743268
A25: 2016M09 | B25: =IF('Dådata - Elektrisitet'!C22<>"",'Dådata - Elektrisitet'!D22,"") -> 55.5 | D25: {=_xlfn.IFS(B25="","",B25>0,B25/B24)} -> 1.0090909
A26: 2016M10 | B26: =IF('Dådata - Elektrisitet'!C23<>"",'Dådata - Elektrisitet'!D23,"") -> 60.4 | D26: {=_xlfn.IFS(B26="","",B26>0,B26/B25)} -> 1.0882883
A27: 2016M11 | B27: =IF('Dådata - Elektrisitet'!C24<>"",'Dådata - Elektrisitet'!D24,"") -> 65.4 | D27: {=_xlfn.IFS(B27="","",B27>0,B27/B26)} -> 1.0827815
A28: 2016M12 | B28: =IF('Dådata - Elektrisitet'!C25<>"",'Dådata - Elektrisitet'!D25,"") -> 61.9 | C28: =AVERAGE(B17:B28) -> 56.783333 | D28: {=_xlfn.IFS(B28="","",B28>0,B28/B27)} -> 0.94648318
A29: 2017M01 | B29: =IF('Dådata - Elektrisitet'!C26<>"",'Dådata - Elektrisitet'!D26,"") -> 62.1 | D29: {=_xlfn.IFS(B29="","",B29>0,B29/B28)} -> 1.003231
A30: 2017M02 | B30: =IF('Dådata - Elektrisitet'!C27<>"",'Dådata - Elektrisitet'!D27,"") -> 62.5 | D30: {=_xlfn.IFS(B30="","",B30>0,B30/B29)} -> 1.0064412
A31: 2017M03 | B31: =IF('Dådata - Elektrisitet'!C28<>"",'Dådata - Elektrisitet'!D28,"") -> 62.1 | D31: {=_xlfn.IFS(B31="","",B31>0,B31/B30)} -> 0.9936
A32: 2017M04 | B32: =IF('Dådata - Elektrisitet'!C29<>"",'Dådata - Elektrisitet'!D29,"") -> 61.6 | D32: {=_xlfn.IFS(B32="","",B32>0,B32/B31)} -> 0.99194847
A33: 2017M05 | B33: =IF('Dådata - Elektrisitet'!C30<>"",'Dådata - Elektrisitet'!D30,"") -> 61.3 | D33: {=_xlfn.IFS(B33="","",B33>0,B33/B32)} -> 0.99512987
A34: 2017M06 | B34: =IF('Dådata - Elektrisitet'!C31<>"",'Dådata - Elektrisitet'!D31,"") -> 59 | D34: {=_xlfn.IFS(B34="","",B34>0,B34/B33)} -> 0.96247961
A35: 2017M07 | B35: =IF('Dådata - Elektrisitet'!C32<>"",'Dådata - Elektrisitet'!D32,"") -> 59.8 | D35: {=_xlfn.IFS(B35="","",B35>0,B35/B34)} -> 1.0135593
A36: 2017M08 | B36: =IF('Dådata - Elektrisitet'!C33<>"",'Dådata - Elektrisitet'!D33,"") -> 60.1 | D36: {=_xlfn.IFS(B36="","",B36>0,B36/B35)} -> 1.0050167
A37: 2017M09 | B37: =IF('Dådata - Elektrisitet'!C34<>"",'Dådata - Elektrisitet'!D34,"") -> 62.7 | D37: {=_xlfn.IFS(B37="","",B37>0,B37/B36)} -> 1.0432612
A38: 2017M10 | B38: =IF('Dådata - Elektrisitet'!C35<>"",'Dådata - Elektrisitet'!D35,"") -> 61 | D38: {=_xlfn.IFS(B38="","",B38>0,B38/B37)} -> 0.97288676
A39: 2017M11 | B39: =IF('Dådata - Elektrisitet'!C36<>"",'Dådata - Elektrisitet'!D36,"") -> 66 | D39: {=_xlfn.IFS(B39="","",B39>0,B39/B38)} -> 1.0819672
A40: 2017M12 | B40: =IF('Dådata - Elektrisitet'!C37<>"",'Dådata - Elektrisitet'!D37,"") -> 66.8 | C40: =AVERAGE(B29:B40) -> 62.083333 | D40: {=_xlfn.IFS(B40="","",B40>0,B40/B39)} -> 1.0121212
A41: 2018M01 | B41: =IF('Dådata - Elektrisitet'!C38<>"",'Dådata - Elektrisitet'!D38,"") -> 69 | D41: {=_xlfn.IFS(B41="","",B41>0,B41/B40)} -> 1.0329341
A42: 2018M02 | B42: =IF('Dådata - Elektrisitet'!C39<>"",'Dådata - Elektrisitet'!D39,"") -> 72.7 | D42: {=_xlfn.IFS(B42="","",B42>0,B42/B41)} -> 1.0536232
A43: 2018M03 | B43: =IF('Dådata - Elektrisitet'!C40<>"",'Dådata - Elektrisitet'!D40,"") -> 76.1 | D43: {=_xlfn.IFS(B43="","",B43>0,B43/B42)} -> 1.0467675
A44: 2018M04 | B44: =IF('Dådata - Elektrisitet'!C41<>"",'Dådata - Elektrisitet'!D41,"") -> 73.3 | D44: {=_xlfn.IFS(B44="","",B44>0,B44/B43)} -> 0.96320631
A45: 2018M05 | B45: =IF('Dådata - Elektrisitet'!C42<>"",'Dådata - Elektrisitet'!D42,"") -> 70.2 | D45: {=_xlfn.IFS(B45="","",B45>0,B45/B44)} -> 0.95770805
A46: 2018M06 | B46: =IF('Dådata - Elektrisitet'!C43<>"",'Dådata - Elektrisitet'!D43,"") -> 77.1 | D46: {=_xlfn.IFS(B46="","",B46>0,B46/B45)} -> 1.0982906
A47: 2018M07 | B47: =IF('Dådata - Elektrisitet'!C44<>"",'Dådata - Elektrisitet'!D44,"") -> 81.9 | D47: {=_xlfn.IFS(B47="","",B47>0,B47/B46)} -> 1.0622568
A48: 2018M08 | B48: =IF('Dådata - Elektrisitet'!C45<>"",'Dådata - Elektrisitet'!D45,"") -> 82.9 | D48: {=_xlfn.IFS(B48="","",B48>0,B48/B47)} -> 1.01221
A49: 2018M09 | B49: =IF('Dådata - Elektrisitet'!C46<>"",'Dådata - Elektrisitet'!D46,"") -> 82.7 | D49: {=_xlfn.IFS(B49="","",B49>0,B49/B48)} -> 0.99758745
A50: 2018M10 | B50: =IF('Dådata - Elektrisitet'!C47<>"",'Dådata - Elektrisitet'!D47,"") -> 79.6 | D50: {=_xlfn.IFS(B50="","",B50>0,B50/B49)} -> 0.96251511
A51: 2018M11 | B51: =IF('Dådata - Elektrisitet'!C48<>"",'Dådata - Elektrisitet'!D48,"") -> 83.6 | D51: {=_xlfn.IFS(B51="","",B51>0,B51/B50)} -> 1.0502513
A52: 2018M12 | B52: =IF('Dådata - Elektrisitet'!C49<>"",'Dådata - Elektrisitet'!D49,"") -> 86.8 | C52: =AVERAGE(B41:B52) -> 77.991667 | D52: {=_xlfn.IFS(B52="","",B52>0,B52/B51)} -> 1.0382775
A53: 2019M01 | B53: =IF('Dådata - Elektrisitet'!C50<>"",'Dådata - Elektrisitet'!D50,"") -> 90 | D53: {=_xlfn.IFS(B53="","",B53>0,B53/B52)} -> 1.0368664
A54: 2019M02 | B54: =IF('Dådata - Elektrisitet'!C51<>"",'Dådata - Elektrisitet'!D51,"") -> 84.2 | D54: {=_xlfn.IFS(B54="","",B54>0,B54/B53)} -> 0.93555556
A55: 2019M03 | B55: =IF('Dådata - Elektrisitet'!C52<>"",'Dådata - Elektrisitet'!D52,"") -> 80.9 | D55: {=_xlfn.IFS(B55="","",B55>0,B55/B54)} -> 0.9608076
A56: 2019M04 | B56: =IF('Dådata - Elektrisitet'!C53<>"",'Dådata - Elektrisitet'!D53,"") -> 79.5 | D56: {=_xlfn.IFS(B56="","",B56>0,B56/B55)} -> 0.98269468
A57: 2019M05 | B57: =IF('Dådata - Elektrisitet'!C54<>"",'Dådata - Elektrisitet'!D54,"") -> 78 | D57: {=_xlfn.IFS(B57="","",B57>0,B57/B56)} -> 0.98113208
A58: 2019M06 | B58: =IF('Dådata - Elektrisitet'!C55<>"",'Dådata - Elektrisitet'!D55,"") -> 72 | D58: {=_xlfn.IFS(B58="","",B58>0,B58/B57)} -> 0.92307692
A59: 2019M07 | B59: =IF('Dådata - Elektrisitet'!C56<>"",'Dådata - Elektrisitet'!D56,"") -> 74.3 | D59: {=_xlfn.IFS(B59="","",B59>0,B59/B58)} -> 1.0319444
A60: 2019M08 | B60: =IF('Dådata - Elektrisitet'!C57<>"",'Dådata - Elektrisitet'!D57,"") -> 75.2 | D60: {=_xlfn.IFS(B60="","",B60>0,B60/B59)} -> 1.0121131
A61: 2019M09 | B61: =IF('Dådata - Elektrisitet'!C58<>"",'Dådata - Elektrisitet'!D58,"") -> 72.8 | D61: {=_xlfn.IFS(B61="","",B61>0,B61/B60)} -> 0.96808511
A62: 2019M10 | B62: =IF('Dådata - Elektrisitet'!C59<>"",'Dådata - Elektrisitet'!D59,"") -> 76.7 | D62: {=_xlfn.IFS(B62="","",B62>0,B62/B61)} -> 1.0535714
A63: 2019M11 | B63: =IF('Dådata - Elektrisitet'!C60<>"",'Dådata - Elektrisitet'!D60,"") -> 80.3 | D63: {=_xlfn.IFS(B63="","",B63>0,B63/B62)} -> 1.0469361
A64: 2019M12 | B64: =IF('Dådata - Elektrisitet'!C61<>"",'Dådata - Elektrisitet'!D61,"") -> 77.9 | C64: =AVERAGE(B53:B64) -> 78.483333 | D64: {=_xlfn.IFS(B64="","",B64>0,B64/B63)} -> 0.97011208
A65: 2020M01 | B65: =IF('Dådata - Elektrisitet'!C62<>"",'Dådata - Elektrisitet'!D62,"") -> 69.5 | D65: {=_xlfn.IFS(B65="","",B65>0,B65/B64)} -> 0.89216945
A66: 2020M02 | B66: =IF('Dådata - Elektrisitet'!C63<>"",'Dådata - Elektrisitet'!D63,"") -> 60.8 | D66: {=_xlfn.IFS(B66="","",B66>0,B66/B65)} -> 0.87482014
A67: 2020M03 | B67: =IF('Dådata - Elektrisitet'!C64<>"",'Dådata - Elektrisitet'!D64,"") -> 56.4 | D67: {=_xlfn.IFS(B67="","",B67>0,B67/B66)} -> 0.92763158
A68: 2020M04 | B68: =IF('Dådata - Elektrisitet'!C65<>"",'Dådata - Elektrisitet'!D65,"") -> 51.7 | D68: {=_xlfn.IFS(B68="","",B68>0,B68/B67)} -> 0.91666667
A69: 2020M05 | B69: =IF('Dådata - Elektrisitet'!C66<>"",'Dådata - Elektrisitet'!D66,"") -> 53 | D69: {=_xlfn.IFS(B69="","",B69>0,B69/B68)} -> 1.0251451
A70: 2020M06 | B70: =IF('Dådata - Elektrisitet'!C67<>"",'Dådata - Elektrisitet'!D67,"") -> 48.5 | D70: {=_xlfn.IFS(B70="","",B70>0,B70/B69)} -> 0.91509434
A71: 2020M07 | B71: =IF('Dådata - Elektrisitet'!C68<>"",'Dådata - Elektrisitet'!D68,"") -> 48.2 | D71: {=_xlfn.IFS(B71="","",B71>0,B71/B70)} -> 0.99381443
A72: 2020M08 | B72: =IF('Dådata - Elektrisitet'!C69<>"",'Dådata - Elektrisitet'!D69,"") -> 50.1 | D72: {=_xlfn.IFS(B72="","",B72>0,B72/B71)} -> 1.0394191
A73: 2020M09 | B73: =IF('Dådata - Elektrisitet'!C70<>"",'Dådata - Elektrisitet'!D70,"") -> 54.6 | D73: {=_xlfn.IFS(B73="","",B73>0,B73/B72)} -> 1.0898204
A74: 2020M10 | B74: =IF('Dådata - Elektrisitet'!C71<>"",'Dådata - Elektrisitet'!D71,"") -> 58.2 | D74: {=_xlfn.IFS(B74="","",B74>0,B74/B73)} -> 1.0659341
A75: 2020M11 | B75: =IF('Dådata - Elektrisitet'!C72<>"",'Dådata - Elektrisitet'!D72,"") -> 52.5 | D75: {=_xlfn.IFS(B75="","",B75>0,B75/B74)} -> 0.90206186
A76: 2020M12 | B76: =IF('Dådata - Elektrisitet'!C73<>"",'Dådata - Elektrisitet'!D73,"") -> 61.5 | C76: =AVERAGE(B65:B76) -> 55.416667 | D76: {=_xlfn.IFS(B76="","",B76>0,B76/B75)} -> 1.1714286
A77: 2021M01 | B77: =IF('Dådata - Elektrisitet'!C74<>"",'Dådata - Elektrisitet'!D74,"") -> 82.7 | D77: {=_xlfn.IFS(B77="","",B77>0,B77/B76)} -> 1.3447154
A78: 2021M02 | B78: =IF('Dådata - Elektrisitet'!C75<>"",'Dådata - Elektrisitet'!D75,"") -> 85.9 | D78: {=_xlfn.IFS(B78="","",B78>0,B78/B77)} -> 1.0386941
A79: 2021M03 | B79: =IF('Dådata - Elektrisitet'!C76<>"",'Dådata - Elektrisitet'!D76,"") -> 77.4 | D79: {=_xlfn.IFS(B79="","",B79>0,B79/B78)} -> 0.90104773
A80: 2021M04 | B80: =IF('Dådata - Elektrisitet'!C77<>"",'Dådata - Elektrisitet'!D77,"") -> 78.4 | D80: {=_xlfn.IFS(B80="","",B80>0,B80/B79)} -> 1.0129199
A81: 2021M05 | B81: =IF('Dådata - Elektrisitet'!C78<>"",'Dådata - Elektrisitet'!D78,"") -> 81.9 | D81: {=_xlfn.IFS(B81="","",B81>0,B81/B80)} -> 1.0446429
A82: 2021M06 | B82: =IF('Dådata - Elektrisitet'!C79<>"",'Dådata - Elektrisitet'!D79,"") -> 81.9 | D82: {=_xlfn.IFS(B82="","",B82>0,B82/B81)} -> 1
A83: 2021M07 | B83: =IF('Dådata - Elektrisitet'!C80<>"",'Dådata - Elektrisitet'!D80,"") -> 88.1 | D83: {=_xlfn.IFS(B83="","",B83>0,B83/B82)} -> 1.0757021
A84: 2021M08 | B84: =IF('Dådata - Elektrisitet'!C81<>"",'Dådata - Elektrisitet'!D81,"") -> 99.1 | D84: {=_xlfn.IFS(B84="","",B84>0,B84/B83)} -> 1.1248581
A85: 2021M09 | B85: =IF('Dådata - Elektrisitet'!C82<>"",'Dådata - Elektrisitet'!D82,"") -> 113.5 | D85: {=_xlfn.IFS(B85="","",B85>0,B85/B84)} -> 1.1453078
A86: 2021M10 | B86: =IF('Dådata - Elektrisitet'!C83<>"",'Dådata - Elektrisitet'!D83,"") -> 104.3 | D86: {=_xlfn.IFS(B86="","",B86>0,B86/B85)} -> 0.91894273
A87: 2021M11 | B87: =IF('Dådata - Elektrisitet'!C84<>"",'Dådata - Elektrisitet'!D84,"") -> 117.3 | D87: {=_xlfn.IFS(B87="","",B87>0,B87/B86)} -> 1.1246405
A88: 2021M12 | B88: =IF('Dådata - Elektrisitet'!C85<>"",'Dådata - Elektrisitet'!D85,"") -> 125.8 | C88: =AVERAGE(B77:B88) -> 94.691667 | D88: {=_xlfn.IFS(B88="","",B88>0,B88/B87)} -> 1.0724638
A89: 2022M01 | B89: =IF('Dådata - Elektrisitet'!C86<>"",'Dådata - Elektrisitet'!D86,"") -> 99 | D89: {=_xlfn.IFS(B89="","",B89>0,B89/B88)} -> 0.78696343
A90: 2022M02 | B90: =IF('Dådata - Elektrisitet'!C87<>"",'Dådata - Elektrisitet'!D87,"") -> 93.5 | D90: {=_xlfn.IFS(B90="","",B90>0,B90/B89)} -> 0.94444444
A91: 2022M03 | B91: =IF('Dådata - Elektrisitet'!C88<>"",'Dådata - Elektrisitet'!D88,"") -> 95.9 | D91: {=_xlfn.IFS(B91="","",B91>0,B91/B90)} -> 1.0256684
A92: 2022M04 | B92: =IF('Dådata - Elektrisitet'!C89<>"",'Dådata - Elektrisitet'!D89,"") -> 109.2 | D92: {=_xlfn.IFS(B92="","",B92>0,B92/B91)} -> 1.1386861
A93: 2022M05 | B93: =IF('Dådata - Elektrisitet'!C90<>"",'Dådata - Elektrisitet'!D90,"") -> 104.2 | D93: {=_xlfn.IFS(B93="","",B93>0,B93/B92)} -> 0.95421245
A94: 2022M06 | B94: =IF('Dådata - Elektrisitet'!C91<>"",'Dådata - Elektrisitet'!D91,"") -> 105.1 | D94: {=_xlfn.IFS(B94="","",B94>0,B94/B93)} -> 1.0086372
A95: 2022M07 | B95: =IF('Dådata - Elektrisitet'!C92<>"",'Dådata - Elektrisitet'!D92,"") -> 104 | D95: {=_xlfn.IFS(B95="","",B95>0,B95/B94)} -> 0.98953378
A96: 2022M08 | B96: =IF('Dådata - Elektrisitet'!C93<>"",'Dådata - Elektrisitet'!D93,"") -> 119.9 | D96: {=_xlfn.IFS(B96="","",B96>0,B96/B95)} -> 1.1528846
A97: 2022M09 | B97: =IF('Dådata - Elektrisitet'!C94<>"",'Dådata - Elektrisitet'!D94,"") -> 132.5 | D97: {=_xlfn.IFS(B97="","",B97>0,B97/B96)} -> 1.1050876
A98: 2022M10 | B98: =IF('Dådata - Elektrisitet'!C95<>"",'Dådata - Elektrisitet'!D95,"") -> 130.3 | D98: {=_xlfn.IFS(B98="","",B98>0,B98/B97)} -> 0.98339623
A99: 2022M11 | B99: =IF('Dådata - Elektrisitet'!C96<>"",'Dådata - Elektrisitet'!D96,"") -> 132.3 | D99: {=_xlfn.IFS(B99="","",B99>0,B99/B98)} -> 1.0153492
A100: 2022M12 | B100: =IF('Dådata - Elektrisitet'!C97<>"",'Dådata - Elektrisitet'!D97,"") -> 126.9 | C100: =AVERAGE(B89:B100) -> 112.73333 | D100: {=_xlfn.IFS(B100="","",B100>0,B100/B99)} -> 0.95918367
...

Sheet Reparasjon og vedlikehold
A1: 03013: Konsumprisindeks, etter måned, statistikkvariabel og konsumgruppe
A2: 03013: Konsumprisindeks, etter konsumgruppe, måned og statistikkvariabel. Statistikkbanken (ssb.no)
G4: År | H4: 2015 | I4: 2016 | J4: 2017 | K4: 2018 | L4: 2019 | M4: 2020 | N4: 2021 | O4: 2022 | P4: 2023 | Q4: 2024 | R4: 2025
G5: Vedlikehold & reparasjon, årlig gjennomsnitt (%) | H5: 100 | I5: 103.20833 | J5: 105.21667 | K5: 107.425 | L5: 110.29167 | M5: 113.725 | N5: 117.225 | O5: 122.90833 | P5: =C116 -> 90.309091 | Q5: =C128 -> 95.833333
G6: Prisrelativer [(Pt/Pt-1)] | I6: =I5/H5 -> 1.0320833 | J6: =J5/I5 -> 1.019459 | K6: =K5/J5 -> 1.0209884 | L6: =L5/K5 -> 1.0266853 | M6: =M5/L5 -> 1.0311296 | N6: =N5/M5 -> 1.030776 | O6: =O5/N5 -> 1.0484823 | P6: =P5/O5 -> 0.73476784 | Q6: =Q5/P5 -> 1.0611704
B7: Vedlikehold og reparasjon på verksted (2015=100)
A8: Måned | B8: 2015=100 | D8: Prisrelativer
A9: 2015M01 | B9: =IF('Rådata - Reparasjon og vedlikeh'!C2<>"",'Rådata - Reparasjon og vedlikeh'!D2,"") -> 67.1 | D9: =B9/B9 -> 1
A10: 2015M02 | B10: =IF('Rådata - Reparasjon og vedlikeh'!C3<>"",'Rådata - Reparasjon og vedlikeh'!D3,"") -> 67.1 | D10: {=_xlfn.IFS(B10="","",B10>0,B10/B9)} -> 1 | G10: Gjennomsnittlig endring i observert periode
A11: 2015M03 | B11: =IF('Rådata - Reparasjon og vedlikeh'!C4<>"",'Rådata - Reparasjon og vedlikeh'!D4,"") -> 67.4 | D11: {=_xlfn.IFS(B11="","",B11>0,B11/B10)} -> 1.0044709 | G11: Periode | J11: Verdi
A12: 2015M04 | B12: =IF('Rådata - Reparasjon og vedlikeh'!C5<>"",'Rådata - Reparasjon og vedlikeh'!D5,"") -> 67.5 | D12: {=_xlfn.IFS(B12="","",B12>0,B12/B11)} -> 1.0014837 | G12: Januar 2015 - juli 2025 | J12: =EXP(LN(1+(B135/B9-1))/((COUNT(B9:B135))-1))-1 -> 0.0031795333
A13: 2015M05 | B13: =IF('Rådata - Reparasjon og vedlikeh'!C6<>"",'Rådata - Reparasjon og vedlikeh'!D6,"") -> 67.8 | D13: {=_xlfn.IFS(B13="","",B13>0,B13/B12)} -> 1.0044444
A14: 2015M06 | B14: =IF('Rådata - Reparasjon og vedlikeh'!C7<>"",'Rådata - Reparasjon og vedlikeh'!D7,"") -> 68 | D14: {=_xlfn.IFS(B14="","",B14>0,B14/B13)} -> 1.0029499
A15: 2015M07 | B15: =IF('Rådata - Reparasjon og vedlikeh'!C8<>"",'Rådata - Reparasjon og vedlikeh'!D8,"") -> 68.2 | D15: {=_xlfn.IFS(B15="","",B15>0,B15/B14)} -> 1.0029412
A16: 2015M08 | B16: =IF('Rådata - Reparasjon og vedlikeh'!C9<>"",'Rådata - Reparasjon og vedlikeh'!D9,"") -> 68.5 | D16: {=_xlfn.IFS(B16="","",B16>0,B16/B15)} -> 1.0043988
A17: 2015M09 | B17: =IF('Rådata - Reparasjon og vedlikeh'!C10<>"",'Rådata - Reparasjon og vedlikeh'!D10,"") -> 68.4 | D17: {=_xlfn.IFS(B17="","",B17>0,B17/B16)} -> 0.99854015
A18: 2015M10 | B18: =IF('Rådata - Reparasjon og vedlikeh'!C11<>"",'Rådata - Reparasjon og vedlikeh'!D11,"") -> 68.8 | D18: {=_xlfn.IFS(B18="","",B18>0,B18/B17)} -> 1.005848
A19: 2015M11 | B19: =IF('Rådata - Reparasjon og vedlikeh'!C12<>"",'Rådata - Reparasjon og vedlikeh'!D12,"") -> 69 | D19: {=_xlfn.IFS(B19="","",B19>0,B19/B18)} -> 1.002907
A20: 2015M12 | B20: =IF('Rådata - Reparasjon og vedlikeh'!C13<>"",'Rådata - Reparasjon og vedlikeh'!D13,"") -> 69 | C20: =AVERAGE(B9:B20) -> 68.066667 | D20: {=_xlfn.IFS(B20="","",B20>0,B20/B19)} -> 1
A21: 2016M01 | B21: =IF('Rådata - Reparasjon og vedlikeh'!C14<>"",'Rådata - Reparasjon og vedlikeh'!D14,"") -> 69.4 | D21: {=_xlfn.IFS(B21="","",B21>0,B21/B20)} -> 1.0057971
A22: 2016M02 | B22: =IF('Rådata - Reparasjon og vedlikeh'!C15<>"",'Rådata - Reparasjon og vedlikeh'!D15,"") -> 69.6 | D22: {=_xlfn.IFS(B22="","",B22>0,B22/B21)} -> 1.0028818
A23: 2016M03 | B23: =IF('Rådata - Reparasjon og vedlikeh'!C16<>"",'Rådata - Reparasjon og vedlikeh'!D16,"") -> 69.9 | D23: {=_xlfn.IFS(B23="","",B23>0,B23/B22)} -> 1.0043103
A24: 2016M04 | B24: =IF('Rådata - Reparasjon og vedlikeh'!C17<>"",'Rådata - Reparasjon og vedlikeh'!D17,"") -> 70 | D24: {=_xlfn.IFS(B24="","",B24>0,B24/B23)} -> 1.0014306
A25: 2016M05 | B25: =IF('Rådata - Reparasjon og vedlikeh'!C18<>"",'Rådata - Reparasjon og vedlikeh'!D18,"") -> 70 | D25: {=_xlfn.IFS(B25="","",B25>0,B25/B24)} -> 1
A26: 2016M06 | B26: =IF('Rådata - Reparasjon og vedlikeh'!C19<>"",'Rådata - Reparasjon og vedlikeh'!D19,"") -> 70 | D26: {=_xlfn.IFS(B26="","",B26>0,B26/B25)} -> 1
A27: 2016M07 | B27: =IF('Rådata - Reparasjon og vedlikeh'!C20<>"",'Rådata - Reparasjon og vedlikeh'!D20,"") -> 70.2 | D27: {=_xlfn.IFS(B27="","",B27>0,B27/B26)} -> 1.0028571
A28: 2016M08 | B28: =IF('Rådata - Reparasjon og vedlikeh'!C21<>"",'Rådata - Reparasjon og vedlikeh'!D21,"") -> 70.2 | D28: {=_xlfn.IFS(B28="","",B28>0,B28/B27)} -> 1
A29: 2016M09 | B29: =IF('Rådata - Reparasjon og vedlikeh'!C22<>"",'Rådata - Reparasjon og vedlikeh'!D22,"") -> 70.9 | D29: {=_xlfn.IFS(B29="","",B29>0,B29/B28)} -> 1.0099715
A30: 2016M10 | B30: =IF('Rådata - Reparasjon og vedlikeh'!C23<>"",'Rådata - Reparasjon og vedlikeh'!D23,"") -> 71.3 | D30: {=_xlfn.IFS(B30="","",B30>0,B30/B29)} -> 1.0056417
A31: 2016M11 | B31: =IF('Rådata - Reparasjon og vedlikeh'!C24<>"",'Rådata - Reparasjon og vedlikeh'!D24,"") -> 70.7 | D31: {=_xlfn.IFS(B31="","",B31>0,B31/B30)} -> 0.99158485
A32: 2016M12 | B32: =IF('Rådata - Reparasjon og vedlikeh'!C25<>"",'Rådata - Reparasjon og vedlikeh'!D25,"") -> 70.9 | C32: =AVERAGE(B21:B32) -> 70.258333 | D32: {=_xlfn.IFS(B32="","",B32>0,B32/B31)} -> 1.0028289
A33: 2017M01 | B33: =IF('Rådata - Reparasjon og vedlikeh'!C26<>"",'Rådata - Reparasjon og vedlikeh'!D26,"") -> 70.7 | D33: {=_xlfn.IFS(B33="","",B33>0,B33/B32)} -> 0.99717913
A34: 2017M02 | B34: =IF('Rådata - Reparasjon og vedlikeh'!C27<>"",'Rådata - Reparasjon og vedlikeh'!D27,"") -> 71.2 | D34: {=_xlfn.IFS(B34="","",B34>0,B34/B33)} -> 1.0070721
A35: 2017M03 | B35: =IF('Rådata - Reparasjon og vedlikeh'!C28<>"",'Rådata - Reparasjon og vedlikeh'!D28,"") -> 71.4 | D35: {=_xlfn.IFS(B35="","",B35>0,B35/B34)} -> 1.002809
A36: 2017M04 | B36: =IF('Rådata - Reparasjon og vedlikeh'!C29<>"",'Rådata - Reparasjon og vedlikeh'!D29,"") -> 71.3 | D36: {=_xlfn.IFS(B36="","",B36>0,B36/B35)} -> 0.99859944
A37: 2017M05 | B37: =IF('Rådata - Reparasjon og vedlikeh'!C30<>"",'Rådata - Reparasjon og vedlikeh'!D30,"") -> 71.5 | D37: {=_xlfn.IFS(B37="","",B37>0,B37/B36)} -> 1.002805
A38: 2017M06 | B38: =IF('Rådata - Reparasjon og vedlikeh'!C31<>"",'Rådata - Reparasjon og vedlikeh'!D31,"") -> 71.7 | D38: {=_xlfn.IFS(B38="","",B38>0,B38/B37)} -> 1.0027972
A39: 2017M07 | B39: =IF('Rådata - Reparasjon og vedlikeh'!C32<>"",'Rådata - Reparasjon og vedlikeh'!D32,"") -> 71.8 | D39: {=_xlfn.IFS(B39="","",B39>0,B39/B38)} -> 1.0013947
A40: 2017M08 | B40: =IF('Rådata - Reparasjon og vedlikeh'!C33<>"",'Rådata - Reparasjon og vedlikeh'!D33,"") -> 71.9 | D40: {=_xlfn.IFS(B40="","",B40>0,B40/B39)} -> 1.0013928
A41: 2017M09 | B41: =IF('Rådata - Reparasjon og vedlikeh'!C34<>"",'Rådata - Reparasjon og vedlikeh'!D34,"") -> 72.1 | D41: {=_xlfn.IFS(B41="","",B41>0,B41/B40)} -> 1.0027816
A42: 2017M10 | B42: =IF('Rådata - Reparasjon og vedlikeh'!C35<>"",'Rådata - Reparasjon og vedlikeh'!D35,"") -> 71.9 | D42: {=_xlfn.IFS(B42="","",B42>0,B42/B41)} -> 0.99722607
A43: 2017M11 | B43: =IF('Rådata - Reparasjon og vedlikeh'!C36<>"",'Rådata - Reparasjon og vedlikeh'!D36,"") -> 72 | D43: {=_xlfn.IFS(B43="","",B43>0,B43/B42)} -> 1.0013908
A44: 2017M12 | B44: =IF('Rådata - Reparasjon og vedlikeh'!C37<>"",'Rådata - Reparasjon og vedlikeh'!D37,"") -> 72 | C44: =AVERAGE(B33:B44) -> 71.625 | D44: {=_xlfn.IFS(B44="","",B44>0,B44/B43)} -> 1
A45: 2018M01 | B45: =IF('Rådata - Reparasjon og vedlikeh'!C38<>"",'Rådata - Reparasjon og vedlikeh'!D38,"") -> 72.7 | D45: {=_xlfn.IFS(B45="","",B45>0,B45/B44)} -> 1.0097222
A46: 2018M02 | B46: =IF('Rådata - Reparasjon og vedlikeh'!C39<>"",'Rådata - Reparasjon og vedlikeh'!D39,"") -> 72.7 | D46: {=_xlfn.IFS(B46="","",B46>0,B46/B45)} -> 1
A47: 2018M03 | B47: =IF('Rådata - Reparasjon og vedlikeh'!C40<>"",'Rådata - Reparasjon og vedlikeh'!D40,"") -> 73 | D47: {=_xlfn.IFS(B47="","",B47>0,B47/B46)} -> 1.0041265
A48: 2018M04 | B48: =IF('Rådata - Reparasjon og vedlikeh'!C41<>"",'Rådata - Reparasjon og vedlikeh'!D41,"") -> 72.8 | D48: {=_xlfn.IFS(B48="","",B48>0,B48/B47)} -> 0.99726027
A49: 2018M05 | B49: =IF('Rådata - Reparasjon og vedlikeh'!C42<>"",'Rådata - Reparasjon og vedlikeh'!D42,"") -> 73 | D49: {=_xlfn.IFS(B49="","",B49>0,B49/B48)} -> 1.0027473
A50: 2018M06 | B50: =IF('Rådata - Reparasjon og vedlikeh'!C43<>"",'Rådata - Reparasjon og vedlikeh'!D43,"") -> 73.1 | D50: {=_xlfn.IFS(B50="","",B50>0,B50/B49)} -> 1.0013699
A51: 2018M07 | B51: =IF('Rådata - Reparasjon og vedlikeh'!C44<>"",'Rådata - Reparasjon og vedlikeh'!D44,"") -> 73.5 | D51: {=_xlfn.IFS(B51="","",B51>0,B51/B50)} -> 1.005472
A52: 2018M08 | B52: =IF('Rådata - Reparasjon og vedlikeh'!C45<>"",'Rådata - Reparasjon og vedlikeh'!D45,"") -> 73.5 | D52: {=_xlfn.IFS(B52="","",B52>0,B52/B51)} -> 1
A53: 2018M09 | B53: =IF('Rådata - Reparasjon og vedlikeh'!C46<>"",'Rådata - Reparasjon og vedlikeh'!D46,"") -> 73.6 | D53: {=_xlfn.IFS(B53="","",B53>0,B53/B52)} -> 1.0013605
A54: 2018M10 | B54: =IF('Rådata - Reparasjon og vedlikeh'!C47<>"",'Rådata - Reparasjon og vedlikeh'!D47,"") -> 73.3 | D54: {=_xlfn.IFS(B54="","",B54>0,B54/B53)} -> 0.99592391
A55: 2018M11 | B55: =IF('Rådata - Reparasjon og vedlikeh'!C48<>"",'Rådata - Reparasjon og vedlikeh'!D48,"") -> 73.1 | D55: {=_xlfn.IFS(B55="","",B55>0,B55/B54)} -> 0.99727149
A56: 2018M12 | B56: =IF('Rådata - Reparasjon og vedlikeh'!C49<>"",'Rådata - Reparasjon og vedlikeh'!D49,"") -> 73.4 | C56: =AVERAGE(B45:B56) -> 73.141667 | D56: {=_xlfn.IFS(B56="","",B56>0,B56/B55)} -> 1.004104
A57: 2019M01 | B57: =IF('Rådata - Reparasjon og vedlikeh'!C50<>"",'Rådata - Reparasjon og vedlikeh'!D50,"") -> 73.8 | D57: {=_xlfn.IFS(B57="","",B57>0,B57/B56)} -> 1.0054496
A58: 2019M02 | B58: =IF('Rådata - Reparasjon og vedlikeh'!C51<>"",'Rådata - Reparasjon og vedlikeh'!D51,"") -> 74.1 | D58: {=_xlfn.IFS(B58="","",B58>0,B58/B57)} -> 1.004065
A59: 2019M03 | B59: =IF('Rådata - Reparasjon og vedlikeh'!C52<>"",'Rådata - Reparasjon og vedlikeh'!D52,"") -> 74.7 | D59: {=_xlfn.IFS(B59="","",B59>0,B59/B58)} -> 1.0080972
A60: 2019M04 | B60: =IF('Rådata - Reparasjon og vedlikeh'!C53<>"",'Rådata - Reparasjon og vedlikeh'!D53,"") -> 74.7 | D60: {=_xlfn.IFS(B60="","",B60>0,B60/B59)} -> 1
A61: 2019M05 | B61: =IF('Rådata - Reparasjon og vedlikeh'!C54<>"",'Rådata - Reparasjon og vedlikeh'!D54,"") -> 74.9 | D61: {=_xlfn.IFS(B61="","",B61>0,B61/B60)} -> 1.0026774
A62: 2019M06 | B62: =IF('Rådata - Reparasjon og vedlikeh'!C55<>"",'Rådata - Reparasjon og vedlikeh'!D55,"") -> 75 | D62: {=_xlfn.IFS(B62="","",B62>0,B62/B61)} -> 1.0013351
A63: 2019M07 | B63: =IF('Rådata - Reparasjon og vedlikeh'!C56<>"",'Rådata - Reparasjon og vedlikeh'!D56,"") -> 75.1 | D63: {=_xlfn.IFS(B63="","",B63>0,B63/B62)} -> 1.0013333
A64: 2019M08 | B64: =IF('Rådata - Reparasjon og vedlikeh'!C57<>"",'Rådata - Reparasjon og vedlikeh'!D57,"") -> 75.1 | D64: {=_xlfn.IFS(B64="","",B64>0,B64/B63)} -> 1
A65: 2019M09 | B65: =IF('Rådata - Reparasjon og vedlikeh'!C58<>"",'Rådata - Reparasjon og vedlikeh'!D58,"") -> 75.6 | D65: {=_xlfn.IFS(B65="","",B65>0,B65/B64)} -> 1.0066578
A66: 2019M10 | B66: =IF('Rådata - Reparasjon og vedlikeh'!C59<>"",'Rådata - Reparasjon og vedlikeh'!D59,"") -> 75.9 | D66: {=_xlfn.IFS(B66="","",B66>0,B66/B65)} -> 1.0039683
A67: 2019M11 | B67: =IF('Rådata - Reparasjon og vedlikeh'!C60<>"",'Rådata - Reparasjon og vedlikeh'!D60,"") -> 76 | D67: {=_xlfn.IFS(B67="","",B67>0,B67/B66)} -> 1.0013175
A68: 2019M12 | B68: =IF('Rådata - Reparasjon og vedlikeh'!C61<>"",'Rådata - Reparasjon og vedlikeh'!D61,"") -> 76 | C68: =AVERAGE(B57:B68) -> 75.075 | D68: {=_xlfn.IFS(B68="","",B68>0,B68/B67)} -> 1
A69: 2020M01 | B69: =IF('Rådata - Reparasjon og vedlikeh'!C62<>"",'Rådata - Reparasjon og vedlikeh'!D62,"") -> 76.3 | D69: {=_xlfn.IFS(B69="","",B69>0,B69/B68)} -> 1.0039474
A70: 2020M02 | B70: =IF('Rådata - Reparasjon og vedlikeh'!C63<>"",'Rådata - Reparasjon og vedlikeh'!D63,"") -> 76.2 | D70: {=_xlfn.IFS(B70="","",B70>0,B70/B69)} -> 0.99868938
A71: 2020M03 | B71: =IF('Rådata - Reparasjon og vedlikeh'!C64<>"",'Rådata - Reparasjon og vedlikeh'!D64,"") -> 76.4 | D71: {=_xlfn.IFS(B71="","",B71>0,B71/B70)} -> 1.0026247
A72: 2020M04 | B72: =IF('Rådata - Reparasjon og vedlikeh'!C65<>"",'Rådata - Reparasjon og vedlikeh'!D65,"") -> 76.7 | D72: {=_xlfn.IFS(B72="","",B72>0,B72/B71)} -> 1.0039267
A73: 2020M05 | B73: =IF('Rådata - Reparasjon og vedlikeh'!C66<>"",'Rådata - Reparasjon og vedlikeh'!D66,"") -> 77.6 | D73: {=_xlfn.IFS(B73="","",B73>0,B73/B72)} -> 1.011734
A74: 2020M06 | B74: =IF('Rådata - Reparasjon og vedlikeh'!C67<>"",'Rådata - Reparasjon og vedlikeh'!D67,"") -> 78 | D74: {=_xlfn.IFS(B74="","",B74>0,B74/B73)} -> 1.0051546
A75: 2020M07 | B75: =IF('Rådata - Reparasjon og vedlikeh'!C68<>"",'Rådata - Reparasjon og vedlikeh'!D68,"") -> 77.8 | D75: {=_xlfn.IFS(B75="","",B75>0,B75/B74)} -> 0.9974359
A76: 2020M08 | B76: =IF('Rådata - Reparasjon og vedlikeh'!C69<>"",'Rådata - Reparasjon og vedlikeh'!D69,"") -> 77.7 | D76: {=_xlfn.IFS(B76="","",B76>0,B76/B75)} -> 0.99871465
A77: 2020M09 | B77: =IF('Rådata - Reparasjon og vedlikeh'!C70<>"",'Rådata - Reparasjon og vedlikeh'!D70,"") -> 78 | D77: {=_xlfn.IFS(B77="","",B77>0,B77/B76)} -> 1.003861
A78: 2020M10 | B78: =IF('Rådata - Reparasjon og vedlikeh'!C71<>"",'Rådata - Reparasjon og vedlikeh'!D71,"") -> 77.9 | D78: {=_xlfn.IFS(B78="","",B78>0,B78/B77)} -> 0.99871795
A79: 2020M11 | B79: =IF('Rådata - Reparasjon og vedlikeh'!C72<>"",'Rådata - Reparasjon og vedlikeh'!D72,"") -> 78.1 | D79: {=_xlfn.IFS(B79="","",B79>0,B79/B78)} -> 1.0025674
A80: 2020M12 | B80: =IF('Rådata - Reparasjon og vedlikeh'!C73<>"",'Rådata - Reparasjon og vedlikeh'!D73,"") -> 78.4 | C80: =AVERAGE(B69:B80) -> 77.425 | D80: {=_xlfn.IFS(B80="","",B80>0,B80/B79)} -> 1.0038412
A81: 2021M01 | B81: =IF('Rådata - Reparasjon og vedlikeh'!C74<>"",'Rådata - Reparasjon og vedlikeh'!D74,"") -> 78.4 | D81: {=_xlfn.IFS(B81="","",B81>0,B81/B80)} -> 1
A82: 2021M02 | B82: =IF('Rådata - Reparasjon og vedlikeh'!C75<>"",'Rådata - Reparasjon og vedlikeh'!D75,"") -> 78.4 | D82: {=_xlfn.IFS(B82="","",B82>0,B82/B81)} -> 1
A83: 2021M03 | B83: =IF('Rådata - Reparasjon og vedlikeh'!C76<>"",'Rådata - Reparasjon og vedlikeh'!D76,"") -> 78.8 | D83: {=_xlfn.IFS(B83="","",B83>0,B83/B82)} -> 1.005102
A84: 2021M04 | B84: =IF('Rådata - Reparasjon og vedlikeh'!C77<>"",'Rådata - Reparasjon og vedlikeh'!D77,"") -> 80.1 | D84: {=_xlfn.IFS(B84="","",B84>0,B84/B83)} -> 1.0164975
A85: 2021M05 | B85: =IF('Rådata - Reparasjon og vedlikeh'!C78<>"",'Rådata - Reparasjon og vedlikeh'!D78,"") -> 79.7 | D85: {=_xlfn.IFS(B85="","",B85>0,B85/B84)} -> 0.99500624
A86: 2021M06 | B86: =IF('Rådata - Reparasjon og vedlikeh'!C79<>"",'Rådata - Reparasjon og vedlikeh'!D79,"") -> 80 | D86: {=_xlfn.IFS(B86="","",B86>0,B86/B85)} -> 1.0037641
A87: 2021M07 | B87: =IF('Rådata - Reparasjon og vedlikeh'!C80<>"",'Rådata - Reparasjon og vedlikeh'!D80,"") -> 80.3 | D87: {=_xlfn.IFS(B87="","",B87>0,B87/B86)} -> 1.00375
A88: 2021M08 | B88: =IF('Rådata - Reparasjon og vedlikeh'!C81<>"",'Rådata - Reparasjon og vedlikeh'!D81,"") -> 80.1 | D88: {=_xlfn.IFS(B88="","",B88>0,B88/B87)} -> 0.99750934
A89: 2021M09 | B89: =IF('Rådata - Reparasjon og vedlikeh'!C82<>"",'Rådata - Reparasjon og vedlikeh'!D82,"") -> 80.2 | D89: {=_xlfn.IFS(B89="","",B89>0,B89/B88)} -> 1.0012484
A90: 2021M10 | B90: =IF('Rådata - Reparasjon og vedlikeh'!C83<>"",'Rådata - Reparasjon og vedlikeh'!D83,"") -> 80.1 | D90: {=_xlfn.IFS(B90="","",B90>0,B90/B89)} -> 0.99875312
A91: 2021M11 | B91: =IF('Rådata - Reparasjon og vedlikeh'!C84<>"",'Rådata - Reparasjon og vedlikeh'!D84,"") -> 80.7 | D91: {=_xlfn.IFS(B91="","",B91>0,B91/B90)} -> 1.0074906
A92: 2021M12 | B92: =IF('Rådata - Reparasjon og vedlikeh'!C85<>"",'Rådata - Reparasjon og vedlikeh'!D85,"") -> 80.7 | C92: =AVERAGE(B81:B92) -> 79.791667 | D92: {=_xlfn.IFS(B92="","",B92>0,B92/B91)} -> 1
A93: 2022M01 | B93: =IF('Rådata - Reparasjon og vedlikeh'!C86<>"",'Rådata - Reparasjon og vedlikeh'!D86,"") -> 81.2 | D93: {=_xlfn.IFS(B93="","",B93>0,B93/B92)} -> 1.0061958
A94: 2022M02 | B94: =IF('Rådata - Reparasjon og vedlikeh'!C87<>"",'Rådata - Reparasjon og vedlikeh'!D87,"") -> 81.8 | D94: {=_xlfn.IFS(B94="","",B94>0,B94/B93)} -> 1.0073892
A95: 2022M03 | B95: =IF('Rådata - Reparasjon og vedlikeh'!C88<>"",'Rådata - Reparasjon og vedlikeh'!D88,"") -> 82.1 | D95: {=_xlfn.IFS(B95="","",B95>0,B95/B94)} -> 1.0036675
A96: 2022M04 | B96: =IF('Rådata - Reparasjon og vedlikeh'!C89<>"",'Rådata - Reparasjon og vedlikeh'!D89,"") -> 82.4 | D96: {=_xlfn.IFS(B96="","",B96>0,B96/B95)} -> 1.0036541
A97: 2022M05 | B97: =IF('Rådata - Reparasjon og vedlikeh'!C90<>"",'Rådata - Reparasjon og vedlikeh'!D90,"") -> 82.7 | D97: {=_xlfn.IFS(B97="","",B97>0,B97/B96)} -> 1.0036408
A98: 2022M06 | B98: =IF('Rådata - Reparasjon og vedlikeh'!C91<>"",'Rådata - Reparasjon og vedlikeh'!D91,"") -> 83.3 | D98: {=_xlfn.IFS(B98="","",B98>0,B98/B97)} -> 1.0072551
A99: 2022M07 | B99: =IF('Rådata - Reparasjon og vedlikeh'!C92<>"",'Rådata - Reparasjon og vedlikeh'!D92,"") -> 83.7 | D99: {=_xlfn.IFS(B99="","",B99>0,B99/B98)} -> 1.0048019
A100: 2022M08 | B100: =IF('Rådata - Reparasjon og vedlikeh'!C93<>"",'Rådata - Reparasjon og vedlikeh'!D93,"") -> 83.9 | D100: {=_xlfn.IFS(B100="","",B100>0,B100/B99)} -> 1.0023895
A101: 2022M09 | B101: =IF('Rådata - Reparasjon og vedlikeh'!C94<>"",'Rådata - Reparasjon og vedlikeh'!D94,"") -> 84.5 | D101: {=_xlfn.IFS(B101="","",B101>0,B101/B100)} -> 1.0071514
...

Sheet Forsikring
A1: 03013: Konsumprisindeks, etter konsumgruppe, måned og statistikkvariabel
A2: 03013: Konsumprisindeks, etter konsumgruppe, statistikkvariabel og måned. Statistikkbanken (ssb.no)
A3: Forsikring (2015=100) omfatter bolig- og transportforsikring
A4: Måned | B4: 2015=100 | D4: Prisrelativer | H4: År | I4: 2015 | J4: 2016 | K4: 2017 | L4: 2018 | M4: 2019 | N4: 2020 | O4: 2021 | P4: 2022 | Q4: 2023 | R4: 2024 | S4: 2025
A5: 2015M01 | B5: =IF('Rådata - forsikring'!C2<>"",'Rådata - forsikring'!D2,"") -> 63.2 | D5: 1 | F5: 2015K1 | G5: =B5 -> 63.2 | H5: Forsikring, årlig gjennomsnitt (%) | I5: 100 | J5: 100.225 | K5: 101.5 | L5: 103.65 | M5: 106 | N5: 110.35 | O5: 117.125 | P5: 123.275 | Q5: =C112 -> 81.945455 | R5: =C124 -> 88.05
A6: 2015M02 | B6: =IF('Rådata - forsikring'!C3<>"",'Rådata - forsikring'!D3,"") -> 63.2 | D6: {=_xlfn.IFS(B6="","",B6>0,B6/B5)} -> 1 | F6: 2015K2 | G6: =B8 -> 63.4 | H6: Prisrelativer [(Pt/Pt-1)] | J6: =J5/I5 -> 1.00225 | K6: =K5/J5 -> 1.0127214 | L6: =L5/K5 -> 1.0211823 | M6: =M5/L5 -> 1.0226725 | N6: =N5/M5 -> 1.0410377 | O6: =O5/N5 -> 1.0613956 | P6: =P5/O5 -> 1.052508 | Q6: =Q5/P5 -> 0.66473701 | R6: =R5/Q5 -> 1.0744952
A7: 2015M03 | B7: =IF('Rådata - forsikring'!C4<>"",'Rådata - forsikring'!D4,"") -> 63.2 | D7: {=_xlfn.IFS(B7="","",B7>0,B7/B6)} -> 1 | F7: 2015K3 | G7: =B11 -> 63.4
A8: 2015M04 | B8: =IF('Rådata - forsikring'!C5<>"",'Rådata - forsikring'!D5,"") -> 63.4 | D8: {=_xlfn.IFS(B8="","",B8>0,B8/B7)} -> 1.0031646 | F8: 2015K4 | G8: =B14 -> 63.6
A9: 2015M05 | B9: =IF('Rådata - forsikring'!C6<>"",'Rådata - forsikring'!D6,"") -> 63.4 | D9: {=_xlfn.IFS(B9="","",B9>0,B9/B8)} -> 1 | F9: 2016K1 | G9: =B17 -> 63.6 | H9: Gjennomsnittlig endring i observert periode
A10: 2015M06 | B10: =IF('Rådata - forsikring'!C7<>"",'Rådata - forsikring'!D7,"") -> 63.4 | D10: {=_xlfn.IFS(B10="","",B10>0,B10/B9)} -> 1 | F10: 2016K2 | G10: =B20 -> 63.5 | H10: Periode | K10: Verdi
A11: 2015M07 | B11: =IF('Rådata - forsikring'!C8<>"",'Rådata - forsikring'!D8,"") -> 63.4 | D11: {=_xlfn.IFS(B11="","",B11>0,B11/B10)} -> 1 | F11: 2016K3 | G11: =B23 -> 63.6 | H11: Januar 2015 - desember 2023 (kvartalsvis) | K11: =EXP(LN(1+(G47/G5-1))/((COUNT(G5:G47))-1))-1 -> 0.022453427
A12: 2015M08 | B12: =IF('Rådata - forsikring'!C9<>"",'Rådata - forsikring'!D9,"") -> 63.4 | D12: {=_xlfn.IFS(B12="","",B12>0,B12/B11)} -> 1 | F12: 2016K4 | G12: =B26 -> 63.5 | H12: Januar 2015 - desember 2023 (månedsvis) | K12: =EXP(LN(1+(B131/B5-1))/((COUNT(B5:B131))-1))-1 -> 0.0037983673
A13: 2015M09 | B13: =IF('Rådata - forsikring'!C10<>"",'Rådata - forsikring'!D10,"") -> 63.4 | D13: {=_xlfn.IFS(B13="","",B13>0,B13/B12)} -> 1 | F13: 2017K1 | G13: =B29 -> 63.7
A14: 2015M10 | B14: =IF('Rådata - forsikring'!C11<>"",'Rådata - forsikring'!D11,"") -> 63.6 | D14: {=_xlfn.IFS(B14="","",B14>0,B14/B13)} -> 1.0031546 | F14: 2017K2 | G14: =B32 -> 64.1
A15: 2015M11 | B15: =IF('Rådata - forsikring'!C12<>"",'Rådata - forsikring'!D12,"") -> 63.6 | D15: {=_xlfn.IFS(B15="","",B15>0,B15/B14)} -> 1 | F15: 2017K3 | G15: =B35 -> 64.6
A16: 2015M12 | B16: =IF('Rådata - forsikring'!C13<>"",'Rådata - forsikring'!D13,"") -> 63.6 | C16: =AVERAGE(B5:B16) -> 63.4 | D16: {=_xlfn.IFS(B16="","",B16>0,B16/B15)} -> 1 | F16: 2017K4 | G16: =B38 -> 65.1
A17: 2016M01 | B17: =IF('Rådata - forsikring'!C14<>"",'Rådata - forsikring'!D14,"") -> 63.6 | D17: {=_xlfn.IFS(B17="","",B17>0,B17/B16)} -> 1 | F17: 2018K1 | G17: =B41 -> 65.5
A18: 2016M02 | B18: =IF('Rådata - forsikring'!C15<>"",'Rådata - forsikring'!D15,"") -> 63.6 | D18: {=_xlfn.IFS(B18="","",B18>0,B18/B17)} -> 1 | F18: 2018K2 | G18: =B44 -> 65.6
A19: 2016M03 | B19: =IF('Rådata - forsikring'!C16<>"",'Rådata - forsikring'!D16,"") -> 63.6 | D19: {=_xlfn.IFS(B19="","",B19>0,B19/B18)} -> 1 | F19: 2018K3 | G19: =B47 -> 65.7
A20: 2016M04 | B20: =IF('Rådata - forsikring'!C17<>"",'Rådata - forsikring'!D17,"") -> 63.5 | D20: {=_xlfn.IFS(B20="","",B20>0,B20/B19)} -> 0.99842767 | F20: 2018K4 | G20: =B50 -> 66.1
A21: 2016M05 | B21: =IF('Rådata - forsikring'!C18<>"",'Rådata - forsikring'!D18,"") -> 63.5 | D21: {=_xlfn.IFS(B21="","",B21>0,B21/B20)} -> 1 | F21: 2019K1 | G21: =B53 -> 66.5
A22: 2016M06 | B22: =IF('Rådata - forsikring'!C19<>"",'Rådata - forsikring'!D19,"") -> 63.5 | D22: {=_xlfn.IFS(B22="","",B22>0,B22/B21)} -> 1 | F22: 2019K2 | G22: =B56 -> 66.7
A23: 2016M07 | B23: =IF('Rådata - forsikring'!C20<>"",'Rådata - forsikring'!D20,"") -> 63.6 | D23: {=_xlfn.IFS(B23="","",B23>0,B23/B22)} -> 1.0015748 | F23: 2019K3 | G23: =B59 -> 67.3
A24: 2016M08 | B24: =IF('Rådata - forsikring'!C21<>"",'Rådata - forsikring'!D21,"") -> 63.6 | D24: {=_xlfn.IFS(B24="","",B24>0,B24/B23)} -> 1 | F24: 2019K4 | G24: =B62 -> 68.2
A25: 2016M09 | B25: =IF('Rådata - forsikring'!C22<>"",'Rådata - forsikring'!D22,"") -> 63.6 | D25: {=_xlfn.IFS(B25="","",B25>0,B25/B24)} -> 1 | F25: 2020K1 | G25: =B65 -> 68.6
A26: 2016M10 | B26: =IF('Rådata - forsikring'!C23<>"",'Rådata - forsikring'!D23,"") -> 63.5 | D26: {=_xlfn.IFS(B26="","",B26>0,B26/B25)} -> 0.99842767 | F26: 2020K2 | G26: =B68 -> 69.5
A27: 2016M11 | B27: =IF('Rådata - forsikring'!C24<>"",'Rådata - forsikring'!D24,"") -> 63.5 | D27: {=_xlfn.IFS(B27="","",B27>0,B27/B26)} -> 1 | F27: 2020K3 | G27: =B71 -> 70.3
A28: 2016M12 | B28: =IF('Rådata - forsikring'!C25<>"",'Rådata - forsikring'!D25,"") -> 63.5 | C28: =AVERAGE(B17:B28) -> 63.55 | D28: {=_xlfn.IFS(B28="","",B28>0,B28/B27)} -> 1 | F28: 2020K4 | G28: =B74 -> 71.5
A29: 2017M01 | B29: =IF('Rådata - forsikring'!C26<>"",'Rådata - forsikring'!D26,"") -> 63.7 | D29: {=_xlfn.IFS(B29="","",B29>0,B29/B28)} -> 1.0031496 | F29: 2021K1 | G29: =B77 -> 72.3
A30: 2017M02 | B30: =IF('Rådata - forsikring'!C27<>"",'Rådata - forsikring'!D27,"") -> 63.7 | D30: {=_xlfn.IFS(B30="","",B30>0,B30/B29)} -> 1 | F30: 2021K2 | G30: =B80 -> 73.9
A31: 2017M03 | B31: =IF('Rådata - forsikring'!C28<>"",'Rådata - forsikring'!D28,"") -> 63.7 | D31: {=_xlfn.IFS(B31="","",B31>0,B31/B30)} -> 1 | F31: 2021K3 | G31: =B83 -> 74.8
A32: 2017M04 | B32: =IF('Rådata - forsikring'!C29<>"",'Rådata - forsikring'!D29,"") -> 64.1 | D32: {=_xlfn.IFS(B32="","",B32>0,B32/B31)} -> 1.0062794 | F32: 2021K4 | G32: =B86 -> 76.1
A33: 2017M05 | B33: =IF('Rådata - forsikring'!C30<>"",'Rådata - forsikring'!D30,"") -> 64.1 | D33: {=_xlfn.IFS(B33="","",B33>0,B33/B32)} -> 1 | F33: 2022K1 | G33: =B89 -> 76.6
A34: 2017M06 | B34: =IF('Rådata - forsikring'!C31<>"",'Rådata - forsikring'!D31,"") -> 64.1 | D34: {=_xlfn.IFS(B34="","",B34>0,B34/B33)} -> 1 | F34: 2022K2 | G34: =B92 -> 77.8
A35: 2017M07 | B35: =IF('Rådata - forsikring'!C32<>"",'Rådata - forsikring'!D32,"") -> 64.6 | D35: {=_xlfn.IFS(B35="","",B35>0,B35/B34)} -> 1.0078003 | F35: 2022K3 | G35: =B95 -> 78.8
A36: 2017M08 | B36: =IF('Rådata - forsikring'!C33<>"",'Rådata - forsikring'!D33,"") -> 64.6 | D36: {=_xlfn.IFS(B36="","",B36>0,B36/B35)} -> 1 | F36: 2022K4 | G36: =B98 -> 79.5
A37: 2017M09 | B37: =IF('Rådata - forsikring'!C34<>"",'Rådata - forsikring'!D34,"") -> 64.6 | D37: {=_xlfn.IFS(B37="","",B37>0,B37/B36)} -> 1 | F37: 2023K1 | G37: =B101 -> 80.1
A38: 2017M10 | B38: =IF('Rådata - forsikring'!C35<>"",'Rådata - forsikring'!D35,"") -> 65.1 | D38: {=_xlfn.IFS(B38="","",B38>0,B38/B37)} -> 1.0077399 | F38: 2023K2 | G38: =B104 -> 81.7
A39: 2017M11 | B39: =IF('Rådata - forsikring'!C36<>"",'Rådata - forsikring'!D36,"") -> 65.1 | D39: {=_xlfn.IFS(B39="","",B39>0,B39/B38)} -> 1 | F39: 2023K3 | G39: =B107 -> 82.8
A40: 2017M12 | B40: =IF('Rådata - forsikring'!C37<>"",'Rådata - forsikring'!D37,"") -> 65.1 | C40: =AVERAGE(B29:B40) -> 64.375 | D40: {=_xlfn.IFS(B40="","",B40>0,B40/B39)} -> 1 | F40: 2023K4 | G40: =B110 -> 83.8
A41: 2018M01 | B41: =IF('Rådata - forsikring'!C38<>"",'Rådata - forsikring'!D38,"") -> 65.5 | D41: {=_xlfn.IFS(B41="","",B41>0,B41/B40)} -> 1.0061444 | F41: 2024K1 | G41: =B113 -> 84.5
A42: 2018M02 | B42: =IF('Rådata - forsikring'!C39<>"",'Rådata - forsikring'!D39,"") -> 65.5 | D42: {=_xlfn.IFS(B42="","",B42>0,B42/B41)} -> 1 | F42: 2024K2 | G42: =B116 -> 86.7
A43: 2018M03 | B43: =IF('Rådata - forsikring'!C40<>"",'Rådata - forsikring'!D40,"") -> 65.5 | D43: {=_xlfn.IFS(B43="","",B43>0,B43/B42)} -> 1 | F43: 2024K3 | G43: =B119 -> 89.1
A44: 2018M04 | B44: =IF('Rådata - forsikring'!C41<>"",'Rådata - forsikring'!D41,"") -> 65.6 | D44: {=_xlfn.IFS(B44="","",B44>0,B44/B43)} -> 1.0015267 | F44: 2024K4 | G44: 145
A45: 2018M05 | B45: =IF('Rådata - forsikring'!C42<>"",'Rådata - forsikring'!D42,"") -> 65.6 | D45: {=_xlfn.IFS(B45="","",B45>0,B45/B44)} -> 1 | F45: 2025K1 | G45: 149.4
A46: 2018M06 | B46: =IF('Rådata - forsikring'!C43<>"",'Rådata - forsikring'!D43,"") -> 65.6 | D46: {=_xlfn.IFS(B46="","",B46>0,B46/B45)} -> 1 | F46: 2025K2 | G46: 154.8
A47: 2018M07 | B47: =IF('Rådata - forsikring'!C44<>"",'Rådata - forsikring'!D44,"") -> 65.7 | D47: {=_xlfn.IFS(B47="","",B47>0,B47/B46)} -> 1.0015244 | F47: 2025K3 | G47: 160.6
A48: 2018M08 | B48: =IF('Rådata - forsikring'!C45<>"",'Rådata - forsikring'!D45,"") -> 65.7 | D48: {=_xlfn.IFS(B48="","",B48>0,B48/B47)} -> 1 | F48: 2025K4
A49: 2018M09 | B49: =IF('Rådata - forsikring'!C46<>"",'Rådata - forsikring'!D46,"") -> 65.7 | D49: {=_xlfn.IFS(B49="","",B49>0,B49/B48)} -> 1
A50: 2018M10 | B50: =IF('Rådata - forsikring'!C47<>"",'Rådata - forsikring'!D47,"") -> 66.1 | D50: {=_xlfn.IFS(B50="","",B50>0,B50/B49)} -> 1.0060883
A51: 2018M11 | B51: =IF('Rådata - forsikring'!C48<>"",'Rådata - forsikring'!D48,"") -> 66.1 | D51: {=_xlfn.IFS(B51="","",B51>0,B51/B50)} -> 1
A52: 2018M12 | B52: =IF('Rådata - forsikring'!C49<>"",'Rådata - forsikring'!D49,"") -> 66.1 | C52: =AVERAGE(B41:B52) -> 65.725 | D52: {=_xlfn.IFS(B52="","",B52>0,B52/B51)} -> 1
A53: 2019M01 | B53: =IF('Rådata - forsikring'!C50<>"",'Rådata - forsikring'!D50,"") -> 66.5 | D53: {=_xlfn.IFS(B53="","",B53>0,B53/B52)} -> 1.0060514
A54: 2019M02 | B54: =IF('Rådata - forsikring'!C51<>"",'Rådata - forsikring'!D51,"") -> 66.5 | D54: {=_xlfn.IFS(B54="","",B54>0,B54/B53)} -> 1
A55: 2019M03 | B55: =IF('Rådata - forsikring'!C52<>"",'Rådata - forsikring'!D52,"") -> 66.5 | D55: {=_xlfn.IFS(B55="","",B55>0,B55/B54)} -> 1
A56: 2019M04 | B56: =IF('Rådata - forsikring'!C53<>"",'Rådata - forsikring'!D53,"") -> 66.7 | D56: {=_xlfn.IFS(B56="","",B56>0,B56/B55)} -> 1.0030075
A57: 2019M05 | B57: =IF('Rådata - forsikring'!C54<>"",'Rådata - forsikring'!D54,"") -> 66.7 | D57: {=_xlfn.IFS(B57="","",B57>0,B57/B56)} -> 1
A58: 2019M06 | B58: =IF('Rådata - forsikring'!C55<>"",'Rådata - forsikring'!D55,"") -> 66.7 | D58: {=_xlfn.IFS(B58="","",B58>0,B58/B57)} -> 1
A59: 2019M07 | B59: =IF('Rådata - forsikring'!C56<>"",'Rådata - forsikring'!D56,"") -> 67.3 | D59: {=_xlfn.IFS(B59="","",B59>0,B59/B58)} -> 1.0089955
A60: 2019M08 | B60: =IF('Rådata - forsikring'!C57<>"",'Rådata - forsikring'!D57,"") -> 67.3 | D60: {=_xlfn.IFS(B60="","",B60>0,B60/B59)} -> 1
A61: 2019M09 | B61: =IF('Rådata - forsikring'!C58<>"",'Rådata - forsikring'!D58,"") -> 67.3 | D61: {=_xlfn.IFS(B61="","",B61>0,B61/B60)} -> 1
A62: 2019M10 | B62: =IF('Rådata - forsikring'!C59<>"",'Rådata - forsikring'!D59,"") -> 68.2 | D62: {=_xlfn.IFS(B62="","",B62>0,B62/B61)} -> 1.013373
A63: 2019M11 | B63: =IF('Rådata - forsikring'!C60<>"",'Rådata - forsikring'!D60,"") -> 68.2 | D63: {=_xlfn.IFS(B63="","",B63>0,B63/B62)} -> 1
A64: 2019M12 | B64: =IF('Rådata - forsikring'!C61<>"",'Rådata - forsikring'!D61,"") -> 68.2 | C64: =AVERAGE(B53:B64) -> 67.175 | D64: {=_xlfn.IFS(B64="","",B64>0,B64/B63)} -> 1
A65: 2020M01 | B65: =IF('Rådata - forsikring'!C62<>"",'Rådata - forsikring'!D62,"") -> 68.6 | D65: {=_xlfn.IFS(B65="","",B65>0,B65/B64)} -> 1.0058651
A66: 2020M02 | B66: =IF('Rådata - forsikring'!C63<>"",'Rådata - forsikring'!D63,"") -> 68.6 | D66: {=_xlfn.IFS(B66="","",B66>0,B66/B65)} -> 1
A67: 2020M03 | B67: =IF('Rådata - forsikring'!C64<>"",'Rådata - forsikring'!D64,"") -> 68.6 | D67: {=_xlfn.IFS(B67="","",B67>0,B67/B66)} -> 1
A68: 2020M04 | B68: =IF('Rådata - forsikring'!C65<>"",'Rådata - forsikring'!D65,"") -> 69.5 | D68: {=_xlfn.IFS(B68="","",B68>0,B68/B67)} -> 1.0131195
A69: 2020M05 | B69: =IF('Rådata - forsikring'!C66<>"",'Rådata - forsikring'!D66,"") -> 69.5 | D69: {=_xlfn.IFS(B69="","",B69>0,B69/B68)} -> 1
A70: 2020M06 | B70: =IF('Rådata - forsikring'!C67<>"",'Rådata - forsikring'!D67,"") -> 69.5 | D70: {=_xlfn.IFS(B70="","",B70>0,B70/B69)} -> 1
A71: 2020M07 | B71: =IF('Rådata - forsikring'!C68<>"",'Rådata - forsikring'!D68,"") -> 70.3 | D71: {=_xlfn.IFS(B71="","",B71>0,B71/B70)} -> 1.0115108
A72: 2020M08 | B72: =IF('Rådata - forsikring'!C69<>"",'Rådata - forsikring'!D69,"") -> 70.3 | D72: {=_xlfn.IFS(B72="","",B72>0,B72/B71)} -> 1
A73: 2020M09 | B73: =IF('Rådata - forsikring'!C70<>"",'Rådata - forsikring'!D70,"") -> 70.3 | D73: {=_xlfn.IFS(B73="","",B73>0,B73/B72)} -> 1
A74: 2020M10 | B74: =IF('Rådata - forsikring'!C71<>"",'Rådata - forsikring'!D71,"") -> 71.5 | D74: {=_xlfn.IFS(B74="","",B74>0,B74/B73)} -> 1.0170697
A75: 2020M11 | B75: =IF('Rådata - forsikring'!C72<>"",'Rådata - forsikring'!D72,"") -> 71.5 | D75: {=_xlfn.IFS(B75="","",B75>0,B75/B74)} -> 1
A76: 2020M12 | B76: =IF('Rådata - forsikring'!C73<>"",'Rådata - forsikring'!D73,"") -> 71.5 | C76: =AVERAGE(B65:B76) -> 69.975 | D76: {=_xlfn.IFS(B76="","",B76>0,B76/B75)} -> 1
A77: 2021M01 | B77: =IF('Rådata - forsikring'!C74<>"",'Rådata - forsikring'!D74,"") -> 72.3 | D77: {=_xlfn.IFS(B77="","",B77>0,B77/B76)} -> 1.0111888
A78: 2021M02 | B78: =IF('Rådata - forsikring'!C75<>"",'Rådata - forsikring'!D75,"") -> 72.3 | D78: {=_xlfn.IFS(B78="","",B78>0,B78/B77)} -> 1
A79: 2021M03 | B79: =IF('Rådata - forsikring'!C76<>"",'Rådata - forsikring'!D76,"") -> 72.3 | D79: {=_xlfn.IFS(B79="","",B79>0,B79/B78)} -> 1
A80: 2021M04 | B80: =IF('Rådata - forsikring'!C77<>"",'Rådata - forsikring'!D77,"") -> 73.9 | D80: {=_xlfn.IFS(B80="","",B80>0,B80/B79)} -> 1.02213
A81: 2021M05 | B81: =IF('Rådata - forsikring'!C78<>"",'Rådata - forsikring'!D78,"") -> 73.9 | D81: {=_xlfn.IFS(B81="","",B81>0,B81/B80)} -> 1
A82: 2021M06 | B82: =IF('Rådata - forsikring'!C79<>"",'Rådata - forsikring'!D79,"") -> 73.9 | D82: {=_xlfn.IFS(B82="","",B82>0,B82/B81)} -> 1
A83: 2021M07 | B83: =IF('Rådata - forsikring'!C80<>"",'Rådata - forsikring'!D80,"") -> 74.8 | D83: {=_xlfn.IFS(B83="","",B83>0,B83/B82)} -> 1.0121786
A84: 2021M08 | B84: =IF('Rådata - forsikring'!C81<>"",'Rådata - forsikring'!D81,"") -> 74.8 | D84: {=_xlfn.IFS(B84="","",B84>0,B84/B83)} -> 1
A85: 2021M09 | B85: =IF('Rådata - forsikring'!C82<>"",'Rådata - forsikring'!D82,"") -> 74.8 | D85: {=_xlfn.IFS(B85="","",B85>0,B85/B84)} -> 1
A86: 2021M10 | B86: =IF('Rådata - forsikring'!C83<>"",'Rådata - forsikring'!D83,"") -> 76.1 | D86: {=_xlfn.IFS(B86="","",B86>0,B86/B85)} -> 1.0173797
A87: 2021M11 | B87: =IF('Rådata - forsikring'!C84<>"",'Rådata - forsikring'!D84,"") -> 76.1 | D87: {=_xlfn.IFS(B87="","",B87>0,B87/B86)} -> 1
A88: 2021M12 | B88: =IF('Rådata - forsikring'!C85<>"",'Rådata - forsikring'!D85,"") -> 76.1 | C88: =AVERAGE(B77:B88) -> 74.275 | D88: {=_xlfn.IFS(B88="","",B88>0,B88/B87)} -> 1
A89: 2022M01 | B89: =IF('Rådata - forsikring'!C86<>"",'Rådata - forsikring'!D86,"") -> 76.6 | D89: {=_xlfn.IFS(B89="","",B89>0,B89/B88)} -> 1.0065703
A90: 2022M02 | B90: =IF('Rådata - forsikring'!C87<>"",'Rådata - forsikring'!D87,"") -> 76.6 | D90: {=_xlfn.IFS(B90="","",B90>0,B90/B89)} -> 1
A91: 2022M03 | B91: =IF('Rådata - forsikring'!C88<>"",'Rådata - forsikring'!D88,"") -> 76.6 | D91: {=_xlfn.IFS(B91="","",B91>0,B91/B90)} -> 1
A92: 2022M04 | B92: =IF('Rådata - forsikring'!C89<>"",'Rådata - forsikring'!D89,"") -> 77.8 | D92: {=_xlfn.IFS(B92="","",B92>0,B92/B91)} -> 1.0156658
A93: 2022M05 | B93: =IF('Rådata - forsikring'!C90<>"",'Rådata - forsikring'!D90,"") -> 77.8 | D93: {=_xlfn.IFS(B93="","",B93>0,B93/B92)} -> 1
A94: 2022M06 | B94: =IF('Rådata - forsikring'!C91<>"",'Rådata - forsikring'!D91,"") -> 77.8 | D94: {=_xlfn.IFS(B94="","",B94>0,B94/B93)} -> 1
A95: 2022M07 | B95: =IF('Rådata - forsikring'!C92<>"",'Rådata - forsikring'!D92,"") -> 78.8 | D95: {=_xlfn.IFS(B95="","",B95>0,B95/B94)} -> 1.0128535
A96: 2022M08 | B96: =IF('Rådata - forsikring'!C93<>"",'Rådata - forsikring'!D93,"") -> 78.8 | D96: {=_xlfn.IFS(B96="","",B96>0,B96/B95)} -> 1
A97: 2022M09 | B97: =IF('Rådata - forsikring'!C94<>"",'Rådata - forsikring'!D94,"") -> 78.8 | D97: {=_xlfn.IFS(B97="","",B97>0,B97/B96)} -> 1
A98: 2022M10 | B98: =IF('Rådata - forsikring'!C95<>"",'Rådata - forsikring'!D95,"") -> 79.5 | D98: {=_xlfn.IFS(B98="","",B98>0,B98/B97)} -> 1.0088832
A99: 2022M11 | B99: =IF('Rådata - forsikring'!C96<>"",'Rådata - forsikring'!D96,"") -> 79.5 | D99: {=_xlfn.IFS(B99="","",B99>0,B99/B98)} -> 1
A100: 2022M12 | B100: =IF('Rådata - forsikring'!C97<>"",'Rådata - forsikring'!D97,"") -> 79.5 | C100: =AVERAGE(B89:B100) -> 78.175 | D100: {=_xlfn.IFS(B100="","",B100>0,B100/B99)} -> 1
...

Sheet Administrasjon
A1: 03013: Konsumprisindeks, etter måned, statistikkvariabel og konsumgruppe
A2: 03013: Konsumprisindeks, etter konsumgruppe, måned og statistikkvariabel. Statistikkbanken (ssb.no)
B3: KPI totalindeks (2015=100)
A4: Måned | B4: 2015=100 | D4: Prisrelativer | G4: År | H4: 2015 | I4: 2016 | J4: 2017 | K4: 2018 | L4: 2019 | M4: 2020 | N4: 2021 | O4: 2022 | P4: 2023 | Q4: 2024 | R4: 2025
A5: 2015M01 | B5: =IF('Rådata - Administrasjon'!B2<>"",'Rådata - Administrasjon'!C2,"") -> 71.6 | D5: =B5/B5 -> 1 | G5: Administrasjon, årlig gjennomsnitt (%) | H5: 100 | I5: 103.55 | J5: 105.49167 | K5: 108.40833 | L5: 110.75833 | M5: 112.18333 | N5: 116.09167 | O5: 122.78333 | P5: =C112 -> 93.909091 | Q5: =C124 -> 97.05
A6: 2015M02 | B6: =IF('Rådata - Administrasjon'!B3<>"",'Rådata - Administrasjon'!C3,"") -> 71.8 | D6: {=_xlfn.IFS(B6="","",B6>0,B6/B5)} -> 1.0027933 | G6: Prisrelativer [(Pt/Pt-1)] | I6: =I5/H5 -> 1.0355 | J6: =J5/I5 -> 1.018751 | K6: =K5/J5 -> 1.0276483 | L6: =L5/K5 -> 1.0216773 | M6: =M5/L5 -> 1.0128658 | N6: =N5/M5 -> 1.0348388 | O6: =O5/N5 -> 1.0576412 | P6: =P5/O5 -> 0.76483582 | Q6: =Q5/P5 -> 1.0334463
A7: 2015M03 | B7: =IF('Rådata - Administrasjon'!B4<>"",'Rådata - Administrasjon'!C4,"") -> 72 | D7: {=_xlfn.IFS(B7="","",B7>0,B7/B6)} -> 1.0027855
A8: 2015M04 | B8: =IF('Rådata - Administrasjon'!B5<>"",'Rådata - Administrasjon'!C5,"") -> 72.3 | D8: {=_xlfn.IFS(B8="","",B8>0,B8/B7)} -> 1.0041667 | G8: Gjennomsnittlig endring i observert periode
A9: 2015M05 | B9: =IF('Rådata - Administrasjon'!B6<>"",'Rådata - Administrasjon'!C6,"") -> 72.5 | D9: {=_xlfn.IFS(B9="","",B9>0,B9/B8)} -> 1.0027663 | G9: Periode | I9: Verdi
A10: 2015M06 | B10: =IF('Rådata - Administrasjon'!B7<>"",'Rådata - Administrasjon'!C7,"") -> 72.7 | D10: {=_xlfn.IFS(B10="","",B10>0,B10/B9)} -> 1.0027586 | G10: Januar 2015 - juli 2025 | I10: =EXP(LN(1+(B131/B5-1))/((COUNT(B5:B131))-1))-1 -> 0.0027183172
A11: 2015M07 | B11: =IF('Rådata - Administrasjon'!B8<>"",'Rådata - Administrasjon'!C8,"") -> 72.7 | D11: {=_xlfn.IFS(B11="","",B11>0,B11/B10)} -> 1
A12: 2015M08 | B12: =IF('Rådata - Administrasjon'!B9<>"",'Rådata - Administrasjon'!C9,"") -> 72.5 | D12: {=_xlfn.IFS(B12="","",B12>0,B12/B11)} -> 0.99724897
A13: 2015M09 | B13: =IF('Rådata - Administrasjon'!B10<>"",'Rådata - Administrasjon'!C10,"") -> 73 | D13: {=_xlfn.IFS(B13="","",B13>0,B13/B12)} -> 1.0068966
A14: 2015M10 | B14: =IF('Rådata - Administrasjon'!B11<>"",'Rådata - Administrasjon'!C11,"") -> 73.3 | D14: {=_xlfn.IFS(B14="","",B14>0,B14/B13)} -> 1.0041096
A15: 2015M11 | B15: =IF('Rådata - Administrasjon'!B12<>"",'Rådata - Administrasjon'!C12,"") -> 73.6 | D15: {=_xlfn.IFS(B15="","",B15>0,B15/B14)} -> 1.0040928
A16: 2015M12 | B16: =IF('Rådata - Administrasjon'!B13<>"",'Rådata - Administrasjon'!C13,"") -> 73.3 | C16: =AVERAGE(B5:B16) -> 72.608333 | D16: {=_xlfn.IFS(B16="","",B16>0,B16/B15)} -> 0.99592391
A17: 2016M01 | B17: =IF('Rådata - Administrasjon'!B14<>"",'Rådata - Administrasjon'!C14,"") -> 73.7 | D17: {=_xlfn.IFS(B17="","",B17>0,B17/B16)} -> 1.005457
A18: 2016M02 | B18: =IF('Rådata - Administrasjon'!B15<>"",'Rådata - Administrasjon'!C15,"") -> 74.1 | D18: {=_xlfn.IFS(B18="","",B18>0,B18/B17)} -> 1.0054274
A19: 2016M03 | B19: =IF('Rådata - Administrasjon'!B16<>"",'Rådata - Administrasjon'!C16,"") -> 74.4 | D19: {=_xlfn.IFS(B19="","",B19>0,B19/B18)} -> 1.0040486
A20: 2016M04 | B20: =IF('Rådata - Administrasjon'!B17<>"",'Rådata - Administrasjon'!C17,"") -> 74.7 | D20: {=_xlfn.IFS(B20="","",B20>0,B20/B19)} -> 1.0040323
A21: 2016M05 | B21: =IF('Rådata - Administrasjon'!B18<>"",'Rådata - Administrasjon'!C18,"") -> 74.9 | D21: {=_xlfn.IFS(B21="","",B21>0,B21/B20)} -> 1.0026774
A22: 2016M06 | B22: =IF('Rådata - Administrasjon'!B19<>"",'Rådata - Administrasjon'!C19,"") -> 75.4 | D22: {=_xlfn.IFS(B22="","",B22>0,B22/B21)} -> 1.0066756
A23: 2016M07 | B23: =IF('Rådata - Administrasjon'!B20<>"",'Rådata - Administrasjon'!C20,"") -> 75.9 | D23: {=_xlfn.IFS(B23="","",B23>0,B23/B22)} -> 1.0066313
A24: 2016M08 | B24: =IF('Rådata - Administrasjon'!B21<>"",'Rådata - Administrasjon'!C21,"") -> 75.4 | D24: {=_xlfn.IFS(B24="","",B24>0,B24/B23)} -> 0.99341238
A25: 2016M09 | B25: =IF('Rådata - Administrasjon'!B22<>"",'Rådata - Administrasjon'!C22,"") -> 75.7 | D25: {=_xlfn.IFS(B25="","",B25>0,B25/B24)} -> 1.0039788
A26: 2016M10 | B26: =IF('Rådata - Administrasjon'!B23<>"",'Rådata - Administrasjon'!C23,"") -> 76 | D26: {=_xlfn.IFS(B26="","",B26>0,B26/B25)} -> 1.003963
A27: 2016M11 | B27: =IF('Rådata - Administrasjon'!B24<>"",'Rådata - Administrasjon'!C24,"") -> 76.2 | D27: {=_xlfn.IFS(B27="","",B27>0,B27/B26)} -> 1.0026316
A28: 2016M12 | B28: =IF('Rådata - Administrasjon'!B25<>"",'Rådata - Administrasjon'!C25,"") -> 75.8 | C28: =AVERAGE(B17:B28) -> 75.183333 | D28: {=_xlfn.IFS(B28="","",B28>0,B28/B27)} -> 0.99475066
A29: 2017M01 | B29: =IF('Rådata - Administrasjon'!B26<>"",'Rådata - Administrasjon'!C26,"") -> 75.7 | D29: {=_xlfn.IFS(B29="","",B29>0,B29/B28)} -> 0.99868074
A30: 2017M02 | B30: =IF('Rådata - Administrasjon'!B27<>"",'Rådata - Administrasjon'!C27,"") -> 76 | D30: {=_xlfn.IFS(B30="","",B30>0,B30/B29)} -> 1.003963
A31: 2017M03 | B31: =IF('Rådata - Administrasjon'!B28<>"",'Rådata - Administrasjon'!C28,"") -> 76.3 | D31: {=_xlfn.IFS(B31="","",B31>0,B31/B30)} -> 1.0039474
A32: 2017M04 | B32: =IF('Rådata - Administrasjon'!B29<>"",'Rådata - Administrasjon'!C29,"") -> 76.4 | D32: {=_xlfn.IFS(B32="","",B32>0,B32/B31)} -> 1.0013106
A33: 2017M05 | B33: =IF('Rådata - Administrasjon'!B30<>"",'Rådata - Administrasjon'!C30,"") -> 76.6 | D33: {=_xlfn.IFS(B33="","",B33>0,B33/B32)} -> 1.0026178
A34: 2017M06 | B34: =IF('Rådata - Administrasjon'!B31<>"",'Rådata - Administrasjon'!C31,"") -> 76.9 | D34: {=_xlfn.IFS(B34="","",B34>0,B34/B33)} -> 1.0039164
A35: 2017M07 | B35: =IF('Rådata - Administrasjon'!B32<>"",'Rådata - Administrasjon'!C32,"") -> 77.1 | D35: {=_xlfn.IFS(B35="","",B35>0,B35/B34)} -> 1.0026008
A36: 2017M08 | B36: =IF('Rådata - Administrasjon'!B33<>"",'Rådata - Administrasjon'!C33,"") -> 76.5 | D36: {=_xlfn.IFS(B36="","",B36>0,B36/B35)} -> 0.9922179
A37: 2017M09 | B37: =IF('Rådata - Administrasjon'!B34<>"",'Rådata - Administrasjon'!C34,"") -> 76.9 | D37: {=_xlfn.IFS(B37="","",B37>0,B37/B36)} -> 1.0052288
A38: 2017M10 | B38: =IF('Rådata - Administrasjon'!B35<>"",'Rådata - Administrasjon'!C35,"") -> 76.9 | D38: {=_xlfn.IFS(B38="","",B38>0,B38/B37)} -> 1
A39: 2017M11 | B39: =IF('Rådata - Administrasjon'!B36<>"",'Rådata - Administrasjon'!C36,"") -> 77 | D39: {=_xlfn.IFS(B39="","",B39>0,B39/B38)} -> 1.0013004
A40: 2017M12 | B40: =IF('Rådata - Administrasjon'!B37<>"",'Rådata - Administrasjon'!C37,"") -> 77.1 | C40: =AVERAGE(B29:B40) -> 76.616667 | D40: {=_xlfn.IFS(B40="","",B40>0,B40/B39)} -> 1.0012987
A41: 2018M01 | B41: =IF('Rådata - Administrasjon'!B38<>"",'Rådata - Administrasjon'!C38,"") -> 77 | D41: {=_xlfn.IFS(B41="","",B41>0,B41/B40)} -> 0.99870298
A42: 2018M02 | B42: =IF('Rådata - Administrasjon'!B39<>"",'Rådata - Administrasjon'!C39,"") -> 77.7 | D42: {=_xlfn.IFS(B42="","",B42>0,B42/B41)} -> 1.0090909
A43: 2018M03 | B43: =IF('Rådata - Administrasjon'!B40<>"",'Rådata - Administrasjon'!C40,"") -> 77.9 | D43: {=_xlfn.IFS(B43="","",B43>0,B43/B42)} -> 1.002574
A44: 2018M04 | B44: =IF('Rådata - Administrasjon'!B41<>"",'Rådata - Administrasjon'!C41,"") -> 78.2 | D44: {=_xlfn.IFS(B44="","",B44>0,B44/B43)} -> 1.0038511
A45: 2018M05 | B45: =IF('Rådata - Administrasjon'!B42<>"",'Rådata - Administrasjon'!C42,"") -> 78.2 | D45: {=_xlfn.IFS(B45="","",B45>0,B45/B44)} -> 1
A46: 2018M06 | B46: =IF('Rådata - Administrasjon'!B43<>"",'Rådata - Administrasjon'!C43,"") -> 78.8 | D46: {=_xlfn.IFS(B46="","",B46>0,B46/B45)} -> 1.0076726
A47: 2018M07 | B47: =IF('Rådata - Administrasjon'!B44<>"",'Rådata - Administrasjon'!C44,"") -> 79.4 | D47: {=_xlfn.IFS(B47="","",B47>0,B47/B46)} -> 1.0076142
A48: 2018M08 | B48: =IF('Rådata - Administrasjon'!B45<>"",'Rådata - Administrasjon'!C45,"") -> 79.1 | D48: {=_xlfn.IFS(B48="","",B48>0,B48/B47)} -> 0.99622166
A49: 2018M09 | B49: =IF('Rådata - Administrasjon'!B46<>"",'Rådata - Administrasjon'!C46,"") -> 79.5 | D49: {=_xlfn.IFS(B49="","",B49>0,B49/B48)} -> 1.0050569
A50: 2018M10 | B50: =IF('Rådata - Administrasjon'!B47<>"",'Rådata - Administrasjon'!C47,"") -> 79.4 | D50: {=_xlfn.IFS(B50="","",B50>0,B50/B49)} -> 0.99874214
A51: 2018M11 | B51: =IF('Rådata - Administrasjon'!B48<>"",'Rådata - Administrasjon'!C48,"") -> 79.7 | D51: {=_xlfn.IFS(B51="","",B51>0,B51/B50)} -> 1.0037783
A52: 2018M12 | B52: =IF('Rådata - Administrasjon'!B49<>"",'Rådata - Administrasjon'!C49,"") -> 79.7 | C52: =AVERAGE(B41:B52) -> 78.716667 | D52: {=_xlfn.IFS(B52="","",B52>0,B52/B51)} -> 1
A53: 2019M01 | B53: =IF('Rådata - Administrasjon'!B50<>"",'Rådata - Administrasjon'!C50,"") -> 79.4 | D53: {=_xlfn.IFS(B53="","",B53>0,B53/B52)} -> 0.99623588
A54: 2019M02 | B54: =IF('Rådata - Administrasjon'!B51<>"",'Rådata - Administrasjon'!C51,"") -> 80 | D54: {=_xlfn.IFS(B54="","",B54>0,B54/B53)} -> 1.0075567
A55: 2019M03 | B55: =IF('Rådata - Administrasjon'!B52<>"",'Rådata - Administrasjon'!C52,"") -> 80.1 | D55: {=_xlfn.IFS(B55="","",B55>0,B55/B54)} -> 1.00125
A56: 2019M04 | B56: =IF('Rådata - Administrasjon'!B53<>"",'Rådata - Administrasjon'!C53,"") -> 80.5 | D56: {=_xlfn.IFS(B56="","",B56>0,B56/B55)} -> 1.0049938
A57: 2019M05 | B57: =IF('Rådata - Administrasjon'!B54<>"",'Rådata - Administrasjon'!C54,"") -> 80.3 | D57: {=_xlfn.IFS(B57="","",B57>0,B57/B56)} -> 0.99751553
A58: 2019M06 | B58: =IF('Rådata - Administrasjon'!B55<>"",'Rådata - Administrasjon'!C55,"") -> 80.3 | D58: {=_xlfn.IFS(B58="","",B58>0,B58/B57)} -> 1
A59: 2019M07 | B59: =IF('Rådata - Administrasjon'!B56<>"",'Rådata - Administrasjon'!C56,"") -> 80.9 | D59: {=_xlfn.IFS(B59="","",B59>0,B59/B58)} -> 1.007472
A60: 2019M08 | B60: =IF('Rådata - Administrasjon'!B57<>"",'Rådata - Administrasjon'!C57,"") -> 80.3 | D60: {=_xlfn.IFS(B60="","",B60>0,B60/B59)} -> 0.99258344
A61: 2019M09 | B61: =IF('Rådata - Administrasjon'!B58<>"",'Rådata - Administrasjon'!C58,"") -> 80.7 | D61: {=_xlfn.IFS(B61="","",B61>0,B61/B60)} -> 1.0049813
A62: 2019M10 | B62: =IF('Rådata - Administrasjon'!B59<>"",'Rådata - Administrasjon'!C59,"") -> 80.8 | D62: {=_xlfn.IFS(B62="","",B62>0,B62/B61)} -> 1.0012392
A63: 2019M11 | B63: =IF('Rådata - Administrasjon'!B60<>"",'Rådata - Administrasjon'!C60,"") -> 81 | D63: {=_xlfn.IFS(B63="","",B63>0,B63/B62)} -> 1.0024752
A64: 2019M12 | B64: =IF('Rådata - Administrasjon'!B61<>"",'Rådata - Administrasjon'!C61,"") -> 80.8 | C64: =AVERAGE(B53:B64) -> 80.425 | D64: {=_xlfn.IFS(B64="","",B64>0,B64/B63)} -> 0.99753086
A65: 2020M01 | B65: =IF('Rådata - Administrasjon'!B62<>"",'Rådata - Administrasjon'!C62,"") -> 80.8 | D65: {=_xlfn.IFS(B65="","",B65>0,B65/B64)} -> 1
A66: 2020M02 | B66: =IF('Rådata - Administrasjon'!B63<>"",'Rådata - Administrasjon'!C63,"") -> 80.8 | D66: {=_xlfn.IFS(B66="","",B66>0,B66/B65)} -> 1
A67: 2020M03 | B67: =IF('Rådata - Administrasjon'!B64<>"",'Rådata - Administrasjon'!C64,"") -> 80.8 | D67: {=_xlfn.IFS(B67="","",B67>0,B67/B66)} -> 1
A68: 2020M04 | B68: =IF('Rådata - Administrasjon'!B65<>"",'Rådata - Administrasjon'!C65,"") -> 81.1 | D68: {=_xlfn.IFS(B68="","",B68>0,B68/B67)} -> 1.0037129
A69: 2020M05 | B69: =IF('Rådata - Administrasjon'!B66<>"",'Rådata - Administrasjon'!C66,"") -> 81.2 | D69: {=_xlfn.IFS(B69="","",B69>0,B69/B68)} -> 1.001233
A70: 2020M06 | B70: =IF('Rådata - Administrasjon'!B67<>"",'Rådata - Administrasjon'!C67,"") -> 81.4 | D70: {=_xlfn.IFS(B70="","",B70>0,B70/B69)} -> 1.0024631
A71: 2020M07 | B71: =IF('Rådata - Administrasjon'!B68<>"",'Rådata - Administrasjon'!C68,"") -> 82 | D71: {=_xlfn.IFS(B71="","",B71>0,B71/B70)} -> 1.007371
A72: 2020M08 | B72: =IF('Rådata - Administrasjon'!B69<>"",'Rådata - Administrasjon'!C69,"") -> 81.7 | D72: {=_xlfn.IFS(B72="","",B72>0,B72/B71)} -> 0.99634146
A73: 2020M09 | B73: =IF('Rådata - Administrasjon'!B70<>"",'Rådata - Administrasjon'!C70,"") -> 82 | D73: {=_xlfn.IFS(B73="","",B73>0,B73/B72)} -> 1.003672
A74: 2020M10 | B74: =IF('Rådata - Administrasjon'!B71<>"",'Rådata - Administrasjon'!C71,"") -> 82.2 | D74: {=_xlfn.IFS(B74="","",B74>0,B74/B73)} -> 1.002439
A75: 2020M11 | B75: =IF('Rådata - Administrasjon'!B72<>"",'Rådata - Administrasjon'!C72,"") -> 81.6 | D75: {=_xlfn.IFS(B75="","",B75>0,B75/B74)} -> 0.99270073
A76: 2020M12 | B76: =IF('Rådata - Administrasjon'!B73<>"",'Rådata - Administrasjon'!C73,"") -> 82 | C76: =AVERAGE(B65:B76) -> 81.466667 | D76: {=_xlfn.IFS(B76="","",B76>0,B76/B75)} -> 1.004902
A77: 2021M01 | B77: =IF('Rådata - Administrasjon'!B74<>"",'Rådata - Administrasjon'!C74,"") -> 82.8 | D77: {=_xlfn.IFS(B77="","",B77>0,B77/B76)} -> 1.0097561
A78: 2021M02 | B78: =IF('Rådata - Administrasjon'!B75<>"",'Rådata - Administrasjon'!C75,"") -> 83.4 | D78: {=_xlfn.IFS(B78="","",B78>0,B78/B77)} -> 1.0072464
A79: 2021M03 | B79: =IF('Rådata - Administrasjon'!B76<>"",'Rådata - Administrasjon'!C76,"") -> 83.2 | D79: {=_xlfn.IFS(B79="","",B79>0,B79/B78)} -> 0.99760192
A80: 2021M04 | B80: =IF('Rådata - Administrasjon'!B77<>"",'Rådata - Administrasjon'!C77,"") -> 83.5 | D80: {=_xlfn.IFS(B80="","",B80>0,B80/B79)} -> 1.0036058
A81: 2021M05 | B81: =IF('Rådata - Administrasjon'!B78<>"",'Rådata - Administrasjon'!C78,"") -> 83.4 | D81: {=_xlfn.IFS(B81="","",B81>0,B81/B80)} -> 0.9988024
A82: 2021M06 | B82: =IF('Rådata - Administrasjon'!B79<>"",'Rådata - Administrasjon'!C79,"") -> 83.7 | D82: {=_xlfn.IFS(B82="","",B82>0,B82/B81)} -> 1.0035971
A83: 2021M07 | B83: =IF('Rådata - Administrasjon'!B80<>"",'Rådata - Administrasjon'!C80,"") -> 84.5 | D83: {=_xlfn.IFS(B83="","",B83>0,B83/B82)} -> 1.0095579
A84: 2021M08 | B84: =IF('Rådata - Administrasjon'!B81<>"",'Rådata - Administrasjon'!C81,"") -> 84.4 | D84: {=_xlfn.IFS(B84="","",B84>0,B84/B83)} -> 0.99881657
A85: 2021M09 | B85: =IF('Rådata - Administrasjon'!B82<>"",'Rådata - Administrasjon'!C82,"") -> 85.4 | D85: {=_xlfn.IFS(B85="","",B85>0,B85/B84)} -> 1.0118483
A86: 2021M10 | B86: =IF('Rådata - Administrasjon'!B83<>"",'Rådata - Administrasjon'!C83,"") -> 85.1 | D86: {=_xlfn.IFS(B86="","",B86>0,B86/B85)} -> 0.99648712
A87: 2021M11 | B87: =IF('Rådata - Administrasjon'!B84<>"",'Rådata - Administrasjon'!C84,"") -> 85.8 | D87: {=_xlfn.IFS(B87="","",B87>0,B87/B86)} -> 1.0082256
A88: 2021M12 | B88: =IF('Rådata - Administrasjon'!B85<>"",'Rådata - Administrasjon'!C85,"") -> 86.3 | C88: =AVERAGE(B77:B88) -> 84.291667 | D88: {=_xlfn.IFS(B88="","",B88>0,B88/B87)} -> 1.0058275
A89: 2022M01 | B89: =IF('Rådata - Administrasjon'!B86<>"",'Rådata - Administrasjon'!C86,"") -> 85.5 | D89: {=_xlfn.IFS(B89="","",B89>0,B89/B88)} -> 0.99073001
A90: 2022M02 | B90: =IF('Rådata - Administrasjon'!B87<>"",'Rådata - Administrasjon'!C87,"") -> 86.5 | D90: {=_xlfn.IFS(B90="","",B90>0,B90/B89)} -> 1.0116959
A91: 2022M03 | B91: =IF('Rådata - Administrasjon'!B88<>"",'Rådata - Administrasjon'!C88,"") -> 87 | D91: {=_xlfn.IFS(B91="","",B91>0,B91/B90)} -> 1.0057803
A92: 2022M04 | B92: =IF('Rådata - Administrasjon'!B89<>"",'Rådata - Administrasjon'!C89,"") -> 88 | D92: {=_xlfn.IFS(B92="","",B92>0,B92/B91)} -> 1.0114943
A93: 2022M05 | B93: =IF('Rådata - Administrasjon'!B90<>"",'Rådata - Administrasjon'!C90,"") -> 88.3 | D93: {=_xlfn.IFS(B93="","",B93>0,B93/B92)} -> 1.0034091
A94: 2022M06 | B94: =IF('Rådata - Administrasjon'!B91<>"",'Rådata - Administrasjon'!C91,"") -> 89 | D94: {=_xlfn.IFS(B94="","",B94>0,B94/B93)} -> 1.0079275
A95: 2022M07 | B95: =IF('Rådata - Administrasjon'!B92<>"",'Rådata - Administrasjon'!C92,"") -> 90.2 | D95: {=_xlfn.IFS(B95="","",B95>0,B95/B94)} -> 1.0134831
A96: 2022M08 | B96: =IF('Rådata - Administrasjon'!B93<>"",'Rådata - Administrasjon'!C93,"") -> 89.9 | D96: {=_xlfn.IFS(B96="","",B96>0,B96/B95)} -> 0.99667406
A97: 2022M09 | B97: =IF('Rådata - Administrasjon'!B94<>"",'Rådata - Administrasjon'!C94,"") -> 91.2 | D97: {=_xlfn.IFS(B97="","",B97>0,B97/B96)} -> 1.0144605
A98: 2022M10 | B98: =IF('Rådata - Administrasjon'!B95<>"",'Rådata - Administrasjon'!C95,"") -> 91.5 | D98: {=_xlfn.IFS(B98="","",B98>0,B98/B97)} -> 1.0032895
A99: 2022M11 | B99: =IF('Rådata - Administrasjon'!B96<>"",'Rådata - Administrasjon'!C96,"") -> 91.4 | D99: {=_xlfn.IFS(B99="","",B99>0,B99/B98)} -> 0.9989071
A100: 2022M12 | B100: =IF('Rådata - Administrasjon'!B97<>"",'Rådata - Administrasjon'!C97,"") -> 91.4 | C100: =AVERAGE(B89:B100) -> 89.158333 | D100: {=_xlfn.IFS(B100="","",B100>0,B100/B99)} -> 1
...

Sheet Vektfordelig
B3: Vektfordeling etter drivlinje
B4: Drivstoff type | C4: Antall løyver | D4: Total bilkost | F4: Kostnadsgruppevekter for en gjennomsnitligbil etter drivlinje
B5: Bensin&Hybrid | C5: 0.22237601 | D5: 0.37467036 | F5: Kostnadsgrupper | G5: Drivstofftype
B6: Diesel | C6: 0.74532872 | D6: 0.41776735 | G6: Diesel | H6: Bensi&hybrid | I6: El
B7: El | C7: 0.032295271 | D7: 0.20756228 | F7: Lønnskostnader | G7: 0.45387866 | H7: 0.46126398 | I7: 0.446
B8: Sum | C8: 1 | D8: 1 | F8: Kapital kostnader | G8: 0.12620249 | H8: 0.11928217 | I8: 0.18094885
F9: Drivstoffkostnader pr bil | G9: 0.073322602 | H9: 0.070459515 | I9: 0.025700421
F10: Rep&vedlikeholdskostnader pr bil | G10: 0.084782372 | H10: 0.064885942 | I10: 0.066639891
F11: Forsikringskostnader pr bil | G11: 0.070227097 | H11: 0.068034634 | I11: 0.047933129
B12: Vektfordeling mellom rente- & avskrivningskostnader | F12: Administrasjonskostnader pr bil | G12: 0.19158677 | H12: 0.21607376 | I12: 0.23277771
B13: Kapital | G13: 1 | H13: 1 | I13: 1
B14: rente | C14: avskrivning
B15: 0.18333333 | C15: 0.81666667

Sheet Delindeks for kapitalkostnader
A2: Beregning av delindeks for kapitalkostnader
B4: Kapital
B5: avskrivning | C5: rente
B6: 0.81666667 | C6: 0.18333333
A8: Kapitalkostnader | C8: 2015 | D8: 2016 | E8: 2017 | F8: 2018 | G8: 2019 | H8: 2020 | I8: 2021 | J8: 2022 | K8: 2023 | L8: 2024
A9: Kapitalkostnader: avskrivning | C9: 1 | D9: =Kapital_avskrivning!I7 -> 1.0216137 | E9: =Kapital_avskrivning!J7 -> 1.0233131 | F9: =Kapital_avskrivning!K7 -> 1.0318145 | G9: =Kapital_avskrivning!L7 -> 1.0134228 | H9: =Kapital_avskrivning!M7 -> 1.0194836 | I9: =Kapital_avskrivning!N7 -> 1.0163811 | J9: =Kapital_avskrivning!O7 -> 1.0439978 | K9: =Kapital_avskrivning!P7 -> 1.0762133
A10: Kapitalkostnader: rente | C10: 1 | D10: =Kapital_rente!M13 -> 0.99376347 | E10: =Kapital_rente!N13 -> 1.0160601 | F10: =Kapital_rente!O13 -> 0.99275979 | G10: =Kapital_rente!P13 -> 1.0103536 | H10: =Kapital_rente!Q13 -> 1.00175 | I10: =Kapital_rente!R13 -> 0.97466075 | J10: =Kapital_rente!S13 -> 0.99129807 | K10: =Kapital_rente!T13 -> 1.0509511
A11: Vektet kapitalkostnad | C11: 1 | D11: =(D9*$B$6)+(D10*$C$6) -> 1.0165078 | E11: =(E9*$B$6)+(E10*$C$6) -> 1.0219834 | F11: =(F9*$B$6)+(F10*$C$6) -> 1.0246545 | G11: =(G9*$B$6)+(G10*$C$6) -> 1.0128601 | H11: =(H9*$B$6)+(H10*$C$6) -> 1.0162325 | I11: =(I9*$B$6)+(I10*$C$6) -> 1.0087324 | J11: =(J9*$B$6)+(J10*$C$6) -> 1.0343362 | K11: =(K9*$B$6)+(K10*$C$6) -> 1.0715819
A12: Kjedet kapitalindeks | C12: 100 | D12: =D11*C12 -> 101.65078 | E12: =E11*D12 -> 103.88541 | F12: =F11*E12 -> 106.44665 | G12: =G11*F12 -> 107.81557 | H12: =H11*G12 -> 109.56569 | I12: =I11*H12 -> 110.52245 | J12: =J11*I12 -> 114.31737 | K12: =K11*J12 -> 122.50042
C14: 2015 | D14: 2016 | E14: 2017 | F14: 2018 | G14: 2019 | H14: 2020 | I14: 2021 | J14: 2022 | K14: 2023 | L14: 2024 | M14: 2025 | N14: 2026
A15: Kapitalkostnader: avskrivning | B15: Januar | C15: =Kapital_avskrivning!D6 -> 1 | D15: =Kapital_avskrivning!D18 -> 1.0175879 | E15: =Kapital_avskrivning!D30 -> 1.009828 | F15: =Kapital_avskrivning!D42 -> 1.0130641 | G15: =Kapital_avskrivning!D54 -> 1.0081019 | H15: =Kapital_avskrivning!D66 -> 0.99418605 | I15: =Kapital_avskrivning!D78 -> 1.0011123 | J15: =Kapital_avskrivning!D90 -> 1.0099448 | K15: =Kapital_avskrivning!D102 -> 1.0721757 | L15: =Kapital_avskrivning!D114 -> 0.98626104 | M15: =Kapital_avskrivning!D126 -> 1.0040363 | N15: =Kapital_avskrivning!D138 -> 1.034965
B16: Februar | C16: =Kapital_avskrivning!D7 -> 1 | D16: =Kapital_avskrivning!D19 -> 1 | E16: =Kapital_avskrivning!D31 -> 1.0012165 | F16: =Kapital_avskrivning!D43 -> 1 | G16: =Kapital_avskrivning!D55 -> 1 | H16: =Kapital_avskrivning!D67 -> 1 | I16: =Kapital_avskrivning!D79 -> 1 | J16: =Kapital_avskrivning!D91 -> 1.0032823 | K16: =Kapital_avskrivning!D103 -> 0.99317073 | L16: =Kapital_avskrivning!D115 -> 1.0179104 | M16: =Kapital_avskrivning!D127 -> 1.0080402 | N16: =Kapital_avskrivning!D139 -> 1.0019305
B17: Mars | C17: =Kapital_avskrivning!D8 -> 1 | D17: =Kapital_avskrivning!D20 -> 1.0012346 | E17: =Kapital_avskrivning!D32 -> 1 | F17: =Kapital_avskrivning!D44 -> 1 | G17: =Kapital_avskrivning!D56 -> 1.0011481 | H17: =Kapital_avskrivning!D68 -> 1 | I17: =Kapital_avskrivning!D80 -> 1 | J17: =Kapital_avskrivning!D92 -> 1.0065431 | K17: =Kapital_avskrivning!D104 -> 1 | L17: =Kapital_avskrivning!D116 -> 0.99608993 | M17: =Kapital_avskrivning!D128 -> 0.99800598 | N17: =Kapital_avskrivning!D140 -> 1
B18: April | C18: =Kapital_avskrivning!D9 -> 1 | D18: =Kapital_avskrivning!D21 -> 1 | E18: =Kapital_avskrivning!D33 -> 1.0085055 | F18: =Kapital_avskrivning!D45 -> 1 | G18: =Kapital_avskrivning!D57 -> 1.0011468 | H18: =Kapital_avskrivning!D69 -> 1.0175439 | I18: =Kapital_avskrivning!D81 -> 0.99888889 | J18: =Kapital_avskrivning!D93 -> 1.0021668 | K18: =Kapital_avskrivning!D105 -> 0.99410609 | L18: =Kapital_avskrivning!D117 -> 1 | M18: =Kapital_avskrivning!D129 -> 1 | N18: =Kapital_avskrivning!D141 -> 1.004817
B19: Mai | C19: =Kapital_avskrivning!D10 -> 1.0037879 | D19: =Kapital_avskrivning!D22 -> 1 | E19: =Kapital_avskrivning!D34 -> 1 | F19: =Kapital_avskrivning!D46 -> 1.0011723 | G19: =Kapital_avskrivning!D58 -> 1 | H19: =Kapital_avskrivning!D70 -> 1.0218391 | I19: =Kapital_avskrivning!D82 -> 1 | J19: =Kapital_avskrivning!D94 -> 1.0075676 | K19: =Kapital_avskrivning!D106 -> 1.0019763 | L19: =Kapital_avskrivning!D118 -> 0.97939156 | M19: =Kapital_avskrivning!D130 -> 1 | N19: =Kapital_avskrivning!D142 -> 1
B20: Juni | C20: =Kapital_avskrivning!D11 -> 1 | D20: =Kapital_avskrivning!D23 -> 1 | E20: =Kapital_avskrivning!D35 -> 1 | F20: =Kapital_avskrivning!D47 -> 1.0035129 | G20: =Kapital_avskrivning!D59 -> 1.0011455 | H20: =Kapital_avskrivning!D71 -> 1.007874 | I20: =Kapital_avskrivning!D83 -> 0.99666296 | J20: =Kapital_avskrivning!D95 -> 1.0075107 | K20: =Kapital_avskrivning!D107 -> 0.99704142 | L20: =Kapital_avskrivning!D119 -> 1.003006 | M20: =Kapital_avskrivning!D131 -> 0.998002 | N20: =Kapital_avskrivning!D143 -> 1
B21: Juli | C21: =Kapital_avskrivning!D12 -> 1 | D21: =Kapital_avskrivning!D24 -> 1 | E21: =Kapital_avskrivning!D36 -> 1 | F21: =Kapital_avskrivning!D48 -> 1 | G21: =Kapital_avskrivning!D60 -> 1 | H21: =Kapital_avskrivning!D72 -> 1.0055804 | I21: =Kapital_avskrivning!D84 -> 1.0011161 | J21: =Kapital_avskrivning!D96 -> 1.0085197 | K21: =Kapital_avskrivning!D108 -> 1 | L21: =Kapital_avskrivning!D120 -> 1 | M21: =Kapital_avskrivning!D132 -> 1 | N21: =Kapital_avskrivning!D144 -> 1
B22: August | C22: =Kapital_avskrivning!D13 -> 1 | D22: =Kapital_avskrivning!D25 -> 1 | E22: =Kapital_avskrivning!D37 -> 1 | F22: =Kapital_avskrivning!D49 -> 1.0011669 | G22: =Kapital_avskrivning!D61 -> 0.99885584 | H22: =Kapital_avskrivning!D73 -> 1 | I22: =Kapital_avskrivning!D85 -> 1 | J22: =Kapital_avskrivning!D97 -> 1.0063358 | K22: =Kapital_avskrivning!D109 -> 0.99901088 | L22: =Kapital_avskrivning!D121 -> 0.995005 | M22: =Kapital_avskrivning!D133 -> 1.001001 | N22: =Kapital_avskrivning!D145
B23: September | C23: =Kapital_avskrivning!D14 -> 1 | D23: =Kapital_avskrivning!D26 -> 1 | E23: =Kapital_avskrivning!D38 -> 1.0048193 | F23: =Kapital_avskrivning!D50 -> 0.9965035 | G23: =Kapital_avskrivning!D62 -> 0.98396334 | H23: =Kapital_avskrivning!D74 -> 1.0022198 | I23: =Kapital_avskrivning!D86 -> 1.0011148 | J23: =Kapital_avskrivning!D98 -> 1.0010493 | K23: =Kapital_avskrivning!D110 -> 1.0039604 | L23: =Kapital_avskrivning!D122 -> 1 | M23: =Kapital_avskrivning!D134 -> 0.999 | N23: =Kapital_avskrivning!D146
B24: Oktober | C24: =Kapital_avskrivning!D15 -> 1.0012579 | D24: =Kapital_avskrivning!D27 -> 1.0024661 | E24: =Kapital_avskrivning!D39 -> 0.99280576 | F24: =Kapital_avskrivning!D51 -> 1.005848 | G24: =Kapital_avskrivning!D63 -> 1 | H24: =Kapital_avskrivning!D75 -> 0.99557032 | I24: =Kapital_avskrivning!D87 -> 1.0022272 | J24: =Kapital_avskrivning!D99 -> 1.0010482 | K24: =Kapital_avskrivning!D111 -> 1.0069034 | L24: =Kapital_avskrivning!D123 -> 0.99598394 | M24: =Kapital_avskrivning!D135 -> 1.001001 | N24: =Kapital_avskrivning!D147
B25: November | C25: =Kapital_avskrivning!D16 -> 1 | D25: =Kapital_avskrivning!D28 -> 1 | E25: =Kapital_avskrivning!D40 -> 1.0169082 | F25: =Kapital_avskrivning!D52 -> 1.0046512 | G25: =Kapital_avskrivning!D64 -> 1.0011641 | H25: =Kapital_avskrivning!D76 -> 1 | I25: =Kapital_avskrivning!D88 -> 1.0055556 | J25: =Kapital_avskrivning!D100 -> 1.0010471 | K25: =Kapital_avskrivning!D112 -> 0.99902057 | L25: =Kapital_avskrivning!D124 -> 1 | M25: =Kapital_avskrivning!D136 -> 1.001 | N25: =Kapital_avskrivning!D148
B26: Desember | C26: =Kapital_avskrivning!D17 -> 1 | D26: =Kapital_avskrivning!D29 -> 1.00123 | E26: =Kapital_avskrivning!D41 -> 1 | F26: =Kapital_avskrivning!D53 -> 1 | G26: =Kapital_avskrivning!D65 -> 1 | H26: =Kapital_avskrivning!D77 -> 1 | I26: =Kapital_avskrivning!D89 -> 1 | J26: =Kapital_avskrivning!D101 -> 1 | K26: =Kapital_avskrivning!D113 -> 0.99901961 | L26: =Kapital_avskrivning!D125 -> 0.99899194 | M26: =Kapital_avskrivning!D137 -> 1 | N26: =Kapital_avskrivning!D149
A27: Kapitalkostnader: rente | B27: Januar | C27: =Kapital_rente!H19 -> 1 | D27: =Kapital_rente!H31 -> 0.99350482 | E27: =Kapital_rente!H43 -> 1.0062895 | F27: =Kapital_rente!H55 -> 0.99958209 | G27: =Kapital_rente!H67 -> 1.0006538 | H27: =Kapital_rente!H79 -> 0.99733272 | I27: =Kapital_rente!H91 -> 0.990877 | J27: =Kapital_rente!H103 -> 1.0221014 | K27: =Kapital_rente!H115 -> 0.98882242 | L27: =Kapital_rente!H127 -> 0.99888019 | M27: =Kapital_rente!H139 -> 0.99697735 | N27: =Kapital_rente!H151 -> 1
B28: Februar | C28: =Kapital_rente!H20 -> 0.9991112 | D28: =Kapital_rente!H32 -> 0.99719273 | E28: =Kapital_rente!H44 -> 0.99959725 | F28: =Kapital_rente!H56 -> 0.99693809 | G28: =Kapital_rente!H68 -> 1.0014673 | H28: =Kapital_rente!H80 -> 1.0066919 | I28: =Kapital_rente!H92 -> 0.99176889 | J28: =Kapital_rente!H104 -> 0.99903427 | K28: =Kapital_rente!H116 -> 1.008517 | L28: =Kapital_rente!H128 -> 0.99851267 | M28: =Kapital_rente!H140 -> 0.99082464 | N28: =Kapital_rente!H152 -> 1.0003771
B29: Mars | C29: =Kapital_rente!H21 -> 1.0004942 | D29: =Kapital_rente!H33 -> 1.0008033 | E29: =Kapital_rente!H45 -> 1.0020978 | F29: =Kapital_rente!H57 -> 1.0013877 | G29: =Kapital_rente!H69 -> 1.0025551 | H29: =Kapital_rente!H81 -> 0.99616747 | I29: =Kapital_rente!H93 -> 1.0031028 | J29: =Kapital_rente!H105 -> 0.9916532 | K29: =Kapital_rente!H117 -> 0.99899896 | L29: =Kapital_rente!H129 -> 1.008918 | M29: =Kapital_rente!H141 -> 1.0087556 | N29: =Kapital_rente!H153 -> 0.9977382
B30: April | C30: =Kapital_rente!H22 -> 1.0024699 | D30: =Kapital_rente!H34 -> 0.99973746 | E30: =Kapital_rente!H46 -> 1.0029658 | F30: =Kapital_rente!H58 -> 0.99882053 | G30: =Kapital_rente!H70 -> 0.99963118 | H30: =Kapital_rente!H82 -> 0.9980326 | I30: =Kapital_rente!H94 -> 0.99860176 | J30: =Kapital_rente!H106 -> 0.99136364 | K30: =Kapital_rente!H118 -> 1.0012971 | L30: =Kapital_rente!H130 -> 1.0024471 | M30: =Kapital_rente!H142 -> 0.99972888 | N30: =Kapital_rente!H154 -> 1.0018891
B31: Mai | C31: =Kapital_rente!H23 -> 0.99605795 | D31: =Kapital_rente!H35 -> 0.99878733 | E31: =Kapital_rente!H47 -> 0.99698412 | F31: =Kapital_rente!H59 -> 1.0005679 | G31: =Kapital_rente!H71 -> 1.002149 | H31: =Kapital_rente!H83 -> 0.9917262 | I31: =Kapital_rente!H95 -> 1.0015104 | J31: =Kapital_rente!H107 -> 0.99370004 | K31: =Kapital_rente!H119 -> 0.99681542 | L31: =Kapital_rente!H131 -> 1.0061941 | M31: =Kapital_rente!H143 -> 0.99507393 | N31: =Kapital_rente!H155 -> 1.0007542
B32: Juni | C32: =Kapital_rente!H24 -> 0.99406352 | D32: =Kapital_rente!H36 -> 0.99705065 | E32: =Kapital_rente!H48 -> 1.0037852 | F32: =Kapital_rente!H60 -> 0.99670866 | G32: =Kapital_rente!H72 -> 1.0077709 | H32: =Kapital_rente!H84 -> 0.99625943 | I32: =Kapital_rente!H96 -> 1.00034 | J32: =Kapital_rente!H108 -> 0.99776857 | K32: =Kapital_rente!H120 -> 1.0079546 | L32: =Kapital_rente!H132 -> 1.005757 | M32: =Kapital_rente!H144 -> 1.0014746 | N32: =Kapital_rente!H156 -> 1.0014131
B33: Juli | C33: =Kapital_rente!H25 -> 1.0079626 | D33: =Kapital_rente!H37 -> 0.99196101 | E33: =Kapital_rente!H49 -> 1.0034542 | F33: =Kapital_rente!H61 -> 0.99569879 | G33: =Kapital_rente!H73 -> 1.0031005 | H33: =Kapital_rente!H85 -> 1.0029731 | I33: =Kapital_rente!H97 -> 0.99554386 | J33: =Kapital_rente!H109 -> 0.99913959 | K33: =Kapital_rente!H121 -> 1.0151289 | L33: =Kapital_rente!H133 -> 0.99853748 | M33: =Kapital_rente!H145 -> 0.99604507 | N33: =Kapital_rente!H157
B34: August | C34: =Kapital_rente!H26 -> 0.99447023 | D34: =Kapital_rente!H38 -> 1.0036739 | E34: =Kapital_rente!H50 -> 1.001701 | F34: =Kapital_rente!H62 -> 0.99205216 | G34: =Kapital_rente!H74 -> 1.0029702 | H34: =Kapital_rente!H86 -> 0.99235872 | I34: =Kapital_rente!H98 -> 0.99953552 | J34: =Kapital_rente!H110 -> 1.0051507 | K34: =Kapital_rente!H122 -> 1.0052275 | L34: =Kapital_rente!H134 -> 1.0023193 | M34: =Kapital_rente!H146 -> 1.0317404 | N34: =Kapital_rente!H158
B35: September | C35: =Kapital_rente!H27 -> 0.99970211 | D35: =Kapital_rente!H39 -> 1.0053782 | E35: =Kapital_rente!H51 -> 0.9985566 | F35: =Kapital_rente!H63 -> 1.0026956 | G35: =Kapital_rente!H75 -> 0.99978074 | H35: =Kapital_rente!H87 -> 1.0022148 | I35: =Kapital_rente!H99 -> 0.9924065 | J35: =Kapital_rente!H111 -> 1.0010785 | K35: =Kapital_rente!H123 -> 1.0161301 | L35: =Kapital_rente!H135 -> 0.9963693 | M35: =Kapital_rente!H147 -> 0.99934204 | N35: =Kapital_rente!H159
B36: Oktober | C36: =Kapital_rente!H28 -> 0.99642431 | D36: =Kapital_rente!H40 -> 1.0003537 | E36: =Kapital_rente!H52 -> 1.0035663 | F36: =Kapital_rente!H64 -> 1.0024108 | G36: =Kapital_rente!H76 -> 0.99957064 | H36: =Kapital_rente!H88 -> 0.99988314 | I36: =Kapital_rente!H100 -> 1.008128 | J36: =Kapital_rente!H112 -> 0.99836892 | K36: =Kapital_rente!H124 -> 0.99548986 | L36: =Kapital_rente!H136 -> 1.0034036 | M36: =Kapital_rente!H148 -> 0.99755455 | N36: =Kapital_rente!H160
B37: November | C37: =Kapital_rente!H29 -> 0.99681021 | D37: =Kapital_rente!H41 -> 1.0001095 | E37: =Kapital_rente!H53 -> 1.0004365 | F37: =Kapital_rente!H65 -> 0.99633782 | G37: =Kapital_rente!H77 -> 1.0027672 | H37: =Kapital_rente!H89 -> 1.0091555 | I37: =Kapital_rente!H101 -> 0.98486116 | J37: =Kapital_rente!H113 -> 1.0112388 | K37: =Kapital_rente!H125 -> 0.98994718 | L37: =Kapital_rente!H137 -> 1.0008903 | M37: =Kapital_rente!H149 -> 1.00066 | N37: =Kapital_rente!H161
B38: Desember | C38: =Kapital_rente!H30 -> 1.0053 | D38: =Kapital_rente!H42 -> 1.0030386 | E38: =Kapital_rente!H54 -> 0.99512772 | F38: =Kapital_rente!H66 -> 1.0052718 | G38: =Kapital_rente!H78 -> 1.0013787 | H38: =Kapital_rente!H90 -> 0.99247773 | I38: =Kapital_rente!H102 -> 0.99890443 | J38: =Kapital_rente!H114 -> 1.0071859 | K38: =Kapital_rente!H126 -> 1.0041373 | L38: =Kapital_rente!H138 -> 1.0006188 | M38: =Kapital_rente!H150 -> 0.99943466 | N38: =Kapital_rente!H162
A39: Vektet kapitalkostnad | B39: Januar | C39: =(C15*$B$6)+(C27*$C$6) -> 1 | D39: =(D15*$B$6)+(D27*$C$6) -> 1.0131727 | E39: =(E15*$B$6)+(E27*$C$6) -> 1.0091793 | F39: =(F15*$B$6)+(F27*$C$6) -> 1.0105924 | G39: =(G15*$B$6)+(G27*$C$6) -> 1.0067364 | H39: =(H15*$B$6)+(H27*$C$6) -> 0.99476294 | I39: =(I15*$B$6)+(I27*$C$6) -> 0.99923587 | J39: =(J15*$B$6)+(J27*$C$6) -> 1.0121735 | K39: =(K15*$B$6)+(K27*$C$6) -> 1.0568943 | L39: =IFERROR((L15*$B$6)+(L27*$C$6),"") -> 0.98857455 | M39: =IFERROR((M15*$B$6)+(M27*$C$6),"") -> 1.0027422 | N39: =IFERROR((N15*$B$6)+(N27*$C$6),"") -> 1.0285548
B40: Februar | C40: =(C16*$B$6)+(C28*$C$6) -> 0.99983705 | D40: =(D16*$B$6)+(D28*$C$6) -> 0.99948533 | E40: =(E16*$B$6)+(E28*$C$6) -> 1.0009197 | F40: =(F16*$B$6)+(F28*$C$6) -> 0.99943865 | G40: =(G16*$B$6)+(G28*$C$6) -> 1.000269 | H40: =(H16*$B$6)+(H28*$C$6) -> 1.0012269 | I40: =(I16*$B$6)+(I28*$C$6) -> 0.99849096 | J40: =(J16*$B$6)+(J28*$C$6) -> 1.0025035 | K40: =(K16*$B$6)+(K28*$C$6) -> 0.99598421 | L40: =IFERROR((L16*$B$6)+(L28*$C$6),"") -> 1.0143542 | M40: =IFERROR((M16*$B$6)+(M28*$C$6),"") -> 1.004884 | N40: =IFERROR((N16*$B$6)+(N28*$C$6),"") -> 1.0016457
B41: Mars | C41: =(C17*$B$6)+(C29*$C$6) -> 1.0000906 | D41: =(D17*$B$6)+(D29*$C$6) -> 1.0011555 | E41: =(E17*$B$6)+(E29*$C$6) -> 1.0003846 | F41: =(F17*$B$6)+(F29*$C$6) -> 1.0002544 | G41: =(G17*$B$6)+(G29*$C$6) -> 1.0014061 | H41: =(H17*$B$6)+(H29*$C$6) -> 0.99929737 | I41: =(I17*$B$6)+(I29*$C$6) -> 1.0005688 | J41: =(J17*$B$6)+(J29*$C$6) -> 1.0038133 | K41: =(K17*$B$6)+(K29*$C$6) -> 0.99981648 | L41: =IFERROR((L17*$B$6)+(L29*$C$6),"") -> 0.99844174 | M41: =IFERROR((M17*$B$6)+(M29*$C$6),"") -> 0.99997674 | N41: =IFERROR((N17*$B$6)+(N29*$C$6),"") -> 0.99958534
B42: April | C42: =(C18*$B$6)+(C30*$C$6) -> 1.0004528 | D42: =(D18*$B$6)+(D30*$C$6) -> 0.99995187 | E42: =(E18*$B$6)+(E30*$C$6) -> 1.0074899 | F42: =(F18*$B$6)+(F30*$C$6) -> 0.99978376 | G42: =(G18*$B$6)+(G30*$C$6) -> 1.0008689 | H42: =(H18*$B$6)+(H30*$C$6) -> 1.0139668 | I42: =(I18*$B$6)+(I30*$C$6) -> 0.99883625 | J42: =(J18*$B$6)+(J30*$C$6) -> 1.0001863 | K42: =(K18*$B$6)+(K30*$C$6) -> 0.99542444 | L42: =IFERROR((L18*$B$6)+(L30*$C$6),"") -> 1.0004486 | M42: =IFERROR((M18*$B$6)+(M30*$C$6),"") -> 0.9999503 | N42: =IFERROR((N18*$B$6)+(N30*$C$6),"") -> 1.0042802
B43: Mai | C43: =(C19*$B$6)+(C31*$C$6) -> 1.0023707 | D43: =(D19*$B$6)+(D31*$C$6) -> 0.99977768 | E43: =(E19*$B$6)+(E31*$C$6) -> 0.99944709 | F43: =(F19*$B$6)+(F31*$C$6) -> 1.0010615 | G43: =(G19*$B$6)+(G31*$C$6) -> 1.000394 | H43: =(H19*$B$6)+(H31*$C$6) -> 1.0163184 | I43: =(I19*$B$6)+(I31*$C$6) -> 1.0002769 | J43: =(J19*$B$6)+(J31*$C$6) -> 1.0050252 | K43: =(K19*$B$6)+(K31*$C$6) -> 1.0010301 | L43: =IFERROR((L19*$B$6)+(L31*$C$6),"") -> 0.98430535 | M43: =IFERROR((M19*$B$6)+(M31*$C$6),"") -> 0.99909689 | N43: =IFERROR((N19*$B$6)+(N31*$C$6),"") -> 1.0001383
B44: Juni | C44: =(C20*$B$6)+(C32*$C$6) -> 0.99891165 | D44: =(D20*$B$6)+(D32*$C$6) -> 0.99945929 | E44: =(E20*$B$6)+(E32*$C$6) -> 1.000694 | F44: =(F20*$B$6)+(F32*$C$6) -> 1.0022654 | G44: =(G20*$B$6)+(G32*$C$6) -> 1.0023601 | H44: =(H20*$B$6)+(H32*$C$6) -> 1.0057447 | I44: =(I20*$B$6)+(I32*$C$6) -> 0.99733708 | J44: =(J20*$B$6)+(J32*$C$6) -> 1.0057247 | K44: =(K20*$B$6)+(K32*$C$6) -> 0.99904218 | L44: =IFERROR((L20*$B$6)+(L32*$C$6),"") -> 1.0035104 | M44: =IFERROR((M20*$B$6)+(M32*$C$6),"") -> 0.99863864 | N44: =IFERROR((N20*$B$6)+(N32*$C$6),"") -> 1.0002591
B45: Juli | C45: =(C21*$B$6)+(C33*$C$6) -> 1.0014598 | D45: =(D21*$B$6)+(D33*$C$6) -> 0.99852619 | E45: =(E21*$B$6)+(E33*$C$6) -> 1.0006333 | F45: =(F21*$B$6)+(F33*$C$6) -> 0.99921144 | G45: =(G21*$B$6)+(G33*$C$6) -> 1.0005684 | H45: =(H21*$B$6)+(H33*$C$6) -> 1.0051024 | I45: =(I21*$B$6)+(I33*$C$6) -> 1.0000945 | J45: =(J21*$B$6)+(J33*$C$6) -> 1.0068 | K45: =(K21*$B$6)+(K33*$C$6) -> 1.0027736 | L45: =IFERROR((L21*$B$6)+(L33*$C$6),"") -> 0.99973187 | M45: =IFERROR((M21*$B$6)+(M33*$C$6),"") -> 0.99927493 | N45: =IFERROR((N21*$B$6)+(N33*$C$6),"")
B46: August | C46: =(C22*$B$6)+(C34*$C$6) -> 0.99898621 | D46: =(D22*$B$6)+(D34*$C$6) -> 1.0006735 | E46: =(E22*$B$6)+(E34*$C$6) -> 1.0003119 | F46: =(F22*$B$6)+(F34*$C$6) -> 0.99949583 | G46: =(G22*$B$6)+(G34*$C$6) -> 0.99961014 | H46: =(H22*$B$6)+(H34*$C$6) -> 0.9985991 | I46: =(I22*$B$6)+(I34*$C$6) -> 0.99991485 | J46: =(J22*$B$6)+(J34*$C$6) -> 1.0061185 | K46: =(K22*$B$6)+(K34*$C$6) -> 1.0001506 | L46: =IFERROR((L22*$B$6)+(L34*$C$6),"") -> 0.99634595 | M46: =IFERROR((M22*$B$6)+(M34*$C$6),"") -> 1.0066366 | N46: =IFERROR((N22*$B$6)+(N34*$C$6),"")
B47: September | C47: =(C23*$B$6)+(C35*$C$6) -> 0.99994539 | D47: =(D23*$B$6)+(D35*$C$6) -> 1.000986 | E47: =(E23*$B$6)+(E35*$C$6) -> 1.0036711 | F47: =(F23*$B$6)+(F35*$C$6) -> 0.99763872 | G47: =(G23*$B$6)+(G35*$C$6) -> 0.9868632 | H47: =(H23*$B$6)+(H35*$C$6) -> 1.0022188 | I47: =(I23*$B$6)+(I35*$C$6) -> 0.9995183 | J47: =(J23*$B$6)+(J35*$C$6) -> 1.0010547 | K47: =(K23*$B$6)+(K35*$C$6) -> 1.0061915 | L47: =IFERROR((L23*$B$6)+(L35*$C$6),"") -> 0.99933437 | M47: =IFERROR((M23*$B$6)+(M35*$C$6),"") -> 0.99906271 | N47: =IFERROR((N23*$B$6)+(N35*$C$6),"")
B48: Oktober | C48: =(C24*$B$6)+(C36*$C$6) -> 1.0003717 | D48: =(D24*$B$6)+(D36*$C$6) -> 1.0020788 | E48: =(E24*$B$6)+(E36*$C$6) -> 0.99477852 | F48: =(F24*$B$6)+(F36*$C$6) -> 1.0052178 | G48: =(G24*$B$6)+(G36*$C$6) -> 0.99992128 | H48: =(H24*$B$6)+(H36*$C$6) -> 0.996361 | I48: =(I24*$B$6)+(I36*$C$6) -> 1.003309 | J48: =(J24*$B$6)+(J36*$C$6) -> 1.000557 | K48: =(K24*$B$6)+(K36*$C$6) -> 1.0048109 | L48: =IFERROR((L24*$B$6)+(L36*$C$6),"") -> 0.99734421 | M48: =IFERROR((M24*$B$6)+(M36*$C$6),"") -> 1.0003692 | N48: =IFERROR((N24*$B$6)+(N36*$C$6),"")
B49: November | C49: =(C25*$B$6)+(C37*$C$6) -> 0.9994152 | D49: =(D25*$B$6)+(D37*$C$6) -> 1.0000201 | E49: =(E25*$B$6)+(E37*$C$6) -> 1.0138884 | F49: =(F25*$B$6)+(F37*$C$6) -> 1.0031271 | G49: =(G25*$B$6)+(G37*$C$6) -> 1.001458 | H49: =(H25*$B$6)+(H37*$C$6) -> 1.0016785 | I49: =(I25*$B$6)+(I37*$C$6) -> 1.0017616 | J49: =(J25*$B$6)+(J37*$C$6) -> 1.0029156 | K49: =(K25*$B$6)+(K37*$C$6) -> 0.99735711 | L49: =IFERROR((L25*$B$6)+(L37*$C$6),"") -> 1.0001632 | M49: =IFERROR((M25*$B$6)+(M37*$C$6),"") -> 1.0009377 | N49: =IFERROR((N25*$B$6)+(N37*$C$6),"")
B50: Desember | C50: =(C26*$B$6)+(C38*$C$6) -> 1.0009717 | D50: =(D26*$B$6)+(D38*$C$6) -> 1.0015616 | E50: =(E26*$B$6)+(E38*$C$6) -> 0.99910675 | F50: =(F26*$B$6)+(F38*$C$6) -> 1.0009665 | G50: =(G26*$B$6)+(G38*$C$6) -> 1.0002528 | H50: =(H26*$B$6)+(H38*$C$6) -> 0.99862092 | I50: =(I26*$B$6)+(I38*$C$6) -> 0.99979914 | J50: =(J26*$B$6)+(J38*$C$6) -> 1.0013174 | K50: =(K26*$B$6)+(K38*$C$6) -> 0.99995785 | L50: =IFERROR((L26*$B$6)+(L38*$C$6),"") -> 0.9992902 | M50: =IFERROR((M26*$B$6)+(M38*$C$6),"") -> 0.99989635 | N50: =IFERROR((N26*$B$6)+(N38*$C$6),"")
A51: Kjedet kapitalindeks | B51: Januar | C51: 100 | D51: =C62*D39 -> 101.60207 | E51: =D62*E39 -> 102.91167 | F51: =E62*F39 -> 106.22797 | G51: =F62*G39 -> 107.84952 | H51: =G62*H39 -> 106.63006 | I51: =H62*I39 -> 110.77096 | J51: =I62*J39 -> 112.10761 | K51: =J62*K39 -> 122.82042 | L51: =IFERROR(K62*L39,"") -> 121.7188 | M51: =IFERROR(L62*M39,"") -> 121.20427 | N51: =IFERROR(M62*N39,"") -> 125.75299
B52: Februar | C52: =C51*C40 -> 99.983705 | D52: =D51*D40 -> 101.54978 | E52: =E51*E40 -> 103.00632 | F52: =F51*F40 -> 106.16834 | G52: =G51*G40 -> 107.87853 | H52: =H51*H40 -> 106.76088 | I52: =I51*I40 -> 110.6038 | J52: =J51*J40 -> 112.38827 | K52: =K51*K40 -> 122.3272 | L52: =IFERROR(L51*L40,"") -> 123.46598 | M52: =IFERROR(M51*M40,"") -> 121.79623 | N52: =IFERROR(N51*N40,"") -> 125.95994
B53: Mars | C53: =C52*C41 -> 99.992764 | D53: =D52*D41 -> 101.66712 | E53: =E52*E41 -> 103.04593 | F53: =F52*F41 -> 106.19535 | G53: =G52*G41 -> 108.03022 | H53: =H52*H41 -> 106.68586 | I53: =I52*I41 -> 110.66671 | J53: =J52*J41 -> 112.81684 | K53: =K52*K41 -> 122.30475 | L53: =IFERROR(L52*L41,"") -> 123.27359 | M53: =IFERROR(M52*M41,"") -> 121.7934 | N53: =IFERROR(N52*N41,"") -> 125.90771
B54: April | C54: =C53*C42 -> 100.03804 | D54: =D53*D42 -> 101.66223 | E54: =E53*E42 -> 103.81773 | F54: =F53*F42 -> 106.17239 | G54: =G53*G42 -> 108.12409 | H54: =H53*H42 -> 108.17592 | I54: =I53*I42 -> 110.53793 | J54: =J53*J42 -> 112.83785 | K54: =K53*K42 -> 121.74513 | L54: =IFERROR(L53*L42,"") -> 123.32889 | M54: =IFERROR(M53*M42,"") -> 121.78735 | N54: =IFERROR(N53*N42,"") -> 126.44662
B55: Mai | C55: =C54*C43 -> 100.2752 | D55: =D54*D43 -> 101.63962 | E55: =E54*E43 -> 103.76033 | F55: =F54*F43 -> 106.28509 | G55: =G54*G43 -> 108.16669 | H55: =H54*H43 -> 109.94118 | I55: =I54*I43 -> 110.56853 | J55: =J54*J43 -> 113.40488 | K55: =K54*K43 -> 121.87055 | L55: =IFERROR(L54*L43,"") -> 121.39329 | M55: =IFERROR(M54*M43,"") -> 121.67736 | N55: =IFERROR(N54*N43,"") -> 126.4641
B56: Juni | C56: =C55*C44 -> 100.16607 | D56: =D55*D44 -> 101.58467 | E56: =E55*E44 -> 103.83234 | F56: =F55*F44 -> 106.52588 | G56: =G55*G44 -> 108.42197 | H56: =H55*H44 -> 110.57275 | I56: =I55*I44 -> 110.2741 | J56: =J55*J44 -> 114.05409 | K56: =K55*K44 -> 121.75382 | L56: =IFERROR(L55*L44,"") -> 121.81942 | M56: =IFERROR(M55*M44,"") -> 121.51171 | N56: =IFERROR(N55*N44,"") -> 126.49687
B57: Juli | C57: =C56*C45 -> 100.31229 | D57: =D56*D45 -> 101.43495 | E57: =E56*E45 -> 103.89809 | F57: =F56*F45 -> 106.44187 | G57: =G56*G45 -> 108.4836 | H57: =H56*H45 -> 111.13694 | I57: =I56*I45 -> 110.28452 | J57: =J56*J45 -> 114.82966 | K57: =K56*K45 -> 122.09152 | L57: =IFERROR(L56*L45,"") -> 121.78676 | M57: =IFERROR(M56*M45,"") -> 121.42361 | N57: =IFERROR(N56*N45,"")
B58: August | C58: =C57*C46 -> 100.2106 | D58: =D57*D46 -> 101.50327 | E58: =E57*E46 -> 103.93049 | F58: =F57*F46 -> 106.38821 | G58: =G57*G46 -> 108.44131 | H58: =H57*H46 -> 110.98124 | I58: =I57*I46 -> 110.27513 | J58: =J57*J46 -> 115.53225 | K58: =K57*K46 -> 122.1099 | L58: =IFERROR(L57*L46,"") -> 121.34174 | M58: =IFERROR(M57*M46,"") -> 122.22944 | N58: =IFERROR(N57*N46,"")
B59: September | C59: =C58*C47 -> 100.20512 | D59: =D58*D47 -> 101.60335 | E59: =E58*E47 -> 104.31203 | F59: =F58*F47 -> 106.137 | G59: =G58*G47 -> 107.01674 | H59: =H58*H47 -> 111.22749 | I59: =I58*I47 -> 110.22201 | J59: =J58*J47 -> 115.6541 | K59: =K58*K47 -> 122.86595 | L59: =IFERROR(L58*L47,"") -> 121.26097 | M59: =IFERROR(M58*M47,"") -> 122.11488 | N59: =IFERROR(N58*N47,"")
B60: Oktober | C60: =C59*C48 -> 100.24237 | D60: =D59*D48 -> 101.81457 | E60: =E59*E48 -> 103.76737 | F60: =F59*F48 -> 106.6908 | G60: =G59*G48 -> 107.00832 | H60: =H59*H48 -> 110.82274 | I60: =I59*I48 -> 110.58673 | J60: =J59*J48 -> 115.71852 | K60: =K59*K48 -> 123.45704 | L60: =IFERROR(L59*L48,"") -> 120.93893 | M60: =IFERROR(M59*M48,"") -> 122.15996 | N60: =IFERROR(N59*N48,"")
B61: November | C61: =C60*C49 -> 100.18375 | D61: =D60*D49 -> 101.81661 | E61: =E60*E49 -> 105.20853 | F61: =F60*F49 -> 107.02443 | G61: =G60*G49 -> 107.16434 | H61: =H60*H49 -> 111.00875 | I61: =I60*I49 -> 110.78154 | J61: =J60*J49 -> 116.05591 | K61: =K60*K49 -> 123.13076 | L61: =IFERROR(L60*L49,"") -> 120.95867 | M61: =IFERROR(M60*M49,"") -> 122.2745 | N61: =IFERROR(N60*N49,"")
B62: Desember | C62: =C61*C50 -> 100.2811 | D62: =D61*D50 -> 101.97561 | E62: =E61*E50 -> 105.11456 | F62: =F61*F50 -> 107.12787 | G62: =G61*G50 -> 107.19142 | H62: =H61*H50 -> 110.85566 | I62: =I61*I50 -> 110.75929 | J62: =J61*J50 -> 116.2088 | K62: =K61*K50 -> 123.12557 | L62: =IFERROR(L61*L50,"") -> 120.87282 | M62: =IFERROR(M61*M50,"") -> 122.26183 | N62: =IFERROR(N61*N50,"")

Sheet KT Endring
B1: Endring i kostnadsindeks for drosjetransport | M1: Endring i kostnadsindeks for drosjetransport
B2: Periode | D2: Måleenhet | E2: Kommentar | H2: Verdi før | I2: Verdi etter | J2: Endring | M2: Periode
B3: Fra | C3: Til | M3: Fra | O3: Til
A4: Formel | B4: 44986 | C4: 45231 | D4: Månedsverdier | E4: Desember siste observasjon | H4: ='KT Månedsindeks'!V413 -> 129.75347 | I4: ='KT Månedsindeks'!V422 -> 134.84362 | J4: =I4/H4-1 -> 0.03922942 | M4: Måned | N4: År | O4: Måned | P4: År | Q4: Verdi før | R4: Verdi etter | S4: Endring
A5: Formel | B5: 44986 | C5: 45352 | D5: Månedsverdier | E5: Framskrevet til mars 24 | H5: ='KT Månedsindeks'!V413 -> 129.75347 | I5: ='KT Månedsindeks'!W413 -> 135.1 | J5: =I5/H5-1 -> 0.041205291 | M5: mars | N5: 2023 | O5: mars | P5: 2024 | Q5: =IFERROR(INDEX('KT Månedsindeks'!$N$411:$AA$422,MATCH('KT Endring'!$M5,'KT Månedsindeks'!$M$411:$M$422,0),MATCH('KT Endring'!$N5,'KT Månedsindeks'!$N$398:$AA$398,0)),"") -> 129.75347 | R5: =IFERROR(INDEX('KT Månedsindeks'!$N$411:$AA$422,MATCH('KT Endring'!$O5,'KT Månedsindeks'!$M$411:$M$422,0),MATCH('KT Endring'!$P5,'KT Månedsindeks'!$N$398:$AA$398,0)),"") -> 135.1 | S5: =IFERROR(R5/Q5-1,"") -> 0.041205291
A6: Verdi | B6: 44986 | C6: 45231 | D6: Månedsverdier | E6: Desember siste observasjon | H6: 129.74579 | I6: 134.84334 | J6: 0.03928875 | M6: mars | N6: 2024 | O6: juni | P6: 2025 | Q6: =IFERROR(INDEX('KT Månedsindeks'!$N$411:$AA$422,MATCH('KT Endring'!$M6,'KT Månedsindeks'!$M$411:$M$422,0),MATCH('KT Endring'!$N6,'KT Månedsindeks'!$N$398:$AA$398,0)),"") -> 135.1 | R6: =IFERROR(INDEX('KT Månedsindeks'!$N$411:$AA$422,MATCH('KT Endring'!$O6,'KT Månedsindeks'!$M$411:$M$422,0),MATCH('KT Endring'!$P6,'KT Månedsindeks'!$N$398:$AA$398,0)),"") -> 139.63576 | S6: =IFERROR(R6/Q6-1,"") -> 0.033573356
A7: Verdi | B7: 44986 | C7: 45352 | D7: Månedsverdier | E7: Framskrevet til mars 24 | H7: 129.74579 | I7: 136.13529 | J7: 0.049246342 | M7: juni | N7: 2025 | O7: juni | P7: 2026 | Q7: =IFERROR(INDEX('KT Månedsindeks'!$N$411:$AA$422,MATCH('KT Endring'!$M7,'KT Månedsindeks'!$M$411:$M$422,0),MATCH('KT Endring'!$N7,'KT Månedsindeks'!$N$398:$AA$398,0)),"") -> 139.63576 | R7: =IFERROR(INDEX('KT Månedsindeks'!$N$411:$AA$422,MATCH('KT Endring'!$O7,'KT Månedsindeks'!$M$411:$M$422,0),MATCH('KT Endring'!$P7,'KT Månedsindeks'!$N$398:$AA$398,0)),"") -> 145.42313 | S7: =IFERROR(R7/Q7-1,"") -> 0.041446222
A8: Formel | B8: 45352 | C8: 45444 | D8: Månedsverdier | E8: Juni 24 siste observasjon | H8: =I5 -> 135.1 | I8: ='KT Månedsindeks'!W416 -> 135.55197 | J8: =I8/H8-1 -> 0.0033454911 | Q8: =IFERROR(INDEX('KT Månedsindeks'!$N$411:$AA$422,MATCH('KT Endring'!$M8,'KT Månedsindeks'!$M$411:$M$422,0),MATCH('KT Endring'!$N8,'KT Månedsindeks'!$N$398:$AA$398,0)),"") | R8: =IFERROR(INDEX('KT Månedsindeks'!$N$411:$AA$422,MATCH('KT Endring'!$O8,'KT Månedsindeks'!$M$411:$M$422,0),MATCH('KT Endring'!$P8,'KT Månedsindeks'!$N$398:$AA$398,0)),"") | S8: =IFERROR(R8/Q8-1,"")
A9: Verdi | B9: 45352 | C9: 45444 | D9: Månedsverdier | E9: Juni 24 siste observasjon | H9: 135.09425 | I9: 135.53449 | J9: 0.0032587929 | Q9: =IFERROR(INDEX('KT Månedsindeks'!$N$411:$AA$422,MATCH('KT Endring'!$M9,'KT Månedsindeks'!$M$411:$M$422,0),MATCH('KT Endring'!$N9,'KT Månedsindeks'!$N$398:$AA$398,0)),"") | R9: =IFERROR(INDEX('KT Månedsindeks'!$N$411:$AA$422,MATCH('KT Endring'!$O9,'KT Månedsindeks'!$M$411:$M$422,0),MATCH('KT Endring'!$P9,'KT Månedsindeks'!$N$398:$AA$398,0)),"") | S9: =IFERROR(R9/Q9-1,"")
A10: Verdi | B10: 45352 | C10: 45809 | D10: Månedsverdier | E10: juni 25 siste observasjon | H10: =H9 -> 135.09425 | I10: ='KT Månedsindeks'!X413 -> 139.22603 | J10: =I10/H10-1 -> 0.030584449 | Q10: =IFERROR(INDEX('KT Månedsindeks'!$N$411:$AA$422,MATCH('KT Endring'!$M10,'KT Månedsindeks'!$M$411:$M$422,0),MATCH('KT Endring'!$N10,'KT Månedsindeks'!$N$398:$AA$398,0)),"") | R10: =IFERROR(INDEX('KT Månedsindeks'!$N$411:$AA$422,MATCH('KT Endring'!$O10,'KT Månedsindeks'!$M$411:$M$422,0),MATCH('KT Endring'!$P10,'KT Månedsindeks'!$N$398:$AA$398,0)),"") | S10: =IFERROR(R10/Q10-1,"")
Q11: =IFERROR(INDEX('KT Månedsindeks'!$N$411:$AA$422,MATCH('KT Endring'!$M11,'KT Månedsindeks'!$M$411:$M$422,0),MATCH('KT Endring'!$N11,'KT Månedsindeks'!$N$398:$AA$398,0)),"") | R11: =IFERROR(INDEX('KT Månedsindeks'!$N$411:$AA$422,MATCH('KT Endring'!$O11,'KT Månedsindeks'!$M$411:$M$422,0),MATCH('KT Endring'!$P11,'KT Månedsindeks'!$N$398:$AA$398,0)),"") | S11: =IFERROR(R11/Q11-1,"")
Q12: =IFERROR(INDEX('KT Månedsindeks'!$N$411:$AA$422,MATCH('KT Endring'!$M12,'KT Månedsindeks'!$M$411:$M$422,0),MATCH('KT Endring'!$N12,'KT Månedsindeks'!$N$398:$AA$398,0)),"") | R12: =IFERROR(INDEX('KT Månedsindeks'!$N$411:$AA$422,MATCH('KT Endring'!$O12,'KT Månedsindeks'!$M$411:$M$422,0),MATCH('KT Endring'!$P12,'KT Månedsindeks'!$N$398:$AA$398,0)),"") | S12: =IFERROR(R12/Q12-1,"")
S13: =IFERROR(R13/Q13-1,"")
S14: =IFERROR(R14/Q14-1,"")
S15: =IFERROR(R15/Q15-1,"")
S16: =IFERROR(R16/Q16-1,"")
S17: =IFERROR(R17/Q17-1,"")
S18: =IFERROR(R18/Q18-1,"")

Sheet Drosjekostnadsindeks_beregning
B3: Prisendring i kostnadskomponentedne i forhold til ret før | M3: Kostnadsgrupper | N3: Drivstofftype
B4: Prisrelativer | C4: 2015 | D4: 2016 | E4: 2017 | F4: 2018 | G4: 2019 | H4: 2020 | I4: 2021 | J4: 2022 | K4: 2023 | N4: Diesel | O4: Bensi&hybrid | P4: El
B5: Lønn [(Pt/Pt-1)] | D5: =Lønn!P6 -> 1.0191819 | E5: =Lønn!Q6 -> 1.0254636 | F5: =Lønn!R6 -> 1.0207827 | G5: =Lønn!S6 -> 1.0325225 | H5: =Lønn!T6 -> 1.0245839 | I5: =Lønn!U6 -> 1.0312422 | J5: =Lønn!V6 -> 1.0436258 | K5: =Lønn!W6 -> 1.0527171 | M5: Lønnskostnader | N5: 0.45387866 | O5: 0.46126398 | P5: 0.446
B6: Vektet kapitalkostnad [(Pt/Pt-1)] | D6: 1.0162094 | E6: 1.022135 | F6: 1.024519 | G6: 1.0129419 | H6: 1.0161984 | I6: 1.0086694 | J6: ='Delindeks for kapitalkostnader'!J11 -> 1.0343362 | K6: ='Delindeks for kapitalkostnader'!K11 -> 1.0715819 | M6: Kapital kostnader | N6: 0.12620249 | O6: 0.11928217 | P6: 0.18094885
B7: Diesel [(Pt/Pt-1)] | D7: 0.95366667 | E7: 1.0878189 | F7: 1.1076392 | G7: 1.0025383 | H7: 0.9333044 | I7: 1.1230042 | J7: 1.3945752 | K7: ='Drivstoff_bensin&diesel'!T8 -> 0.6045729 | M7: Drivstoffkostnader pr bil | N7: 0.073322602 | O7: 0.070459515 | P7: 0.025700421
B8: Bensin [(Pt/Pt-1)] | D8: 0.97099758 | E8: 1.0636855 | F8: 1.0622932 | G8: 1.0072161 | H8: 0.93597285 | I8: 1.1253727 | J8: 1.2941935 | K8: ='Drivstoff_bensin&diesel'!T9 -> 0.7032127 | M8: Rep&vedlikeholdskostnader pr bil | N8: 0.084782372 | O8: 0.064885942 | P8: 0.066639891
B9: Elektrisitet [(Pt/Pt-1)] | D9: 1.2221667 | E9: 1.093277 | F9: 1.2561432 | G9: 1.0063552 | H9: 0.7063496 | I9: 1.7083188 | J9: 1.1903263 | K9: =Drivstof_El!Q9 -> 0.42968621 | M9: Forsikringskostnader pr bil | N9: 0.070227097 | O9: 0.068034634 | P9: 0.047933129
B10: Vedlikehold & reparasjon [(Pt/Pt-1)] | D10: 1.0320833 | E10: 1.019459 | F10: 1.0209884 | G10: 1.0266853 | H10: 1.0311296 | I10: 1.030776 | J10: 1.0484823 | K10: ='Reparasjon og vedlikehold'!Q6 -> 1.0611704 | M10: Administrasjonskostnader pr bil | N10: 0.19158677 | O10: 0.21607376 | P10: 0.23277771
B11: Forsikring [(Pt/Pt-1)] | D11: 1.00225 | E11: 1.0127214 | F11: 1.0211823 | G11: 1.0226725 | H11: 1.0410377 | I11: 1.0613956 | J11: 1.052508 | K11: =Forsikring!Q6 -> 0.66473701 | N11: 1 | O11: 1 | P11: 1
B12: Administrasjon [(Pt/Pt-1)] | D12: 1.0355 | E12: 1.018751 | F12: 1.0276483 | G12: 1.0216773 | H12: 1.0128658 | I12: 1.0348388 | J12: 1.0576412 | K12: =Administrasjon!P6 -> 0.76483582
B13: Dieselbil [(Pt/Pt-1)] | D13: =(D5*$N$5)+(D6*$N$6)+(D7*$N$7)+(D10*$N$8)+(D11*$N$9)+(D12*$N$10) -> 1.0170341 | E13: =(E5*$N$5)+(E6*$N$6)+(E7*$N$7)+(E10*$N$8)+(E11*$N$9)+(E12*$N$10) -> 1.0269256 | F13: =(F5*$N$5)+(F6*$N$6)+(F7*$N$7)+(F10*$N$8)+(F11*$N$9)+(F12*$N$10) -> 1.0289836 | G13: =(G5*$N$5)+(G6*$N$6)+(G7*$N$7)+(G10*$N$8)+(G11*$N$9)+(G12*$N$10) -> 1.0245884 | H13: =(H5*$N$5)+(H6*$N$6)+(H7*$N$7)+(H10*$N$8)+(H11*$N$9)+(H12*$N$10) -> 1.0162982 | I13: =(I5*$N$5)+(I6*$N$6)+(I7*$N$7)+(I10*$N$8)+(I11*$N$9)+(I12*$N$10) -> 1.0378888 | J13: =(J5*$N$5)+(J6*$N$6)+(J7*$N$7)+(J10*$N$8)+(J11*$N$9)+(J12*$N$10) -> 1.0719066 | K13: =(K5*$N$5)+(K6*$N$6)+(K7*$N$7)+(K10*$N$8)+(K11*$N$9)+(K12*$N$10) -> 0.94055453 | M13: Drivstoff type | N13: Andel biler i 2020 | O13: Andel biler i 2022 | P13: Gjennomsnittlig kostnadsandel per bil | Q13: Kalibreringsfaktor | R13: Kalibrert vektandel
B14: Bensinbil [(Pt/Pt-1)] | D14: =(D5*$O$5)+(D6*$O$6)+(D8*$O$7)+(D10*$O$8)+(D11*$O$9)+(D12*$O$10) -> 1.0186434 | E14: =(E5*$O$5)+(E6*$O$6)+(E8*$O$7)+(E10*$O$8)+(E11*$O$9)+(E12*$O$10) -> 1.0250527 | F14: =(F5*$O$5)+(F6*$O$6)+(F8*$O$7)+(F10*$O$8)+(F11*$O$9)+(F12*$O$10) -> 1.0256772 | G14: =(G5*$O$5)+(G6*$O$6)+(G8*$O$7)+(G10*$O$8)+(G11*$O$9)+(G12*$O$10) -> 1.0250115 | H14: =(H5*$O$5)+(H6*$O$6)+(H8*$O$7)+(H10*$O$8)+(H11*$O$9)+(H12*$O$10) -> 1.0163523 | I14: =(I5*$O$5)+(I6*$O$6)+(I8*$O$7)+(I10*$O$8)+(I11*$O$9)+(I12*$O$10) -> 1.0379804 | J14: =(J5*$O$5)+(J6*$O$6)+(J8*$O$7)+(J10*$O$8)+(J11*$O$9)+(J12*$O$10) -> 1.0641204 | K14: =(K5*$O$5)+(K6*$O$6)+(K8*$O$7)+(K10*$O$8)+(K11*$O$9)+(K12*$O$10) -> 0.94229026 | M14: Diesel | N14: 0.74532872 | O14: 0.42 | P14: 0.337 | Q14: 0.14154 | R14: 0.4167231
B15: El-bil [(Pt/Pt-1)] | D15: =(D5*$P$5)+(D6*$P$6)+(D9*$P$7)+(D10*$P$8)+(D11*$P$9)+(D12*$P$10) -> 1.0277075 | E15: =(E5*$P$5)+(E6*$P$6)+(E9*$P$7)+(E10*$P$8)+(E11*$P$9)+(E12*$P$10) -> 1.0240307 | F15: =(F5*$P$5)+(F6*$P$6)+(F9*$P$7)+(F10*$P$8)+(F11*$P$9)+(F12*$P$10) -> 1.0291387 | G15: =(G5*$P$5)+(G6*$P$6)+(G9*$P$7)+(G10*$P$8)+(G11*$P$9)+(G12*$P$10) -> 1.0249212 | H15: =(H5*$P$5)+(H6*$P$6)+(H9*$P$7)+(H10*$P$8)+(H11*$P$9)+(H12*$P$10) -> 1.013385 | I15: =(I5*$P$5)+(I6*$P$6)+(I9*$P$7)+(I10*$P$8)+(I11*$P$9)+(I12*$P$10) -> 1.0468103 | J15: =(J5*$P$5)+(J6*$P$6)+(J9*$P$7)+(J10*$P$8)+(J11*$P$9)+(J12*$P$10) -> 1.049727 | K15: =(K5*$P$5)+(K6*$P$6)+(K9*$P$7)+(K10*$P$8)+(K11*$P$9)+(K12*$P$10) -> 0.9550724 | M15: Bensin&Hybrid | N15: 0.22237601 | O15: 0.37 | P15: 0.368 | Q15: 0.13616 | R15: 0.40088326
M16: El | N16: 0.032295271 | O16: 0.21 | P16: 0.295 | Q16: 0.06195 | R16: 0.18239364
M17: Sum | N17: 1 | O17: 1 | P17: 1 | Q17: 0.33965 | R17: 1
B19: 2015=100 | M19: 2022=100
B20: kjedet indeks for dieselbiler | C20: 2015 | D20: 2016 | E20: 2017 | F20: 2018 | G20: 2019 | H20: 2020 | I20: 2021 | J20: 2022 | K20: 2023 | M20: kjedet indeks for dieselbiler | N20: 2015 | O20: 2016 | P20: 2017 | Q20: 2018 | R20: 2019 | S20: 2020 | T20: 2021 | U20: 2022 | V20: 2023 | W20: 2024
B21: Lønnindeks | C21: 100 | D21: =D5*C21 -> 101.91819 | E21: =E5*D21 -> 104.5134 | F21: =F5*E21 -> 106.68547 | G21: =G5*F21 -> 110.15515 | H21: =H5*G21 -> 112.86319 | I21: =I5*H21 -> 116.38928 | J21: =J5*I21 -> 121.46685 | K21: =K5*J21 -> 127.87024 | M21: Lønnindeks | N21: =(C21/$J$21)*100 -> 82.326986 | O21: =(D21/$J$21)*100 -> 83.906177 | P21: =(E21/$J$21)*100 -> 86.042731 | Q21: =(F21/$J$21)*100 -> 87.830934 | R21: =(G21/$J$21)*100 -> 90.687413 | S21: =(H21/$J$21)*100 -> 92.91686 | T21: =(I21/$J$21)*100 -> 95.819786 | U21: =(J21/$J$21)*100 -> 100 | V21: =(K21/$J$21)*100 -> 105.27171
B22: Kapitalindeks | C22: 100 | D22: =D6*C22 -> 101.62094 | E22: =E6*D22 -> 103.87031 | F22: =F6*E22 -> 106.4171 | G22: =G6*F22 -> 107.79434 | H22: =H6*G22 -> 109.54044 | I22: =I6*H22 -> 110.49008 | J22: =J6*I22 -> 114.28389 | K22: =K6*J22 -> 122.46454 | M22: Kapitalindeks | N22: =(C22/$J$22)*100 -> 87.501399 | O22: =(D22/$J$22)*100 -> 88.919741 | P22: =(E22/$J$22)*100 -> 90.887975 | Q22: =(F22/$J$22)*100 -> 93.116456 | R22: =(G22/$J$22)*100 -> 94.321557 | S22: =(H22/$J$22)*100 -> 95.849414 | T22: =(I22/$J$22)*100 -> 96.680367 | U22: =(J22/$J$22)*100 -> 100 | V22: =(K22/$J$22)*100 -> 107.15819
B23: Dieselindeks | C23: 100 | D23: =D7*C23 -> 95.366667 | E23: =E7*D23 -> 103.74167 | F23: =F7*E23 -> 114.90833 | G23: =G7*F23 -> 115.2 | H23: =H7*G23 -> 107.51667 | I23: =I7*H23 -> 120.74167 | J23: =J7*I23 -> 168.38333 | K23: =K7*J23 -> 101.8 | M23: Dieselindeks | N23: =(C23/$J$23)*100 -> 59.388301 | O23: =(D23/$J$23)*100 -> 56.636643 | P23: =(E23/$J$23)*100 -> 61.610413 | Q23: =(F23/$J$23)*100 -> 68.242106 | R23: =(G23/$J$23)*100 -> 68.415322 | S23: =(H23/$J$23)*100 -> 63.852321 | T23: =(I23/$J$23)*100 -> 71.706424 | U23: =(J23/$J$23)*100 -> 100 | V23: =(K23/$J$23)*100 -> 60.45729
B24: Vedlikehold- & reparasjonsindeks | C24: 100 | D24: =D10*C24 -> 103.20833 | E24: =E10*D24 -> 105.21667 | F24: =F10*E24 -> 107.425 | G24: =G10*F24 -> 110.29167 | H24: =H10*G24 -> 113.725 | I24: =I10*H24 -> 117.225 | J24: =J10*I24 -> 122.90833 | K24: =K10*J24 -> 130.42668 | M24: Vedlikehold- & reparasjonsindeks | N24: =(C24/$J$24)*100 -> 81.361448 | O24: =(D24/$J$24)*100 -> 83.971795 | P24: =(E24/$J$24)*100 -> 85.605804 | Q24: =(F24/$J$24)*100 -> 87.402536 | R24: =(G24/$J$24)*100 -> 89.734897 | S24: =(H24/$J$24)*100 -> 92.528307 | T24: =(I24/$J$24)*100 -> 95.375958 | U24: =(J24/$J$24)*100 -> 100 | V24: =(K24/$J$24)*100 -> 106.11704
B25: Forsikringsindeks | C25: 100 | D25: =D11*C25 -> 100.225 | E25: =E11*D25 -> 101.5 | F25: =F11*E25 -> 103.65 | G25: =G11*F25 -> 106 | H25: =H11*G25 -> 110.35 | I25: =I11*H25 -> 117.125 | J25: =J11*I25 -> 123.275 | K25: =K11*J25 -> 81.945455 | M25: Forsikringsindeks | N25: =(C25/$J$25)*100 -> 81.119448 | O25: =(D25/$J$25)*100 -> 81.301967 | P25: =(E25/$J$25)*100 -> 82.33624 | Q25: =(F25/$J$25)*100 -> 84.080308 | R25: =(G25/$J$25)*100 -> 85.986615 | S25: =(H25/$J$25)*100 -> 89.515311 | T25: =(I25/$J$25)*100 -> 95.011154 | U25: =(J25/$J$25)*100 -> 100 | V25: =(K25/$J$25)*100 -> 66.473701
B26: Administrasjonsindeks | C26: 100 | D26: =D12*C26 -> 103.55 | E26: =E12*D26 -> 105.49167 | F26: =F12*E26 -> 108.40833 | G26: =G12*F26 -> 110.75833 | H26: =H12*G26 -> 112.18333 | I26: =I12*H26 -> 116.09167 | J26: =J12*I26 -> 122.78333 | K26: =K12*J26 -> 93.909091 | M26: Administrasjonsindeks | N26: =(C26/$J$26)*100 -> 81.444279 | O26: =(D26/$J$26)*100 -> 84.33555 | P26: =(E26/$J$26)*100 -> 85.916927 | Q26: =(F26/$J$26)*100 -> 88.292385 | R26: =(G26/$J$26)*100 -> 90.206326 | S26: =(H26/$J$26)*100 -> 91.366906 | T26: =(I26/$J$26)*100 -> 94.55002 | U26: =(J26/$J$26)*100 -> 100 | V26: =(K26/$J$26)*100 -> 76.483582
B27: Totalindeks, dieselbiler | C27: 100 | D27: =D13*C27 -> 101.70341 | E27: =E13*D27 -> 104.44184 | F27: =F13*E27 -> 107.46894 | G27: =G13*F27 -> 110.11143 | H27: =H13*G27 -> 111.90605 | I27: =I13*H27 -> 116.14603 | J27: =J13*I27 -> 124.4977 | K27: =K13*J27 -> 117.09688 | M27: Totalindeks, dieselbiler | N27: =(C27/$J$27)*100 -> 80.322767 | O27: =(D27/$J$27)*100 -> 81.690993 | P27: =(E27/$J$27)*100 -> 83.890571 | Q27: =(F27/$J$27)*100 -> 86.322026 | R27: =(G27/$J$27)*100 -> 88.444548 | S27: =(H27/$J$27)*100 -> 89.886035 | T27: =(I27/$J$27)*100 -> 93.291708 | U27: =(J27/$J$27)*100 -> 100 | V27: =(K27/$J$27)*100 -> 94.055453
B29: kjedet indeks for bensin- og hybridbiler | C29: 2015 | D29: 2016 | E29: 2017 | F29: 2018 | G29: 2019 | H29: 2020 | I29: 2021 | J29: 2022 | K29: 2023 | M29: kjedet indeks for bensin- og hybridbiler | N29: 2015 | O29: 2016 | P29: 2017 | Q29: 2018 | R29: 2019 | S29: 2020 | T29: 2021 | U29: 2022 | V29: 2023 | W29: 2024
B30: Lønnindeks | C30: 100 | D30: =D5*C30 -> 101.91819 | E30: =E5*D30 -> 104.5134 | F30: =F5*E30 -> 106.68547 | G30: =G5*F30 -> 110.15515 | H30: =H5*G30 -> 112.86319 | I30: =I5*H30 -> 116.38928 | J30: =J5*I30 -> 121.46685 | K30: =K5*J30 -> 127.87024 | M30: Lønnindeks | N30: =(C30/$J$30)*100 -> 82.326986 | O30: =(D30/$J$30)*100 -> 83.906177 | P30: =(E30/$J$30)*100 -> 86.042731 | Q30: =(F30/$J$30)*100 -> 87.830934 | R30: =(G30/$J$30)*100 -> 90.687413 | S30: =(H30/$J$30)*100 -> 92.91686 | T30: =(I30/$J$30)*100 -> 95.819786 | U30: =(J30/$J$30)*100 -> 100 | V30: =(K30/$J$30)*100 -> 105.27171
B31: Kapitalindeks | C31: 100 | D31: =D6*C31 -> 101.62094 | E31: =E6*D31 -> 103.87031 | F31: =F6*E31 -> 106.4171 | G31: =G6*F31 -> 107.79434 | H31: =H6*G31 -> 109.54044 | I31: =I6*H31 -> 110.49008 | J31: =J6*I31 -> 114.28389 | K31: =K6*J31 -> 122.46454 | M31: Kapitalindeks | N31: =(C31/$J$31)*100 -> 87.501399 | O31: =(D31/$J$31)*100 -> 88.919741 | P31: =(E31/$J$31)*100 -> 90.887975 | Q31: =(F31/$J$31)*100 -> 93.116456 | R31: =(G31/$J$31)*100 -> 94.321557 | S31: =(H31/$J$31)*100 -> 95.849414 | T31: =(I31/$J$31)*100 -> 96.680367 | U31: =(J31/$J$31)*100 -> 100 | V31: =(K31/$J$31)*100 -> 107.15819
B32: Bensinindeks | C32: 100 | D32: =D8*C32 -> 97.099758 | E32: =E8*D32 -> 103.28361 | F32: =F8*E32 -> 109.71748 | G32: =G8*F32 -> 110.50921 | H32: =H8*G32 -> 103.43362 | I32: =I8*H32 -> 116.40137 | J32: =J8*I32 -> 150.64589 | K32: =K8*J32 -> 105.9361 | M32: Bensinindeks | N32: =(C32/$J$32)*100 -> 66.380836 | O32: =(D32/$J$32)*100 -> 64.455632 | P32: =(E32/$J$32)*100 -> 68.560522 | Q32: =(F32/$J$32)*100 -> 72.831379 | R32: =(G32/$J$32)*100 -> 73.356937 | S32: =(H32/$J$32)*100 -> 68.660102 | T32: =(I32/$J$32)*100 -> 77.268201 | U32: =(J32/$J$32)*100 -> 100 | V32: =(K32/$J$32)*100 -> 70.32127
B33: Vedlikehold- & reparasjonsindeks | C33: 100 | D33: =D10*C33 -> 103.20833 | E33: =E10*D33 -> 105.21667 | F33: =F10*E33 -> 107.425 | G33: =G10*F33 -> 110.29167 | H33: =H10*G33 -> 113.725 | I33: =I10*H33 -> 117.225 | J33: =J10*I33 -> 122.90833 | K33: =K10*J33 -> 130.42668 | M33: Vedlikehold- & reparasjonsindeks | N33: =(C33/$J$33)*100 -> 81.361448 | O33: =(D33/$J$33)*100 -> 83.971795 | P33: =(E33/$J$33)*100 -> 85.605804 | Q33: =(F33/$J$33)*100 -> 87.402536 | R33: =(G33/$J$33)*100 -> 89.734897 | S33: =(H33/$J$33)*100 -> 92.528307 | T33: =(I33/$J$33)*100 -> 95.375958 | U33: =(J33/$J$33)*100 -> 100 | V33: =(K33/$J$33)*100 -> 106.11704
B34: Forsikringsindeks | C34: 100 | D34: =D11*C34 -> 100.225 | E34: =E11*D34 -> 101.5 | F34: =F11*E34 -> 103.65 | G34: =G11*F34 -> 106 | H34: =H11*G34 -> 110.35 | I34: =I11*H34 -> 117.125 | J34: =J11*I34 -> 123.275 | K34: =K11*J34 -> 81.945455 | M34: Forsikringsindeks | N34: =(C34/$J$34)*100 -> 81.119448 | O34: =(D34/$J$34)*100 -> 81.301967 | P34: =(E34/$J$34)*100 -> 82.33624 | Q34: =(F34/$J$34)*100 -> 84.080308 | R34: =(G34/$J$34)*100 -> 85.986615 | S34: =(H34/$J$34)*100 -> 89.515311 | T34: =(I34/$J$34)*100 -> 95.011154 | U34: =(J34/$J$34)*100 -> 100 | V34: =(K34/$J$34)*100 -> 66.473701
B35: Administrasjonsindeks | C35: 100 | D35: =D12*C35 -> 103.55 | E35: =E12*D35 -> 105.49167 | F35: =F12*E35 -> 108.40833 | G35: =G12*F35 -> 110.75833 | H35: =H12*G35 -> 112.18333 | I35: =I12*H35 -> 116.09167 | J35: =J12*I35 -> 122.78333 | K35: =K12*J35 -> 93.909091 | M35: Administrasjonsindeks | N35: =(C35/$J$35)*100 -> 81.444279 | O35: =(D35/$J$35)*100 -> 84.33555 | P35: =(E35/$J$35)*100 -> 85.916927 | Q35: =(F35/$J$35)*100 -> 88.292385 | R35: =(G35/$J$35)*100 -> 90.206326 | S35: =(H35/$J$35)*100 -> 91.366906 | T35: =(I35/$J$35)*100 -> 94.55002 | U35: =(J35/$J$35)*100 -> 100 | V35: =(K35/$J$35)*100 -> 76.483582
B36: Totalindeks, bensin- og hybridbiler | C36: 100 | D36: =D14*C36 -> 101.86434 | E36: =E14*D36 -> 104.41632 | F36: =F14*E36 -> 107.09744 | G36: =G14*F36 -> 109.77611 | H36: =H14*G36 -> 111.5712 | I36: =I14*H36 -> 115.80872 | J36: =J14*I36 -> 123.23442 | K36: =K14*J36 -> 116.12259 | M36: Totalindeks, bensin- og hybridbiler | N36: =(C36/$J$36)*100 -> 81.146161 | O36: =(D36/$J$36)*100 -> 82.659 | P36: =(E36/$J$36)*100 -> 84.729832 | Q36: =(F36/$J$36)*100 -> 86.905458 | R36: =(G36/$J$36)*100 -> 89.079096 | S36: =(H36/$J$36)*100 -> 90.535748 | T36: =(I36/$J$36)*100 -> 93.974332 | U36: =(J36/$J$36)*100 -> 100 | V36: =(K36/$J$36)*100 -> 94.229026
B38: kjedet indeks for el-biler | C38: 2015 | D38: 2016 | E38: 2017 | F38: 2018 | G38: 2019 | H38: 2020 | I38: 2021 | J38: 2022 | K38: 2023 | M38: kjedet indeks for el-biler | N38: 2015 | O38: 2016 | P38: 2017 | Q38: 2018 | R38: 2019 | S38: 2020 | T38: 2021 | U38: 2022 | V38: 2023 | W38: 2024
B39: Lønnindeks | C39: 100 | D39: =D5*C39 -> 101.91819 | E39: =E5*D39 -> 104.5134 | F39: =F5*E39 -> 106.68547 | G39: =G5*F39 -> 110.15515 | H39: =H5*G39 -> 112.86319 | I39: =I5*H39 -> 116.38928 | J39: =J5*I39 -> 121.46685 | K39: =K5*J39 -> 127.87024 | M39: Lønnindeks | N39: =(C39/$J$39)*100 -> 82.326986 | O39: =(D39/$J$39)*100 -> 83.906177 | P39: =(E39/$J$39)*100 -> 86.042731 | Q39: =(F39/$J$39)*100 -> 87.830934 | R39: =(G39/$J$39)*100 -> 90.687413 | S39: =(H39/$J$39)*100 -> 92.91686 | T39: =(I39/$J$39)*100 -> 95.819786 | U39: =(J39/$J$39)*100 -> 100 | V39: =(K39/$J$39)*100 -> 105.27171
B40: Kapitalindeks | C40: 100 | D40: =D6*C40 -> 101.62094 | E40: =E6*D40 -> 103.87031 | F40: =F6*E40 -> 106.4171 | G40: =G6*F40 -> 107.79434 | H40: =H6*G40 -> 109.54044 | I40: =I6*H40 -> 110.49008 | J40: =J6*I40 -> 114.28389 | K40: =K6*J40 -> 122.46454 | M40: Kapitalindeks | N40: =(C40/$J$40)*100 -> 87.501399 | O40: =(D40/$J$40)*100 -> 88.919741 | P40: =(E40/$J$40)*100 -> 90.887975 | Q40: =(F40/$J$40)*100 -> 93.116456 | R40: =(G40/$J$40)*100 -> 94.321557 | S40: =(H40/$J$40)*100 -> 95.849414 | T40: =(I40/$J$40)*100 -> 96.680367 | U40: =(J40/$J$40)*100 -> 100 | V40: =(K40/$J$40)*100 -> 107.15819
B41: Elektrisitetsindeks | C41: 100 | D41: =D9*C41 -> 122.21667 | E41: =E9*D41 -> 133.61667 | F41: =F9*E41 -> 167.84167 | G41: =G9*F41 -> 168.90833 | H41: =H9*G41 -> 119.30833 | I41: =I9*H41 -> 203.81667 | J41: =J9*I41 -> 242.60833 | K41: =K9*J41 -> 104.24545 | M41: Elektrisitetsindeks | N41: =(C41/$J$41)*100 -> 41.2187 | O41: =(D41/$J$41)*100 -> 50.376121 | P41: =(E41/$J$41)*100 -> 55.075052 | Q41: =(F41/$J$41)*100 -> 69.182152 | R41: =(G41/$J$41)*100 -> 69.621818 | S41: =(H41/$J$41)*100 -> 49.177343 | T41: =(I41/$J$41)*100 -> 84.010579 | U41: =(J41/$J$41)*100 -> 100 | V41: =(K41/$J$41)*100 -> 42.968621
B42: Vedlikehold- & reparasjonsindeks | C42: 100 | D42: =D10*C42 -> 103.20833 | E42: =E10*D42 -> 105.21667 | F42: =F10*E42 -> 107.425 | G42: =G10*F42 -> 110.29167 | H42: =H10*G42 -> 113.725 | I42: =I10*H42 -> 117.225 | J42: =J10*I42 -> 122.90833 | K42: =K10*J42 -> 130.42668 | M42: Vedlikehold- & reparasjonsindeks | N42: =(C42/$J$42)*100 -> 81.361448 | O42: =(D42/$J$42)*100 -> 83.971795 | P42: =(E42/$J$42)*100 -> 85.605804 | Q42: =(F42/$J$42)*100 -> 87.402536 | R42: =(G42/$J$42)*100 -> 89.734897 | S42: =(H42/$J$42)*100 -> 92.528307 | T42: =(I42/$J$42)*100 -> 95.375958 | U42: =(J42/$J$42)*100 -> 100 | V42: =(K42/$J$42)*100 -> 106.11704
