Workbook

Sheet Lønn
A1: 07251: Arbeidskraftkostnadsindeks (2016=100), etter kvartal, statistikkvariabel og næring (SN2007)
A2: https://www.ssb.no/statbank/table/07251/
A3: Indeks for totale arbeidskraftkostnader
A4: 49-53b Transport og lagring | N4: År | O4: 2015 | P4: 2016 | Q4: 2017 | R4: 2018 | S4: 2019 | T4: 2020 | U4: 2021 | V4: 2022 | W4: 2023 | X4: 2024
A5: Kvartal | B5: 2016=100 | C5: AKI, Årlig | D5: Prisrelativer | E5: 2020=100 | F5: AKI, Årlig | G5: Prisrelativer | I5: Måned | J5: Månedsverdi | K5: Prisrelativer | N5: AKI, årlig gjennomsnitt | O5: =F9 -> 88.625 | P5: =F13 -> 90.325 | Q5: =F17 -> 92.625 | R5: =F21 -> 94.55 | S5: =F25 -> 97.625 | T5: =F29 -> 100.025 | U5: =F33 -> 103.15 | V5: =F37 -> 107.65 | W5: =F41 -> 113.325
A6: 2015K1 | B6: 97.5 | D6: =B6/B6 -> 1 | E6: =IF('Rådata - Lønnskostnader'!D2<>"",'Rådata - Lønnskostnader'!D2,"") -> 88.1 | G6: =E6/E6 -> 1 | I6: 2015M01 | J6: =E6 -> 88.1 | K6: 1 | N6: Prisrelativer [(Pt/Pt-1)] | P6: =P5/O5 -> 1.0191819 | Q6: =Q5/P5 -> 1.0254636 | R6: =R5/Q5 -> 1.0207827 | S6: =S5/R5 -> 1.0325225 | T6: =T5/S5 -> 1.0245839 | U6: =U5/T5 -> 1.0312422 | V6: =V5/U5 -> 1.0436258 | W6: =W5/V5 -> 1.0527171
A7: 2015K2 | B7: 97.8 | D7: =B7/B6 -> 1.0030769 | E7: =IF('Rådata - Lønnskostnader'!D3<>"",'Rådata - Lønnskostnader'!D3,"") -> 88.4 | G7: =IFERROR(E7/E6,"") -> 1.0034052 | I7: 2015M02 | J7: =J6 -> 88.1 | K7: 1
A8: 2015K3 | B8: 98.3 | D8: =B8/B7 -> 1.0051125 | E8: =IF('Rådata - Lønnskostnader'!D4<>"",'Rådata - Lønnskostnader'!D4,"") -> 88.8 | G8: =IFERROR(E8/E7,"") -> 1.0045249 | I8: 2015M03 | J8: =J7 -> 88.1 | K8: 1
A9: 2015K4 | B9: 98.8 | C9: =AVERAGE(B6:B9) -> 98.1 | D9: =B9/B8 -> 1.0050865 | E9: =IF('Rådata - Lønnskostnader'!D5<>"",'Rådata - Lønnskostnader'!D5,"") -> 89.2 | F9: =AVERAGE(E6:E9) -> 88.625 | G9: =IFERROR(E9/E8,"") -> 1.0045045 | I9: 2015M04 | J9: =E7 -> 88.4 | K9: =1+(J9/J8-1)/3 -> 1.0011351 | N9: Gjennomsnittlig endring i observert periode
A10: 2016K1 | B10: 99.5 | D10: =B10/B9 -> 1.007085 | E10: =IF('Rådata - Lønnskostnader'!D6<>"",'Rådata - Lønnskostnader'!D6,"") -> 89.9 | G10: =IFERROR(E10/E9,"") -> 1.0078475 | I10: 2015M05 | J10: =J9 -> 88.4 | K10: =K9 -> 1.0011351 | N10: 2022 = 100
A11: 2016K2 | B11: 99.7 | D11: =B11/B10 -> 1.0020101 | E11: =IF('Rådata - Lønnskostnader'!D7<>"",'Rådata - Lønnskostnader'!D7,"") -> 90.1 | G11: =IFERROR(E11/E10,"") -> 1.0022247 | I11: 2015M06 | J11: =J10 -> 88.4 | K11: =K10 -> 1.0011351 | N11: Periode | P11: Verdi
A12: 2016K3 | B12: 99.8 | D12: =B12/B11 -> 1.001003 | E12: =IF('Rådata - Lønnskostnader'!D8<>"",'Rådata - Lønnskostnader'!D8,"") -> 90.1 | G12: =IFERROR(E12/E11,"") -> 1 | I12: 2015M07 | J12: =E8 -> 88.8 | K12: =1+(J12/J11-1)/3 -> 1.0015083 | N12: Januar 15 - November 23 (kvartalsvis) | P12: =EXP(LN(1+(E43/E6-1))/((COUNT(E6:E43))-1))-1 -> 0.0076970768
A13: 2016K4 | B13: 101 | C13: =AVERAGE(B10:B13) -> 100 | D13: =B13/B12 -> 1.012024 | E13: =IF('Rådata - Lønnskostnader'!D9<>"",'Rådata - Lønnskostnader'!D9,"") -> 91.2 | F13: =AVERAGE(E10:E13) -> 90.325 | G13: =IFERROR(E13/E12,"") -> 1.0122087 | I13: 2015M08 | J13: =J12 -> 88.8 | K13: =K12 -> 1.0015083 | N13: Januar 15 - November 23 (månedsvis) | P13: =EXP(LN(1+(J119/J6-1))/((COUNT(J6:J119))-1))-1 -> 0.0025137862
A14: 2017K1 | B14: 102.1 | D14: =B14/B13 -> 1.0108911 | E14: =IF('Rådata - Lønnskostnader'!D10<>"",'Rådata - Lønnskostnader'!D10,"") -> 92.3 | G14: =IFERROR(E14/E13,"") -> 1.0120614 | I14: 2015M09 | J14: =J13 -> 88.8 | K14: =K13 -> 1.0015083
A15: 2017K2 | B15: 102.7 | D15: =B15/B14 -> 1.0058766 | E15: =IF('Rådata - Lønnskostnader'!D11<>"",'Rådata - Lønnskostnader'!D11,"") -> 92.8 | G15: =IFERROR(E15/E14,"") -> 1.0054171 | I15: 2015M10 | J15: =E9 -> 89.2 | K15: =1+(J15/J14-1)/3 -> 1.0015015
A16: 2017K3 | B16: 102.1 | D16: =B16/B15 -> 0.99415774 | E16: =IF('Rådata - Lønnskostnader'!D12<>"",'Rådata - Lønnskostnader'!D12,"") -> 92.2 | G16: =IFERROR(E16/E15,"") -> 0.99353448 | I16: 2015M11 | J16: =J15 -> 89.2 | K16: =K15 -> 1.0015015
A17: 2017K4 | B17: 103.2 | C17: =AVERAGE(B14:B17) -> 102.525 | D17: =B17/B16 -> 1.0107738 | E17: =IF('Rådata - Lønnskostnader'!D13<>"",'Rådata - Lønnskostnader'!D13,"") -> 93.2 | F17: =AVERAGE(E14:E17) -> 92.625 | G17: =IFERROR(E17/E16,"") -> 1.010846 | I17: 2015M12 | J17: =J16 -> 89.2 | K17: =K16 -> 1.0015015
A18: 2018K1 | B18: 103.8 | D18: =B18/B17 -> 1.005814 | E18: =IF('Rådata - Lønnskostnader'!D14<>"",'Rådata - Lønnskostnader'!D14,"") -> 93.8 | G18: =IFERROR(E18/E17,"") -> 1.0064378 | I18: 2016M01 | J18: =E10 -> 89.9 | K18: =1+(J18/J17-1)/3 -> 1.0026158
A19: 2018K2 | B19: 104.7 | D19: =B19/B18 -> 1.0086705 | E19: =IF('Rådata - Lønnskostnader'!D15<>"",'Rådata - Lønnskostnader'!D15,"") -> 94.6 | G19: =IFERROR(E19/E18,"") -> 1.0085288 | I19: 2016M02 | J19: =J18 -> 89.9 | K19: =K18 -> 1.0026158
A20: 2018K3 | B20: 104.3 | D20: =B20/B19 -> 0.99617956 | E20: =IF('Rådata - Lønnskostnader'!D16<>"",'Rådata - Lønnskostnader'!D16,"") -> 94.2 | G20: =IFERROR(E20/E19,"") -> 0.99577167 | I20: 2016M03 | J20: =J19 -> 89.9 | K20: =K19 -> 1.0026158
A21: 2018K4 | B21: 105.8 | C21: =AVERAGE(B18:B21) -> 104.65 | D21: =B21/B20 -> 1.0143816 | E21: =IF('Rådata - Lønnskostnader'!D17<>"",'Rådata - Lønnskostnader'!D17,"") -> 95.6 | F21: =AVERAGE(E18:E21) -> 94.55 | G21: =IFERROR(E21/E20,"") -> 1.014862 | I21: 2016M04 | J21: =E11 -> 90.1 | K21: =1+(J21/J20-1)/3 -> 1.0007416
A22: 2019K1 | B22: 106.3 | D22: =B22/B21 -> 1.0047259 | E22: =IF('Rådata - Lønnskostnader'!D18<>"",'Rådata - Lønnskostnader'!D18,"") -> 96 | G22: =IFERROR(E22/E21,"") -> 1.0041841 | I22: 2016M05 | J22: =J21 -> 90.1 | K22: =K21 -> 1.0007416
A23: 2019K2 | B23: 108.6 | D23: =B23/B22 -> 1.0216369 | E23: =IF('Rådata - Lønnskostnader'!D19<>"",'Rådata - Lønnskostnader'!D19,"") -> 98.1 | G23: =IFERROR(E23/E22,"") -> 1.021875 | I23: 2016M06 | J23: =J22 -> 90.1 | K23: =K22 -> 1.0007416
A24: 2019K3 | B24: 108.5 | D24: =B24/B23 -> 0.99907919 | E24: =IF('Rådata - Lønnskostnader'!D20<>"",'Rådata - Lønnskostnader'!D20,"") -> 98.1 | G24: =IFERROR(E24/E23,"") -> 1 | I24: 2016M07 | J24: =E12 -> 90.1 | K24: =1+(J24/J23-1)/3 -> 1
A25: 2019K4 | B25: 108.8 | C25: =AVERAGE(B22:B25) -> 108.05 | D25: =B25/B24 -> 1.002765 | E25: =IF('Rådata - Lønnskostnader'!D21<>"",'Rådata - Lønnskostnader'!D21,"") -> 98.3 | F25: =AVERAGE(E22:E25) -> 97.625 | G25: =IFERROR(E25/E24,"") -> 1.0020387 | I25: 2016M08 | J25: =J24 -> 90.1 | K25: =K24 -> 1
A26: 2020K1 | B26: 110 | D26: =B26/B25 -> 1.0110294 | E26: =IF('Rådata - Lønnskostnader'!D22<>"",'Rådata - Lønnskostnader'!D22,"") -> 99.4 | G26: =IFERROR(E26/E25,"") -> 1.0111902 | I26: 2016M09 | J26: =J25 -> 90.1 | K26: =K25 -> 1
A27: 2020K2 | B27: 111 | D27: =B27/B26 -> 1.0090909 | E27: =IF('Rådata - Lønnskostnader'!D23<>"",'Rådata - Lønnskostnader'!D23,"") -> 100.3 | G27: =IFERROR(E27/E26,"") -> 1.0090543 | I27: 2016M10 | J27: =E13 -> 91.2 | K27: =1+(J27/J26-1)/3 -> 1.0040696
A28: 2020K3 | B28: 110.3 | D28: =B28/B27 -> 0.99369369 | E28: =IF('Rådata - Lønnskostnader'!D24<>"",'Rådata - Lønnskostnader'!D24,"") -> 99.7 | G28: =IFERROR(E28/E27,"") -> 0.99401795 | I28: 2016M11 | J28: =J27 -> 91.2 | K28: =K27 -> 1.0040696
A29: 2020K4 | B29: 111.4 | C29: =AVERAGE(B26:B29) -> 110.675 | D29: =B29/B28 -> 1.0099728 | E29: =IF('Rådata - Lønnskostnader'!D25<>"",'Rådata - Lønnskostnader'!D25,"") -> 100.7 | F29: =AVERAGE(E26:E29) -> 100.025 | G29: =IFERROR(E29/E28,"") -> 1.0100301 | I29: 2016M12 | J29: =J28 -> 91.2 | K29: =K28 -> 1.0040696
A30: 2021K1 | B30: 112.4 | D30: =B30/B29 -> 1.0089767 | E30: =IF('Rådata - Lønnskostnader'!D26<>"",'Rådata - Lønnskostnader'!D26,"") -> 101.6 | G30: =IFERROR(E30/E29,"") -> 1.0089374 | I30: 2017M01 | J30: =E14 -> 92.3 | K30: =1+(J30/J29-1)/3 -> 1.0040205
A31: 2021K2 | B31: 114.5 | D31: =B31/B30 -> 1.0186833 | E31: =IF('Rådata - Lønnskostnader'!D27<>"",'Rådata - Lønnskostnader'!D27,"") -> 103.5 | G31: =IFERROR(E31/E30,"") -> 1.0187008 | I31: 2017M02 | J31: =J30 -> 92.3 | K31: =K30 -> 1.0040205
A32: 2021K3 | B32: 114.1 | D32: =B32/B31 -> 0.99650655 | E32: =IF('Rådata - Lønnskostnader'!D28<>"",'Rådata - Lønnskostnader'!D28,"") -> 103.1 | G32: =IFERROR(E32/E31,"") -> 0.99613527 | I32: 2017M03 | J32: =J31 -> 92.3 | K32: =K31 -> 1.0040205
A33: 2021K4 | B33: 115.6 | C33: =AVERAGE(B30:B33) -> 114.15 | D33: =B33/B32 -> 1.0131464 | E33: =IF('Rådata - Lønnskostnader'!D29<>"",'Rådata - Lønnskostnader'!D29,"") -> 104.4 | F33: =AVERAGE(E30:E33) -> 103.15 | G33: =IFERROR(E33/E32,"") -> 1.0126091 | I33: 2017M04 | J33: =E15 -> 92.8 | K33: =1+(J33/J32-1)/3 -> 1.0018057
A34: 2022K1 | B34: 117.1 | D34: =B34/B33 -> 1.0129758 | E34: =IF('Rådata - Lønnskostnader'!D30<>"",'Rådata - Lønnskostnader'!D30,"") -> 105.8 | G34: =IFERROR(E34/E33,"") -> 1.01341 | I34: 2017M05 | J34: =J33 -> 92.8 | K34: =K33 -> 1.0018057
A35: 2022K2 | B35: 119.1 | D35: =B35/B34 -> 1.0170794 | E35: =IF('Rådata - Lønnskostnader'!D31<>"",'Rådata - Lønnskostnader'!D31,"") -> 107.7 | G35: =IFERROR(E35/E34,"") -> 1.0179584 | I35: 2017M06 | J35: =J34 -> 92.8 | K35: =K34 -> 1.0018057
A36: 2022K3 | B36: 118.4 | D36: =B36/B35 -> 0.99412259 | E36: =IF('Rådata - Lønnskostnader'!D32<>"",'Rådata - Lønnskostnader'!D32,"") -> 107 | G36: =IFERROR(E36/E35,"") -> 0.99350046 | I36: 2017M07 | J36: =E16 -> 92.2 | K36: =1+(J36/J35-1)/3 -> 0.99784483
A37: 2022K4 | B37: 121.8 | C37: =AVERAGE(B34:B37) -> 119.1 | D37: =B37/B36 -> 1.0287162 | E37: =IF('Rådata - Lønnskostnader'!D33<>"",'Rådata - Lønnskostnader'!D33,"") -> 110.1 | F37: =AVERAGE(E34:E37) -> 107.65 | G37: =IFERROR(E37/E36,"") -> 1.028972 | I37: 2017M08 | J37: =J36 -> 92.2 | K37: =K36 -> 0.99784483
A38: 2023K1 | E38: =IF('Rådata - Lønnskostnader'!D34<>"",'Rådata - Lønnskostnader'!D34,"") -> 111 | G38: =IFERROR(E38/E37,"") -> 1.0081744 | I38: 2017M09 | J38: =J37 -> 92.2 | K38: =K37 -> 0.99784483
A39: 2023K2 | E39: =IF('Rådata - Lønnskostnader'!D35<>"",'Rådata - Lønnskostnader'!D35,"") -> 113 | G39: =IFERROR(E39/E38,"") -> 1.018018 | I39: 2017M10 | J39: =E17 -> 93.2 | K39: =1+(J39/J38-1)/3 -> 1.0036153
A40: 2023K3 | E40: =IF('Rådata - Lønnskostnader'!D36<>"",'Rådata - Lønnskostnader'!D36,"") -> 111.8 | G40: =IFERROR(E40/E39,"") -> 0.98938053 | I40: 2017M11 | J40: =J39 -> 93.2 | K40: =K39 -> 1.0036153
...

Sheet Kapital_avskrivning
A1: 03013: Konsumprisindeks, etter måned, statistikkvariabel og konsumgruppe
A2: 03013: Konsumprisindeks, etter konsumgruppe, måned og statistikkvariabel. Statistikkbanken (ssb.no)
A4: Konsumprisindeks for biler (2015=100)
A5: Måned | B5: 2015=100 | D5: Prisrelativer | G5: År | H5: 2015 | I5: 2016 | J5: 2017 | K5: 2018 | L5: 2019 | M5: 2020 | N5: 2021 | O5: 2022 | P5: 2023 | Q5: 2024
A6: 2015M01 | B6: =IF('Rådata - Kapital avskrivning'!D2<>"",'Rådata - Kapital avskrivning'!D2,"") -> 79.2 | D6: 1 | G6: KPI, årlig gjennomsnitt | H6: =C17 -> 79.425 | I6: =C29 -> 81.141667 | J6: =C41 -> 83.033333 | K6: =C53 -> 85.675 | L6: =C65 -> 86.825 | M6: =C77 -> 88.516667 | N6: =C89 -> 89.966667 | O6: =C101 -> 93.925 | P6: =C113 -> 101.08333
A7: 2015M02 | B7: =IF('Rådata - Kapital avskrivning'!D3<>"",'Rådata - Kapital avskrivning'!D3,"") -> 79.2 | D7: =B7/B6 -> 1 | G7: Prisrelativer [(Pt/Pt-1)] | I7: =I6/H6 -> 1.0216137 | J7: =J6/I6 -> 1.0233131 | K7: =K6/J6 -> 1.0318145 | L7: =L6/K6 -> 1.0134228 | M7: =M6/L6 -> 1.0194836 | N7: =N6/M6 -> 1.0163811 | O7: =O6/N6 -> 1.0439978 | P7: =P6/O6 -> 1.0762133
A8: 2015M03 | B8: =IF('Rådata - Kapital avskrivning'!D4<>"",'Rådata - Kapital avskrivning'!D4,"") -> 79.2 | D8: =B8/B7 -> 1
A9: 2015M04 | B9: =IF('Rådata - Kapital avskrivning'!D5<>"",'Rådata - Kapital avskrivning'!D5,"") -> 79.2 | D9: =B9/B8 -> 1 | G9: Gjennomsnittlig endring i observert periode
A10: 2015M05 | B10: =IF('Rådata - Kapital avskrivning'!D6<>"",'Rådata - Kapital avskrivning'!D6,"") -> 79.5 | D10: =B10/B9 -> 1.0037879 | G10: 2015 = 100
A11: 2015M06 | B11: =IF('Rådata - Kapital avskrivning'!D7<>"",'Rådata - Kapital avskrivning'!D7,"") -> 79.5 | D11: =B11/B10 -> 1 | G11: Periode | J11: Verdi
A12: 2015M07 | B12: =IF('Rådata - Kapital avskrivning'!D8<>"",'Rådata - Kapital avskrivning'!D8,"") -> 79.5 | D12: =B12/B11 -> 1 | G12: Januar 15 - juli 2025 (månedsvis) | J12: =EXP(LN(1+(B132/B6-1))/((COUNT(B6:B132))-1))-1 -> 0.0018445037
A13: 2015M08 | B13: =IF('Rådata - Kapital avskrivning'!D9<>"",'Rådata - Kapital avskrivning'!D9,"") -> 79.5 | D13: =B13/B12 -> 1
A14: 2015M09 | B14: =IF('Rådata - Kapital avskrivning'!D10<>"",'Rådata - Kapital avskrivning'!D10,"") -> 79.5 | D14: =B14/B13 -> 1
A15: 2015M10 | B15: =IF('Rådata - Kapital avskrivning'!D11<>"",'Rådata - Kapital avskrivning'!D11,"") -> 79.6 | D15: =B15/B14 -> 1.0012579
A16: 2015M11 | B16: =IF('Rådata - Kapital avskrivning'!D12<>"",'Rådata - Kapital avskrivning'!D12,"") -> 79.6 | D16: =B16/B15 -> 1
A17: 2015M12 | B17: =IF('Rådata - Kapital avskrivning'!D13<>"",'Rådata - Kapital avskrivning'!D13,"") -> 79.6 | C17: =AVERAGE(B6:B17) -> 79.425 | D17: =B17/B16 -> 1
A18: 2016M01 | B18: =IF('Rådata - Kapital avskrivning'!D14<>"",'Rådata - Kapital avskrivning'!D14,"") -> 81 | D18: =B18/B17 -> 1.0175879
A19: 2016M02 | B19: =IF('Rådata - Kapital avskrivning'!D15<>"",'Rådata - Kapital avskrivning'!D15,"") -> 81 | D19: =B19/B18 -> 1
A20: 2016M03 | B20: =IF('Rådata - Kapital avskrivning'!D16<>"",'Rådata - Kapital avskrivning'!D16,"") -> 81.1 | D20: =B20/B19 -> 1.0012346
A21: 2016M04 | B21: =IF('Rådata - Kapital avskrivning'!D17<>"",'Rådata - Kapital avskrivning'!D17,"") -> 81.1 | D21: =B21/B20 -> 1
A22: 2016M05 | B22: =IF('Rådata - Kapital avskrivning'!D18<>"",'Rådata - Kapital avskrivning'!D18,"") -> 81.1 | D22: =B22/B21 -> 1
A23: 2016M06 | B23: =IF('Rådata - Kapital avskrivning'!D19<>"",'Rådata - Kapital avskrivning'!D19,"") -> 81.1 | D23: =B23/B22 -> 1
A24: 2016M07 | B24: =IF('Rådata - Kapital avskrivning'!D20<>"",'Rådata - Kapital avskrivning'!D20,"") -> 81.1 | D24: =B24/B23 -> 1
A25: 2016M08 | B25: =IF('Rådata - Kapital avskrivning'!D21<>"",'Rådata - Kapital avskrivning'!D21,"") -> 81.1 | D25: =B25/B24 -> 1
A26: 2016M09 | B26: =IF('Rådata - Kapital avskrivning'!D22<>"",'Rådata - Kapital avskrivning'!D22,"") -> 81.1 | D26: =B26/B25 -> 1
A27: 2016M10 | B27: =IF('Rådata - Kapital avskrivning'!D23<>"",'Rådata - Kapital avskrivning'!D23,"") -> 81.3 | D27: =B27/B26 -> 1.0024661
A28: 2016M11 | B28: =IF('Rådata - Kapital avskrivning'!D24<>"",'Rådata - Kapital avskrivning'!D24,"") -> 81.3 | D28: =B28/B27 -> 1
A29: 2016M12 | B29: =IF('Rådata - Kapital avskrivning'!D25<>"",'Rådata - Kapital avskrivning'!D25,"") -> 81.4 | C29: =AVERAGE(B18:B29) -> 81.141667 | D29: =B29/B28 -> 1.00123
A30: 2017M01 | B30: =IF('Rådata - Kapital avskrivning'!D26<>"",'Rådata - Kapital avskrivning'!D26,"") -> 82.2 | D30: =B30/B29 -> 1.009828
A31: 2017M02 | B31: =IF('Rådata - Kapital avskrivning'!D27<>"",'Rådata - Kapital avskrivning'!D27,"") -> 82.3 | D31: =B31/B30 -> 1.0012165
A32: 2017M03 | B32: =IF('Rådata - Kapital avskrivning'!D28<>"",'Rådata - Kapital avskrivning'!D28,"") -> 82.3 | D32: =B32/B31 -> 1
A33: 2017M04 | B33: =IF('Rådata - Kapital avskrivning'!D29<>"",'Rådata - Kapital avskrivning'!D29,"") -> 83 | D33: =B33/B32 -> 1.0085055
A34: 2017M05 | B34: =IF('Rådata - Kapital avskrivning'!D30<>"",'Rådata - Kapital avskrivning'!D30,"") -> 83 | D34: =B34/B33 -> 1
A35: 2017M06 | B35: =IF('Rådata - Kapital avskrivning'!D31<>"",'Rådata - Kapital avskrivning'!D31,"") -> 83 | D35: =B35/B34 -> 1
A36: 2017M07 | B36: =IF('Rådata - Kapital avskrivning'!D32<>"",'Rådata - Kapital avskrivning'!D32,"") -> 83 | D36: =B36/B35 -> 1
A37: 2017M08 | B37: =IF('Rådata - Kapital avskrivning'!D33<>"",'Rådata - Kapital avskrivning'!D33,"") -> 83 | D37: =B37/B36 -> 1
A38: 2017M09 | B38: =IF('Rådata - Kapital avskrivning'!D34<>"",'Rådata - Kapital avskrivning'!D34,"") -> 83.4 | D38: =B38/B37 -> 1.0048193
A39: 2017M10 | B39: =IF('Rådata - Kapital avskrivning'!D35<>"",'Rådata - Kapital avskrivning'!D35,"") -> 82.8 | D39: =B39/B38 -> 0.99280576
A40: 2017M11 | B40: =IF('Rådata - Kapital avskrivning'!D36<>"",'Rådata - Kapital avskrivning'!D36,"") -> 84.2 | D40: =B40/B39 -> 1.0169082
A41: 2017M12 | B41: =IF('Rådata - Kapital avskrivning'!D37<>"",'Rådata - Kapital avskrivning'!D37,"") -> 84.2 | C41: =AVERAGE(B30:B41) -> 83.033333 | D41: =B41/B40 -> 1
...

Sheet Kapital_rente
A1: 10729: Renter på nye utlån (prosent), etter måned, statistikkvariabel, sektor og utlånstype | C1: 03013: Konsumprisindeks, etter måned, statistikkvariabel og konsumgruppe
B4: https://www.ssb.no/statbank/table/10729
B5: Renter på nye utlån, ikke-finansielle foretak | C5: Konsumprisindeks (2015=100)
B6: Andre nedbetalingslån | C6: TOTAL Totalindeks | D6: KPI, årlig endring | E6: Realrente | F6: Realrente, årlig gjennomsnitt | G6: Standardiserte verdier (1+r) | H6: Prisrelativer [(Pt/Pt-1)]
C7: 96.6 | D7: 2.2
C8: 97.1 | D8: 2.1
C9: 97.3 | D9: 2
C10: 97.7 | D10: 1.9 | K10: År | L10: 2015 | M10: 2016 | N10: 2017 | O10: 2018 | P10: 2019 | Q10: 2020 | R10: 2021 | S10: 2022 | T10: 2023 | U10: 2024 | V10: 2025
C11: 97.8 | D11: 1.9 | K11: Real rente, årlig gjennomsnitt (%) | M11: -0.0062365303 | N11: 0.0097234309 | O11: 0.002412823 | P11: 0.012791411 | Q11: 0.014563792 | R11: -0.011144493 | S11: -0.019749444 | T11: =F126/10 -> 0.030195387
C12: 97.5 | D12: 1.9 | K12: Standardiserte verdier (1+r) | L12: 1 | M12: =1+M11 -> 0.99376347 | N12: =1+N11 -> 1.0097234 | O12: =1+O11 -> 1.0024128 | P12: =1+P11 -> 1.0127914 | Q12: =1+Q11 -> 1.0145638 | R12: =1+R11 -> 0.98885551 | S12: =1+S11 -> 0.98025056 | T12: =1+T11 -> 1.0301954
C13: 98.3 | D13: 2.3 | K13: Prisrelativer [(Pt/Pt-1)] | M13: =M12/L12 -> 0.99376347 | N13: =N12/M12 -> 1.0160601 | O13: =O12/N12 -> 0.99275979 | P13: =P12/O12 -> 1.0103536 | Q13: =Q12/P12 -> 1.00175 | R13: =R12/Q12 -> 0.97466075 | S13: =S12/R12 -> 0.99129807 | T13: =T12/S12 -> 1.0509511
C14: 97.9 | D14: 2
C15: 98.5 | D15: 2.2 | K15: Gjennomsnittlig endring i observert periode | N15: Verdi
C16: 98.6 | D16: 2.1 | K16: Realrente: januar 2015 - juni 2025 | N16: =EXP(LN(1+(E144/E19-1))/((COUNT(E19:E144))-1))-1 -> 0.0082674528
C17: 98.6 | D17: 2 | K17: KPI: januar 2015 - juli 2025 | N17: =EXP(LN(1+(C145/C19-1))/((COUNT(C19:C145))-1))-1 -> 0.0027183172
C18: 98.6 | D18: 2.1 | K18: Renter: januar 2015 - oktober 2023 | N18: =EXP(LN(1+(B144/B19-1))/((COUNT(B19:B144))-1))-1 -> 0.0053052109
A19: 2015M01 | B19: =IF('Rådata - Renter'!E2<>"",'Rådata - Renter'!E2,"") -> 3.36 | C19: =IF('Rådata - KPI total'!C2<>"",'Rådata - KPI total'!C2,"") -> 71.6 | D19: 2.1 | E19: =B19-D19 -> 1.26 | G19: =(1+(E19/100)) -> 1.0126 | H19: =G19/G19 -> 1 | K19: Predikert differanse | N19: =N18-N17 -> 0.0025868938
A20: 2015M02 | B20: =IF('Rådata - Renter'!E3<>"",'Rådata - Renter'!E3,"") -> 3.07 | C20: =IF('Rådata - KPI total'!C3<>"",'Rådata - KPI total'!C3,"") -> 71.8 | D20: 1.9 | E20: =B20-D20 -> 1.17 | G20: =(1+(E20/100)) -> 1.0117 | H20: =G20/G19 -> 0.9991112
A21: 2015M03 | B21: =IF('Rådata - Renter'!E4<>"",'Rådata - Renter'!E4,"") -> 3.22 | C21: =IF('Rådata - KPI total'!C4<>"",'Rådata - KPI total'!C4,"") -> 72 | D21: 2 | E21: =B21-D21 -> 1.22 | G21: =(1+(E21/100)) -> 1.0122 | H21: =G21/G20 -> 1.0004942
A22: 2015M04 | B22: =IF('Rådata - Renter'!E5<>"",'Rådata - Renter'!E5,"") -> 3.37 | C22: =IF('Rådata - KPI total'!C5<>"",'Rådata - KPI total'!C5,"") -> 72.3 | D22: 1.9 | E22: =B22-D22 -> 1.47 | G22: =(1+(E22/100)) -> 1.0147 | H22: =G22/G21 -> 1.0024699
A23: 2015M05 | B23: =IF('Rådata - Renter'!E6<>"",'Rådata - Renter'!E6,"") -> 3.07 | C23: =IF('Rådata - KPI total'!C6<>"",'Rådata - KPI total'!C6,"") -> 72.5 | D23: 2 | E23: =B23-D23 -> 1.07 | G23: =(1+(E23/100)) -> 1.0107 | H23: =G23/G22 -> 0.99605795
A24: 2015M06 | B24: =IF('Rådata - Renter'!E7<>"",'Rådata - Renter'!E7,"") -> 3.17 | C24: =IF('Rådata - KPI total'!C7<>"",'Rådata - KPI total'!C7,"") -> 72.7 | D24: 2.7 | E24: =B24-D24 -> 0.47 | G24: =(1+(E24/100)) -> 1.0047 | H24: =G24/G23 -> 0.99406352
A25: 2015M07 | B25: =IF('Rådata - Renter'!E8<>"",'Rådata - Renter'!E8,"") -> 3.07 | C25: =IF('Rådata - KPI total'!C8<>"",'Rådata - KPI total'!C8,"") -> 72.7 | D25: 1.8 | E25: =B25-D25 -> 1.27 | G25: =(1+(E25/100)) -> 1.0127 | H25: =G25/G24 -> 1.0079626
A26: 2015M08 | B26: =IF('Rådata - Renter'!E9<>"",'Rådata - Renter'!E9,"") -> 2.71 | C26: =IF('Rådata - KPI total'!C9<>"",'Rådata - KPI total'!C9,"") -> 72.5 | D26: 2 | E26: =B26-D26 -> 0.71 | G26: =(1+(E26/100)) -> 1.0071 | H26: =G26/G25 -> 0.99447023
A27: 2015M09 | B27: =IF('Rådata - Renter'!E10<>"",'Rådata - Renter'!E10,"") -> 2.78 | C27: =IF('Rådata - KPI total'!C10<>"",'Rådata - KPI total'!C10,"") -> 73 | D27: 2.1 | E27: =B27-D27 -> 0.68 | G27: =(1+(E27/100)) -> 1.0068 | H27: =G27/G26 -> 0.99970211
A28: 2015M10 | B28: =IF('Rådata - Renter'!E11<>"",'Rådata - Renter'!E11,"") -> 2.72 | C28: =IF('Rådata - KPI total'!C11<>"",'Rådata - KPI total'!C11,"") -> 73.3 | D28: 2.4 | E28: =B28-D28 -> 0.32 | G28: =(1+(E28/100)) -> 1.0032 | H28: =G28/G27 -> 0.99642431
A29: 2015M11 | B29: =IF('Rådata - Renter'!E12<>"",'Rådata - Renter'!E12,"") -> 2.7 | C29: =IF('Rådata - KPI total'!C12<>"",'Rådata - KPI total'!C12,"") -> 73.6 | D29: 2.7 | E29: =B29-D29 -> 0 | G29: =(1+(E29/100)) -> 1 | H29: =G29/G28 -> 0.99681021
A30: 2015M12 | B30: =IF('Rådata - Renter'!E13<>"",'Rådata - Renter'!E13,"") -> 2.83 | C30: =IF('Rådata - KPI total'!C13<>"",'Rådata - KPI total'!C13,"") -> 73.3 | D30: 2.3 | E30: =B30-D30 -> 0.53 | F30: =AVERAGE(E19:E30) -> 0.8475 | G30: =(1+(E30/100)) -> 1.0053 | H30: =G30/G29 -> 1.0053
A31: 2016M01 | B31: =IF('Rådata - Renter'!E14<>"",'Rådata - Renter'!E14,"") -> 2.81 | C31: =IF('Rådata - KPI total'!C14<>"",'Rådata - KPI total'!C14,"") -> 73.7 | D31: =((C31-C19)/C19)*100 -> 2.9329609 | E31: =B31-D31 -> -0.12296089 | G31: =(1+(E31/100)) -> 0.99877039 | H31: =G31/G30 -> 0.99350482
A32: 2016M02 | B32: =IF('Rådata - Renter'!E15<>"",'Rådata - Renter'!E15,"") -> 2.8 | C32: =IF('Rådata - KPI total'!C15<>"",'Rådata - KPI total'!C15,"") -> 74.1 | D32: =((C32-C20)/C20)*100 -> 3.2033426 | E32: =B32-D32 -> -0.40334262 | G32: =(1+(E32/100)) -> 0.99596657 | H32: =G32/G31 -> 0.99719273
A33: 2016M03 | B33: =IF('Rådata - Renter'!E16<>"",'Rådata - Renter'!E16,"") -> 3.01 | C33: =IF('Rådata - KPI total'!C16<>"",'Rådata - KPI total'!C16,"") -> 74.4 | D33: =((C33-C21)/C21)*100 -> 3.3333333 | E33: =B33-D33 -> -0.32333333 | G33: =(1+(E33/100)) -> 0.99676667 | H33: =G33/G32 -> 1.0008033
A34: 2016M04 | B34: =IF('Rådata - Renter'!E17<>"",'Rådata - Renter'!E17,"") -> 2.97 | C34: =IF('Rådata - KPI total'!C17<>"",'Rådata - KPI total'!C17,"") -> 74.7 | D34: =((C34-C22)/C22)*100 -> 3.3195021 | E34: =B34-D34 -> -0.34950207 | G34: =(1+(E34/100)) -> 0.99650498 | H34: =G34/G33 -> 0.99973746
A35: 2016M05 | B35: =IF('Rådata - Renter'!E18<>"",'Rådata - Renter'!E18,"") -> 2.84 | C35: =IF('Rådata - KPI total'!C18<>"",'Rådata - KPI total'!C18,"") -> 74.9 | D35: =((C35-C23)/C23)*100 -> 3.3103448 | E35: =B35-D35 -> -0.47034483 | G35: =(1+(E35/100)) -> 0.99529655 | H35: =G35/G34 -> 0.99878733
A36: 2016M06 | B36: =IF('Rådata - Renter'!E19<>"",'Rådata - Renter'!E19,"") -> 2.95 | C36: =IF('Rådata - KPI total'!C19<>"",'Rådata - KPI total'!C19,"") -> 75.4 | D36: =((C36-C24)/C24)*100 -> 3.7138927 | E36: =B36-D36 -> -0.76389271 | G36: =(1+(E36/100)) -> 0.99236107 | H36: =G36/G35 -> 0.99705065
A37: 2016M07 | B37: =IF('Rådata - Renter'!E20<>"",'Rådata - Renter'!E20,"") -> 2.84 | C37: =IF('Rådata - KPI total'!C20<>"",'Rådata - KPI total'!C20,"") -> 75.9 | D37: =((C37-C25)/C25)*100 -> 4.4016506 | E37: =B37-D37 -> -1.5616506 | G37: =(1+(E37/100)) -> 0.98438349 | H37: =G37/G36 -> 0.99196101
A38: 2016M08 | B38: =IF('Rådata - Renter'!E21<>"",'Rådata - Renter'!E21,"") -> 2.8 | C38: =IF('Rådata - KPI total'!C21<>"",'Rådata - KPI total'!C21,"") -> 75.4 | D38: =((C38-C26)/C26)*100 -> 4 | E38: =B38-D38 -> -1.2 | G38: =(1+(E38/100)) -> 0.988 | H38: =G38/G37 -> 1.0036739
A39: 2016M09 | B39: =IF('Rådata - Renter'!E22<>"",'Rådata - Renter'!E22,"") -> 3.03 | C39: =IF('Rådata - KPI total'!C22<>"",'Rådata - KPI total'!C22,"") -> 75.7 | D39: =((C39-C27)/C27)*100 -> 3.6986301 | E39: =B39-D39 -> -0.66863014 | G39: =(1+(E39/100)) -> 0.9933137 | H39: =G39/G38 -> 1.0053782
A40: 2016M10 | B40: =IF('Rådata - Renter'!E23<>"",'Rådata - Renter'!E23,"") -> 3.05 | C40: =IF('Rådata - KPI total'!C23<>"",'Rådata - KPI total'!C23,"") -> 76 | D40: =((C40-C28)/C28)*100 -> 3.6834925 | E40: =B40-D40 -> -0.6334925 | G40: =(1+(E40/100)) -> 0.99366508 | H40: =G40/G39 -> 1.0003537
A41: 2016M11 | B41: =IF('Rådata - Renter'!E24<>"",'Rådata - Renter'!E24,"") -> 2.91 | C41: =IF('Rådata - KPI total'!C24<>"",'Rådata - KPI total'!C24,"") -> 76.2 | D41: =((C41-C29)/C29)*100 -> 3.5326087 | E41: =B41-D41 -> -0.6226087 | G41: =(1+(E41/100)) -> 0.99377391 | H41: =G41/G40 -> 1.0001095
A42: 2016M12 | B42: =IF('Rådata - Renter'!E25<>"",'Rådata - Renter'!E25,"") -> 3.09 | C42: =IF('Rådata - KPI total'!C25<>"",'Rådata - KPI total'!C25,"") -> 75.8 | D42: =((C42-C30)/C30)*100 -> 3.4106412 | E42: =B42-D42 -> -0.3206412 | F42: =AVERAGE(E31:E42) -> -0.6200333 | G42: =(1+(E42/100)) -> 0.99679359 | H42: =G42/G41 -> 1.0030386
...

Sheet Drivstoff_bensin&diesel
A1: 03013: Konsumprisindeks, etter måned, statistikkvariabel og konsumgruppe
A2: 03013: Konsumprisindeks, etter konsumgruppe, måned og statistikkvariabel. Statistikkbanken (ssb.no)
B4: Konsumprisindeks (2015=100) | F4: Prisrelativer
A5: Måned | B5: Diesel | C5: Bensin | D5: Diesel, årlig | E5: Bensin, årlig | F5: Diesel | H5: Bensin | I5: Bensin | K5: År | L5: 2015 | M5: 2016 | N5: 2017 | O5: 2018 | P5: 2019 | Q5: 2020 | R5: 2021 | S5: 2022 | T5: 2023 | U5: 2024
A6: 2015M01 | B6: =IF('Rådata - Diesel'!C2<>"",'Rådata - Diesel'!D2,"") -> 64.5 | C6: =IF('Rådata - Bensin'!B2<>"",'Rådata - Bensin'!D2,"") -> 69.5 | F6: =B6/B6 -> 1 | H6: =C6/C6 -> 1 | K6: Diesel, årlig gjennomsnitt | L6: 100 | M6: 95.366667 | N6: 103.74167 | O6: 114.90833 | P6: 115.2 | Q6: 107.51667 | R6: 120.74167 | S6: 168.38333 | T6: =D113 -> 101.8 | U6: =D125 -> 102.32727
A7: 2015M02 | B7: =IF('Rådata - Diesel'!C3<>"",'Rådata - Diesel'!D3,"") -> 62.8 | C7: =IF('Rådata - Bensin'!B3<>"",'Rådata - Bensin'!D3,"") -> 68.4 | F7: =B7/B6 -> 0.97364341 | H7: =C7/C6 -> 0.98417266 | K7: Bensin, årlig gjennomsnitt | L7: 99.991667 | M7: 97.091667 | N7: 103.275 | O7: 109.70833 | P7: 110.5 | Q7: 103.425 | R7: 116.39167 | S7: 150.63333 | T7: =E113 -> 105.92727 | U7: =E125 -> 106.05455
A8: 2015M03 | B8: =IF('Rådata - Diesel'!C4<>"",'Rådata - Diesel'!D4,"") -> 64.6 | C8: =IF('Rådata - Bensin'!B4<>"",'Rådata - Bensin'!D4,"") -> 70.4 | F8: =B8/B7 -> 1.0286624 | H8: =C8/C7 -> 1.0292398 | K8: Diesel [(Pt/Pt-1)] | L8: 1 | M8: =M6/L6 -> 0.95366667 | N8: =N6/M6 -> 1.0878189 | O8: =O6/N6 -> 1.1076392 | P8: =P6/O6 -> 1.0025383 | Q8: =Q6/P6 -> 0.9333044 | R8: =R6/Q6 -> 1.1230042 | S8: =S6/R6 -> 1.3945752 | T8: =T6/S6 -> 0.6045729 | U8: =U6/T6 -> 1.0051795
A9: 2015M04 | B9: =IF('Rådata - Diesel'!C5<>"",'Rådata - Diesel'!D5,"") -> 65.6 | C9: =IF('Rådata - Bensin'!B5<>"",'Rådata - Bensin'!D5,"") -> 72.1 | F9: =B9/B8 -> 1.0154799 | H9: =C9/C8 -> 1.0241477 | K9: Bensin [(Pt/Pt-1)] | L9: 1 | M9: =M7/L7 -> 0.97099758 | N9: =N7/M7 -> 1.0636855 | O9: =O7/N7 -> 1.0622932 | P9: =P7/O7 -> 1.0072161 | Q9: =Q7/P7 -> 0.93597285 | R9: =R7/Q7 -> 1.1253727 | S9: =S7/R7 -> 1.2941935 | T9: =T7/S7 -> 0.7032127 | U9: =U7/T7 -> 1.0012015
A10: 2015M05 | B10: =IF('Rådata - Diesel'!C6<>"",'Rådata - Diesel'!D6,"") -> 62.3 | C10: =IF('Rådata - Bensin'!B6<>"",'Rådata - Bensin'!D6,"") -> 70.6 | F10: =B10/B9 -> 0.94969512 | H10: =C10/C9 -> 0.97919556
A11: 2015M06 | B11: =IF('Rådata - Diesel'!C7<>"",'Rådata - Diesel'!D7,"") -> 65.4 | C11: =IF('Rådata - Bensin'!B7<>"",'Rådata - Bensin'!D7,"") -> 74.1 | F11: =B11/B10 -> 1.0497592 | H11: =C11/C10 -> 1.0495751 | K11: Gjennomsnittlig endring i observert periode
A12: 2015M07 | B12: =IF('Rådata - Diesel'!C8<>"",'Rådata - Diesel'!D8,"") -> 65.2 | C12: =IF('Rådata - Bensin'!B8<>"",'Rådata - Bensin'!D8,"") -> 75.3 | F12: =B12/B11 -> 0.9969419 | H12: =C12/C11 -> 1.0161943 | K12: 2015 = 100 | N12: Diesel | O12: Bensin
A13: 2015M08 | B13: =IF('Rådata - Diesel'!C9<>"",'Rådata - Diesel'!D9,"") -> 61.6 | C13: =IF('Rådata - Bensin'!B9<>"",'Rådata - Bensin'!D9,"") -> 72.4 | F13: =B13/B12 -> 0.94478528 | H13: =C13/C12 -> 0.96148738 | K13: Periode | N13: Verdi | O13: Verdi
A14: 2015M09 | B14: =IF('Rådata - Diesel'!C10<>"",'Rådata - Diesel'!D10,"") -> 62.4 | C14: =IF('Rådata - Bensin'!B10<>"",'Rådata - Bensin'!D10,"") -> 69.1 | F14: =B14/B13 -> 1.012987 | H14: =C14/C13 -> 0.95441989 | K14: Januar 15 - juni 25 (månedsvis) | N14: =EXP(LN(1+(B132/B6-1))/((COUNT(B6:B132))-1))-1 -> 0.0037294305 | O14: =EXP(LN(1+(C132/C6-1))/((COUNT(C6:C132))-1))-1 -> 0.0031810438
A15: 2015M10 | B15: =IF('Rådata - Diesel'!C11<>"",'Rådata - Diesel'!D11,"") -> 62.3 | C15: =IF('Rådata - Bensin'!B11<>"",'Rådata - Bensin'!D11,"") -> 68.2 | F15: =B15/B14 -> 0.99839744 | H15: =C15/C14 -> 0.9869754
A16: 2015M11 | B16: =IF('Rådata - Diesel'!C12<>"",'Rådata - Diesel'!D12,"") -> 62.1 | C16: =IF('Rådata - Bensin'!B12<>"",'Rådata - Bensin'!D12,"") -> 68.4 | F16: =B16/B15 -> 0.99678973 | H16: =C16/C15 -> 1.0029326
A17: 2015M12 | B17: =IF('Rådata - Diesel'!C13<>"",'Rådata - Diesel'!D13,"") -> 60.8 | C17: =IF('Rådata - Bensin'!B13<>"",'Rådata - Bensin'!D13,"") -> 67.1 | D17: =AVERAGE(B6:B17) -> 63.3 | E17: =AVERAGE(C6:C17) -> 70.466667 | F17: =B17/B16 -> 0.97906602 | H17: =C17/C16 -> 0.98099415
A18: 2016M01 | B18: =IF('Rådata - Diesel'!C14<>"",'Rådata - Diesel'!D14,"") -> 60.1 | C18: =IF('Rådata - Bensin'!B14<>"",'Rådata - Bensin'!D14,"") -> 67.1 | F18: =B18/B17 -> 0.98848684 | H18: =C18/C17 -> 1
A19: 2016M02 | B19: =IF('Rådata - Diesel'!C15<>"",'Rådata - Diesel'!D15,"") -> 56.7 | C19: =IF('Rådata - Bensin'!B15<>"",'Rådata - Bensin'!D15,"") -> 65.3 | F19: =B19/B18 -> 0.94342762 | H19: =C19/C18 -> 0.97317437
A20: 2016M03 | B20: =IF('Rådata - Diesel'!C16<>"",'Rådata - Diesel'!D16,"") -> 61.4 | C20: =IF('Rådata - Bensin'!B16<>"",'Rådata - Bensin'!D16,"") -> 67.8 | F20: =B20/B19 -> 1.0828924 | H20: =C20/C19 -> 1.0382848
A21: 2016M04 | B21: =IF('Rådata - Diesel'!C17<>"",'Rådata - Diesel'!D17,"") -> 59.1 | C21: =IF('Rådata - Bensin'!B17<>"",'Rådata - Bensin'!D17,"") -> 68.3 | F21: =B21/B20 -> 0.96254072 | H21: =C21/C20 -> 1.0073746
A22: 2016M05 | B22: =IF('Rådata - Diesel'!C18<>"",'Rådata - Diesel'!D18,"") -> 58 | C22: =IF('Rådata - Bensin'!B18<>"",'Rådata - Bensin'!D18,"") -> 68.5 | F22: =B22/B21 -> 0.98138748 | H22: =C22/C21 -> 1.0029283
A23: 2016M06 | B23: =IF('Rådata - Diesel'!C19<>"",'Rådata - Diesel'!D19,"") -> 61.9 | C23: =IF('Rådata - Bensin'!B19<>"",'Rådata - Bensin'!D19,"") -> 70.7 | F23: =B23/B22 -> 1.0672414 | H23: =C23/C22 -> 1.0321168
A24: 2016M07 | B24: =IF('Rådata - Diesel'!C20<>"",'Rådata - Diesel'!D20,"") -> 62.4 | C24: =IF('Rådata - Bensin'!B20<>"",'Rådata - Bensin'!D20,"") -> 70 | F24: =B24/B23 -> 1.0080775 | H24: =C24/C23 -> 0.99009901
A25: 2016M08 | B25: =IF('Rådata - Diesel'!C21<>"",'Rådata - Diesel'!D21,"") -> 60.2 | C25: =IF('Rådata - Bensin'!B21<>"",'Rådata - Bensin'!D21,"") -> 68.8 | F25: =B25/B24 -> 0.96474359 | H25: =C25/C24 -> 0.98285714
A26: 2016M09 | B26: =IF('Rådata - Diesel'!C22<>"",'Rådata - Diesel'!D22,"") -> 59.9 | C26: =IF('Rådata - Bensin'!B22<>"",'Rådata - Bensin'!D22,"") -> 68 | F26: =B26/B25 -> 0.99501661 | H26: =C26/C25 -> 0.98837209
A27: 2016M10 | B27: =IF('Rådata - Diesel'!C23<>"",'Rådata - Diesel'!D23,"") -> 59.3 | C27: =IF('Rådata - Bensin'!B23<>"",'Rådata - Bensin'!D23,"") -> 67.3 | F27: =B27/B26 -> 0.98998331 | H27: =C27/C26 -> 0.98970588
A28: 2016M11 | B28: =IF('Rådata - Diesel'!C24<>"",'Rådata - Diesel'!D24,"") -> 62 | C28: =IF('Rådata - Bensin'!B24<>"",'Rådata - Bensin'!D24,"") -> 69.1 | F28: =B28/B27 -> 1.0455312 | H28: =C28/C27 -> 1.0267459
A29: 2016M12 | B29: =IF('Rådata - Diesel'!C25<>"",'Rådata - Diesel'!D25,"") -> 63.4 | C29: =IF('Rådata - Bensin'!B25<>"",'Rådata - Bensin'!D25,"") -> 70.1 | D29: =AVERAGE(B18:B29) -> 60.366667 | E29: =AVERAGE(C18:C29) -> 68.416667 | F29: =B29/B28 -> 1.0225806 | H29: =C29/C28 -> 1.0144718
A30: 2017M01 | B30: =IF('Rådata - Diesel'!C26<>"",'Rådata - Diesel'!D26,"") -> 67.7 | C30: =IF('Rådata - Bensin'!B26<>"",'Rådata - Bensin'!D26,"") -> 74.3 | F30: =B30/B29 -> 1.0678233 | H30: =C30/C29 -> 1.0599144
A31: 2017M02 | B31: =IF('Rådata - Diesel'!C27<>"",'Rådata - Diesel'!D27,"") -> 67.3 | C31: =IF('Rådata - Bensin'!B27<>"",'Rådata - Bensin'!D27,"") -> 73.9 | F31: =B31/B30 -> 0.99409158 | H31: =C31/C30 -> 0.99461642
A32: 2017M03 | B32: =IF('Rådata - Diesel'!C28<>"",'Rådata - Diesel'!D28,"") -> 65.9 | C32: =IF('Rådata - Bensin'!B28<>"",'Rådata - Bensin'!D28,"") -> 72.7 | F32: =B32/B31 -> 0.97919762 | H32: =C32/C31 -> 0.98376184
A33: 2017M04 | B33: =IF('Rådata - Diesel'!C29<>"",'Rådata - Diesel'!D29,"") -> 63.1 | C33: =IF('Rådata - Bensin'!B29<>"",'Rådata - Bensin'!D29,"") -> 70.9 | F33: =B33/B32 -> 0.95751138 | H33: =C33/C32 -> 0.97524072
A34: 2017M05 | B34: =IF('Rådata - Diesel'!C30<>"",'Rådata - Diesel'!D30,"") -> 63.8 | C34: =IF('Rådata - Bensin'!B30<>"",'Rådata - Bensin'!D30,"") -> 71.5 | F34: =B34/B33 -> 1.0110935 | H34: =C34/C33 -> 1.0084626
A35: 2017M06 | B35: =IF('Rådata - Diesel'!C31<>"",'Rådata - Diesel'!D31,"") -> 65.2 | C35: =IF('Rådata - Bensin'!B31<>"",'Rådata - Bensin'!D31,"") -> 73.1 | F35: =B35/B34 -> 1.0219436 | H35: =C35/C34 -> 1.0223776
A36: 2017M07 | B36: =IF('Rådata - Diesel'!C32<>"",'Rådata - Diesel'!D32,"") -> 64.9 | C36: =IF('Rådata - Bensin'!B32<>"",'Rådata - Bensin'!D32,"") -> 72.5 | F36: =B36/B35 -> 0.99539877 | H36: =C36/C35 -> 0.99179207
A37: 2017M08 | B37: =IF('Rådata - Diesel'!C33<>"",'Rådata - Diesel'!D33,"") -> 66.2 | C37: =IF('Rådata - Bensin'!B33<>"",'Rådata - Bensin'!D33,"") -> 73.5 | F37: =B37/B36 -> 1.0200308 | H37: =C37/C36 -> 1.0137931
A38: 2017M09 | B38: =IF('Rådata - Diesel'!C34<>"",'Rådata - Diesel'!D34,"") -> 66.6 | C38: =IF('Rådata - Bensin'!B34<>"",'Rådata - Bensin'!D34,"") -> 74.8 | F38: =B38/B37 -> 1.0060423 | H38: =C38/C37 -> 1.0176871
A39: 2017M10 | B39: =IF('Rådata - Diesel'!C35<>"",'Rådata - Diesel'!D35,"") -> 63.1 | C39: =IF('Rådata - Bensin'!B35<>"",'Rådata - Bensin'!D35,"") -> 70.8 | F39: =B39/B38 -> 0.94744745 | H39: =C39/C38 -> 0.94652406
A40: 2017M11 | B40: =IF('Rådata - Diesel'!C36<>"",'Rådata - Diesel'!D36,"") -> 68.6 | C40: =IF('Rådata - Bensin'!B36<>"",'Rådata - Bensin'!D36,"") -> 74.4 | F40: =B40/B39 -> 1.0871632 | H40: =C40/C39 -> 1.0508475
A41: 2017M12 | B41: =IF('Rådata - Diesel'!C37<>"",'Rådata - Diesel'!D37,"") -> 65.5 | C41: =IF('Rådata - Bensin'!B37<>"",'Rådata - Bensin'!D37,"") -> 70.8 | D41: =AVERAGE(B30:B41) -> 65.658333 | E41: =AVERAGE(C30:C41) -> 72.766667 | F41: =B41/B40 -> 0.9548105 | H41: =C41/C40 -> 0.9516129
...

Sheet Drivstof_El
A1: 03013: Konsumprisindeks, etter måned, statistikkvariabel og konsumgruppe
A2: 03013: Konsumprisindeks, etter konsumgruppe, måned og statistikkvariabel. Statistikkbanken (ssb.no)
B3: Konsumprisindeks, 04.5.1 Elektrisitet inkludert nettleie
B4: 2015=100 | D4: Prisrelativer
A5: 2015M01 | B5: =IF('Dådata - Elektrisitet'!C2<>"",'Dådata - Elektrisitet'!D2,"") -> 51.4 | D5: 1
A6: 2015M02 | B6: =IF('Dådata - Elektrisitet'!C3<>"",'Dådata - Elektrisitet'!D3,"") -> 50.6 | D6: {=_xlfn.IFS(B6="","",B6>0,B6/B5)} -> 0.9844358
A7: 2015M03 | B7: =IF('Dådata - Elektrisitet'!C4<>"",'Dådata - Elektrisitet'!D4,"") -> 48.7 | D7: {=_xlfn.IFS(B7="","",B7>0,B7/B6)} -> 0.96245059 | H7: År | I7: 2015 | J7: 2016 | K7: 2017 | L7: 2018 | M7: 2019 | N7: 2020 | O7: 2021 | P7: 2022 | Q7: 2023 | R7: 2024 | S7: 2025
A8: 2015M04 | B8: =IF('Dådata - Elektrisitet'!C5<>"",'Dådata - Elektrisitet'!D5,"") -> 48 | D8: {=_xlfn.IFS(B8="","",B8>0,B8/B7)} -> 0.98562628 | H8: Elektrisitet, årlig gjennomsnitt (%) | I8: 100 | J8: 122.21667 | K8: 133.61667 | L8: 167.84167 | M8: 168.90833 | N8: 119.30833 | O8: 203.81667 | P8: 242.60833 | Q8: =C112 -> 104.24545 | R8: =C124 -> 94.375
A9: 2015M05 | B9: =IF('Dådata - Elektrisitet'!C6<>"",'Dådata - Elektrisitet'!D6,"") -> 46 | D9: {=_xlfn.IFS(B9="","",B9>0,B9/B8)} -> 0.95833333 | H9: Prisrelativer [(Pt/Pt-1)] | J9: =J8/I8 -> 1.2221667 | K9: =K8/J8 -> 1.093277 | L9: =L8/K8 -> 1.2561432 | M9: =M8/L8 -> 1.0063552 | N9: =N8/M8 -> 0.7063496 | O9: =O8/N8 -> 1.7083188 | P9: =P8/O8 -> 1.1903263 | Q9: =Q8/P8 -> 0.42968621 | R9: =R8/Q8 -> 0.90531525
A10: 2015M06 | B10: =IF('Dådata - Elektrisitet'!C7<>"",'Dådata - Elektrisitet'!D7,"") -> 42.4 | D10: {=_xlfn.IFS(B10="","",B10>0,B10/B9)} -> 0.92173913
A11: 2015M07 | B11: =IF('Dådata - Elektrisitet'!C8<>"",'Dådata - Elektrisitet'!D8,"") -> 40.2 | D11: {=_xlfn.IFS(B11="","",B11>0,B11/B10)} -> 0.94811321
A12: 2015M08 | B12: =IF('Dådata - Elektrisitet'!C9<>"",'Dådata - Elektrisitet'!D9,"") -> 41.8 | D12: {=_xlfn.IFS(B12="","",B12>0,B12/B11)} -> 1.039801 | H12: Gjennomsnittlig endring i observert periode
A13: 2015M09 | B13: =IF('Dådata - Elektrisitet'!C10<>"",'Dådata - Elektrisitet'!D10,"") -> 43.3 | D13: {=_xlfn.IFS(B13="","",B13>0,B13/B12)} -> 1.0358852 | H13: Periode | I13: Verdi
A14: 2015M10 | B14: =IF('Dådata - Elektrisitet'!C11<>"",'Dådata - Elektrisitet'!D11,"") -> 47.5 | D14: {=_xlfn.IFS(B14="","",B14>0,B14/B13)} -> 1.0969977 | H14: Januar 2015 - juni 2025 (månedsvis) | I14: =EXP(LN(1+(B131/B5-1))/((COUNT(B5:B131))-1))-1 -> 0.0048868122
A15: 2015M11 | B15: =IF('Dådata - Elektrisitet'!C12<>"",'Dådata - Elektrisitet'!D12,"") -> 49.7 | D15: {=_xlfn.IFS(B15="","",B15>0,B15/B14)} -> 1.0463158
A16: 2015M12 | B16: =IF('Dådata - Elektrisitet'!C13<>"",'Dådata - Elektrisitet'!D13,"") -> 48 | C16: =AVERAGE(B5:B16) -> 46.466667 | D16: {=_xlfn.IFS(B16="","",B16>0,B16/B15)} -> 0.96579477
A17: 2016M01 | B17: =IF('Dådata - Elektrisitet'!C14<>"",'Dådata - Elektrisitet'!D14,"") -> 57.6 | D17: {=_xlfn.IFS(B17="","",B17>0,B17/B16)} -> 1.2
A18: 2016M02 | B18: =IF('Dådata - Elektrisitet'!C15<>"",'Dådata - Elektrisitet'!D15,"") -> 52.5 | D18: {=_xlfn.IFS(B18="","",B18>0,B18/B17)} -> 0.91145833
A19: 2016M03 | B19: =IF('Dådata - Elektrisitet'!C16<>"",'Dådata - Elektrisitet'!D16,"") -> 53.8 | D19: {=_xlfn.IFS(B19="","",B19>0,B19/B18)} -> 1.0247619
A20: 2016M04 | B20: =IF('Dådata - Elektrisitet'!C17<>"",'Dådata - Elektrisitet'!D17,"") -> 53.9 | D20: {=_xlfn.IFS(B20="","",B20>0,B20/B19)} -> 1.0018587
A21: 2016M05 | B21: =IF('Dådata - Elektrisitet'!C18<>"",'Dådata - Elektrisitet'!D18,"") -> 54.1 | D21: {=_xlfn.IFS(B21="","",B21>0,B21/B20)} -> 1.0037106
A22: 2016M06 | B22: =IF('Dådata - Elektrisitet'!C19<>"",'Dådata - Elektrisitet'!D19,"") -> 55.6 | D22: {=_xlfn.IFS(B22="","",B22>0,B22/B21)} -> 1.0277264
A23: 2016M07 | B23: =IF('Dådata - Elektrisitet'!C20<>"",'Dådata - Elektrisitet'!D20,"") -> 55.7 | D23: {=_xlfn.IFS(B23="","",B23>0,B23/B22)} -> 1.0017986
A24: 2016M08 | B24: =IF('Dådata - Elektrisitet'!C21<>"",'Dådata - Elektrisitet'!D21,"") -> 55 | D24: {=_xlfn.IFS(B24="","",B24>0,B24/B23)} -> 0.98743268
A25: 2016M09 | B25: =IF('Dådata - Elektrisitet'!C22<>"",'Dådata - Elektrisitet'!D22,"") -> 55.5 | D25: {=_xlfn.IFS(B25="","",B25>0,B25/B24)} -> 1.0090909
A26: 2016M10 | B26: =IF('Dådata - Elektrisitet'!C23<>"",'Dådata - Elektrisitet'!D23,"") -> 60.4 | D26: {=_xlfn.IFS(B26="","",B26>0,B26/B25)} -> 1.0882883
A27: 2016M11 | B27: =IF('Dådata - Elektrisitet'!C24<>"",'Dådata - Elektrisitet'!D24,"") -> 65.4 | D27: {=_xlfn.IFS(B27="","",B27>0,B27/B26)} -> 1.0827815
A28: 2016M12 | B28: =IF('Dådata - Elektrisitet'!C25<>"",'Dådata - Elektrisitet'!D25,"") -> 61.9 | C28: =AVERAGE(B17:B28) -> 56.783333 | D28: {=_xlfn.IFS(B28="","",B28>0,B28/B27)} -> 0.94648318
A29: 2017M01 | B29: =IF('Dådata - Elektrisitet'!C26<>"",'Dådata - Elektrisitet'!D26,"") -> 62.1 | D29: {=_xlfn.IFS(B29="","",B29>0,B29/B28)} -> 1.003231
A30: 2017M02 | B30: =IF('Dådata - Elektrisitet'!C27<>"",'Dådata - Elektrisitet'!D27,"") -> 62.5 | D30: {=_xlfn.IFS(B30="","",B30>0,B30/B29)} -> 1.0064412
A31: 2017M03 | B31: =IF('Dådata - Elektrisitet'!C28<>"",'Dådata - Elektrisitet'!D28,"") -> 62.1 | D31: {=_xlfn.IFS(B31="","",B31>0,B31/B30)} -> 0.9936
A32: 2017M04 | B32: =IF('Dådata - Elektrisitet'!C29<>"",'Dådata - Elektrisitet'!D29,"") -> 61.6 | D32: {=_xlfn.IFS(B32="","",B32>0,B32/B31)} -> 0.99194847
A33: 2017M05 | B33: =IF('Dådata - Elektrisitet'!C30<>"",'Dådata - Elektrisitet'!D30,"") -> 61.3 | D33: {=_xlfn.IFS(B33="","",B33>0,B33/B32)} -> 0.99512987
A34: 2017M06 | B34: =IF('Dådata - Elektrisitet'!C31<>"",'Dådata - Elektrisitet'!D31,"") -> 59 | D34: {=_xlfn.IFS(B34="","",B34>0,B34/B33)} -> 0.96247961
A35: 2017M07 | B35: =IF('Dådata - Elektrisitet'!C32<>"",'Dådata - Elektrisitet'!D32,"") -> 59.8 | D35: {=_xlfn.IFS(B35="","",B35>0,B35/B34)} -> 1.0135593
A36: 2017M08 | B36: =IF('Dådata - Elektrisitet'!C33<>"",'Dådata - Elektrisitet'!D33,"") -> 60.1 | D36: {=_xlfn.IFS(B36="","",B36>0,B36/B35)} -> 1.0050167
A37: 2017M09 | B37: =IF('Dådata - Elektrisitet'!C34<>"",'Dådata - Elektrisitet'!D34,"") -> 62.7 | D37: {=_xlfn.IFS(B37="","",B37>0,B37/B36)} -> 1.0432612
A38: 2017M10 | B38: =IF('Dådata - Elektrisitet'!C35<>"",'Dådata - Elektrisitet'!D35,"") -> 61 | D38: {=_xlfn.IFS(B38="","",B38>0,B38/B37)} -> 0.97288676
A39: 2017M11 | B39: =IF('Dådata - Elektrisitet'!C36<>"",'Dådata - Elektrisitet'!D36,"") -> 66 | D39: {=_xlfn.IFS(B39="","",B39>0,B39/B38)} -> 1.0819672
A40: 2017M12 | B40: =IF('Dådata - Elektrisitet'!C37<>"",'Dådata - Elektrisitet'!D37,"") -> 66.8 | C40: =AVERAGE(B29:B40) -> 62.083333 | D40: {=_xlfn.IFS(B40="","",B40>0,B40/B39)} -> 1.0121212
...

Sheet Reparasjon og vedlikehold
A1: 03013: Konsumprisindeks, etter måned, statistikkvariabel og konsumgruppe
A2: 03013: Konsumprisindeks, etter konsumgruppe, måned og statistikkvariabel. Statistikkbanken (ssb.no)
G4: År | H4: 2015 | I4: 2016 | J4: 2017 | K4: 2018 | L4: 2019 | M4: 2020 | N4: 2021 | O4: 2022 | P4: 2023 | Q4: 2024 | R4: 2025
G5: Vedlikehold & reparasjon, årlig gjennomsnitt (%) | H5: 100 | I5: 103.20833 | J5: 105.21667 | K5: 107.425 | L5: 110.29167 | M5: 113.725 | N5: 117.225 | O5: 122.90833 | P5: =C116 -> 90.309091 | Q5: =C128 -> 95.833333
G6: Prisrelativer [(Pt/Pt-1)] | I6: =I5/H5 -> 1.0320833 | J6: =J5/I5 -> 1.019459 | K6: =K5/J5 -> 1.0209884 | L6: =L5/K5 -> 1.0266853 | M6: =M5/L5 -> 1.0311296 | N6: =N5/M5 -> 1.030776 | O6: =O5/N5 -> 1.0484823 | P6: =P5/O5 -> 0.73476784 | Q6: =Q5/P5 -> 1.0611704
B7: Vedlikehold og reparasjon på verksted (2015=100)
A8: Måned | B8: 2015=100 | D8: Prisrelativer
A9: 2015M01 | B9: =IF('Rådata - Reparasjon og vedlikeh'!C2<>"",'Rådata - Reparasjon og vedlikeh'!D2,"") -> 67.1 | D9: =B9/B9 -> 1
A10: 2015M02 | B10: =IF('Rådata - Reparasjon og vedlikeh'!C3<>"",'Rådata - Reparasjon og vedlikeh'!D3,"") -> 67.1 | D10: {=_xlfn.IFS(B10="","",B10>0,B10/B9)} -> 1 | G10: Gjennomsnittlig endring i observert periode
A11: 2015M03 | B11: =IF('Rådata - Reparasjon og vedlikeh'!C4<>"",'Rådata - Reparasjon og vedlikeh'!D4,"") -> 67.4 | D11: {=_xlfn.IFS(B11="","",B11>0,B11/B10)} -> 1.0044709 | G11: Periode | J11: Verdi
A12: 2015M04 | B12: =IF('Rådata - Reparasjon og vedlikeh'!C5<>"",'Rådata - Reparasjon og vedlikeh'!D5,"") -> 67.5 | D12: {=_xlfn.IFS(B12="","",B12>0,B12/B11)} -> 1.0014837 | G12: Januar 2015 - juli 2025 | J12: =EXP(LN(1+(B135/B9-1))/((COUNT(B9:B135))-1))-1 -> 0.0031795333
A13: 2015M05 | B13: =IF('Rådata - Reparasjon og vedlikeh'!C6<>"",'Rådata - Reparasjon og vedlikeh'!D6,"") -> 67.8 | D13: {=_xlfn.IFS(B13="","",B13>0,B13/B12)} -> 1.0044444
A14: 2015M06 | B14: =IF('Rådata - Reparasjon og vedlikeh'!C7<>"",'Rådata - Reparasjon og vedlikeh'!D7,"") -> 68 | D14: {=_xlfn.IFS(B14="","",B14>0,B14/B13)} -> 1.0029499
A15: 2015M07 | B15: =IF('Rådata - Reparasjon og vedlikeh'!C8<>"",'Rådata - Reparasjon og vedlikeh'!D8,"") -> 68.2 | D15: {=_xlfn.IFS(B15="","",B15>0,B15/B14)} -> 1.0029412
A16: 2015M08 | B16: =IF('Rådata - Reparasjon og vedlikeh'!C9<>"",'Rådata - Reparasjon og vedlikeh'!D9,"") -> 68.5 | D16: {=_xlfn.IFS(B16="","",B16>0,B16/B15)} -> 1.0043988
A17: 2015M09 | B17: =IF('Rådata - Reparasjon og vedlikeh'!C10<>"",'Rådata - Reparasjon og vedlikeh'!D10,"") -> 68.4 | D17: {=_xlfn.IFS(B17="","",B17>0,B17/B16)} -> 0.99854015
A18: 2015M10 | B18: =IF('Rådata - Reparasjon og vedlikeh'!C11<>"",'Rådata - Reparasjon og vedlikeh'!D11,"") -> 68.8 | D18: {=_xlfn.IFS(B18="","",B18>0,B18/B17)} -> 1.005848
A19: 2015M11 | B19: =IF('Rådata - Reparasjon og vedlikeh'!C12<>"",'Rådata - Reparasjon og vedlikeh'!D12,"") -> 69 | D19: {=_xlfn.IFS(B19="","",B19>0,B19/B18)} -> 1.002907
A20: 2015M12 | B20: =IF('Rådata - Reparasjon og vedlikeh'!C13<>"",'Rådata - Reparasjon og vedlikeh'!D13,"") -> 69 | C20: =AVERAGE(B9:B20) -> 68.066667 | D20: {=_xlfn.IFS(B20="","",B20>0,B20/B19)} -> 1
A21: 2016M01 | B21: =IF('Rådata - Reparasjon og vedlikeh'!C14<>"",'Rådata - Reparasjon og vedlikeh'!D14,"") -> 69.4 | D21: {=_xlfn.IFS(B21="","",B21>0,B21/B20)} -> 1.0057971
A22: 2016M02 | B22: =IF('Rådata - Reparasjon og vedlikeh'!C15<>"",'Rådata - Reparasjon og vedlikeh'!D15,"") -> 69.6 | D22: {=_xlfn.IFS(B22="","",B22>0,B22/B21)} -> 1.0028818
A23: 2016M03 | B23: =IF('Rådata - Reparasjon og vedlikeh'!C16<>"",'Rådata - Reparasjon og vedlikeh'!D16,"") -> 69.9 | D23: {=_xlfn.IFS(B23="","",B23>0,B23/B22)} -> 1.0043103
A24: 2016M04 | B24: =IF('Rådata - Reparasjon og vedlikeh'!C17<>"",'Rådata - Reparasjon og vedlikeh'!D17,"") -> 70 | D24: {=_xlfn.IFS(B24="","",B24>0,B24/B23)} -> 1.0014306
A25: 2016M05 | B25: =IF('Rådata - Reparasjon og vedlikeh'!C18<>"",'Rådata - Reparasjon og vedlikeh'!D18,"") -> 70 | D25: {=_xlfn.IFS(B25="","",B25>0,B25/B24)} -> 1
A26: 2016M06 | B26: =IF('Rådata - Reparasjon og vedlikeh'!C19<>"",'Rådata - Reparasjon og vedlikeh'!D19,"") -> 70 | D26: {=_xlfn.IFS(B26="","",B26>0,B26/B25)} -> 1
A27: 2016M07 | B27: =IF('Rådata - Reparasjon og vedlikeh'!C20<>"",'Rådata - Reparasjon og vedlikeh'!D20,"") -> 70.2 | D27: {=_xlfn.IFS(B27="","",B27>0,B27/B26)} -> 1.0028571
A28: 2016M08 | B28: =IF('Rådata - Reparasjon og vedlikeh'!C21<>"",'Rådata - Reparasjon og vedlikeh'!D21,"") -> 70.2 | D28: {=_xlfn.IFS(B28="","",B28>0,B28/B27)} -> 1
A29: 2016M09 | B29: =IF('Rådata - Reparasjon og vedlikeh'!C22<>"",'Rådata - Reparasjon og vedlikeh'!D22,"") -> 70.9 | D29: {=_xlfn.IFS(B29="","",B29>0,B29/B28)} -> 1.0099715
A30: 2016M10 | B30: =IF('Rådata - Reparasjon og vedlikeh'!C23<>"",'Rådata - Reparasjon og vedlikeh'!D23,"") -> 71.3 | D30: {=_xlfn.IFS(B30="","",B30>0,B30/B29)} -> 1.0056417
A31: 2016M11 | B31: =IF('Rådata - Reparasjon og vedlikeh'!C24<>"",'Rådata - Reparasjon og vedlikeh'!D24,"") -> 70.7 | D31: {=_xlfn.IFS(B31="","",B31>0,B31/B30)} -> 0.99158485
A32: 2016M12 | B32: =IF('Rådata - Reparasjon og vedlikeh'!C25<>"",'Rådata - Reparasjon og vedlikeh'!D25,"") -> 70.9 | C32: =AVERAGE(B21:B32) -> 70.258333 | D32: {=_xlfn.IFS(B32="","",B32>0,B32/B31)} -> 1.0028289
A33: 2017M01 | B33: =IF('Rådata - Reparasjon og vedlikeh'!C26<>"",'Rådata - Reparasjon og vedlikeh'!D26,"") -> 70.7 | D33: {=_xlfn.IFS(B33="","",B33>0,B33/B32)} -> 0.99717913
A34: 2017M02 | B34: =IF('Rådata - Reparasjon og vedlikeh'!C27<>"",'Rådata - Reparasjon og vedlikeh'!D27,"") -> 71.2 | D34: {=_xlfn.IFS(B34="","",B34>0,B34/B33)} -> 1.0070721
A35: 2017M03 | B35: =IF('Rådata - Reparasjon og vedlikeh'!C28<>"",'Rådata - Reparasjon og vedlikeh'!D28,"") -> 71.4 | D35: {=_xlfn.IFS(B35="","",B35>0,B35/B34)} -> 1.002809
A36: 2017M04 | B36: =IF('Rådata - Reparasjon og vedlikeh'!C29<>"",'Rådata - Reparasjon og vedlikeh'!D29,"") -> 71.3 | D36: {=_xlfn.IFS(B36="","",B36>0,B36/B35)} -> 0.99859944
A37: 2017M05 | B37: =IF('Rådata - Reparasjon og vedlikeh'!C30<>"",'Rådata - Reparasjon og vedlikeh'!D30,"") -> 71.5 | D37: {=_xlfn.IFS(B37="","",B37>0,B37/B36)} -> 1.002805
A38: 2017M06 | B38: =IF('Rådata - Reparasjon og vedlikeh'!C31<>"",'Rådata - Reparasjon og vedlikeh'!D31,"") -> 71.7 | D38: {=_xlfn.IFS(B38="","",B38>0,B38/B37)} -> 1.0027972
A39: 2017M07 | B39: =IF('Rådata - Reparasjon og vedlikeh'!C32<>"",'Rådata - Reparasjon og vedlikeh'!D32,"") -> 71.8 | D39: {=_xlfn.IFS(B39="","",B39>0,B39/B38)} -> 1.0013947
A40: 2017M08 | B40: =IF('Rådata - Reparasjon og vedlikeh'!C33<>"",'Rådata - Reparasjon og vedlikeh'!D33,"") -> 71.9 | D40: {=_xlfn.IFS(B40="","",B40>0,B40/B39)} -> 1.0013928
A41: 2017M09 | B41: =IF('Rådata - Reparasjon og vedlikeh'!C34<>"",'Rådata - Reparasjon og vedlikeh'!D34,"") -> 72.1 | D41: {=_xlfn.IFS(B41="","",B41>0,B41/B40)} -> 1.0027816
...

Sheet Forsikring
A1: 03013: Konsumprisindeks, etter konsumgruppe, måned og statistikkvariabel
A2: 03013: Konsumprisindeks, etter konsumgruppe, statistikkvariabel og måned. Statistikkbanken (ssb.no)
A3: Forsikring (2015=100) omfatter bolig- og transportforsikring
A4: Måned | B4: 2015=100 | D4: Prisrelativer | H4: År | I4: 2015 | J4: 2016 | K4: 2017 | L4: 2018 | M4: 2019 | N4: 2020 | O4: 2021 | P4: 2022 | Q4: 2023 | R4: 2024 | S4: 2025
A5: 2015M01 | B5: =IF('Rådata - forsikring'!C2<>"",'Rådata - forsikring'!D2,"") -> 63.2 | D5: 1 | F5: 2015K1 | G5: =B5 -> 63.2 | H5: Forsikring, årlig gjennomsnitt (%) | I5: 100 | J5: 100.225 | K5: 101.5 | L5: 103.65 | M5: 106 | N5: 110.35 | O5: 117.125 | P5: 123.275 | Q5: =C112 -> 81.945455 | R5: =C124 -> 88.05
A6: 2015M02 | B6: =IF('Rådata - forsikring'!C3<>"",'Rådata - forsikring'!D3,"") -> 63.2 | D6: {=_xlfn.IFS(B6="","",B6>0,B6/B5)} -> 1 | F6: 2015K2 | G6: =B8 -> 63.4 | H6: Prisrelativer [(Pt/Pt-1)] | J6: =J5/I5 -> 1.00225 | K6: =K5/J5 -> 1.0127214 | L6: =L5/K5 -> 1.0211823 | M6: =M5/L5 -> 1.0226725 | N6: =N5/M5 -> 1.0410377 | O6: =O5/N5 -> 1.0613956 | P6: =P5/O5 -> 1.052508 | Q6: =Q5/P5 -> 0.66473701 | R6: =R5/Q5 -> 1.0744952
A7: 2015M03 | B7: =IF('Rådata - forsikring'!C4<>"",'Rådata - forsikring'!D4,"") -> 63.2 | D7: {=_xlfn.IFS(B7="","",B7>0,B7/B6)} -> 1 | F7: 2015K3 | G7: =B11 -> 63.4
A8: 2015M04 | B8: =IF('Rådata - forsikring'!C5<>"",'Rådata - forsikring'!D5,"") -> 63.4 | D8: {=_xlfn.IFS(B8="","",B8>0,B8/B7)} -> 1.0031646 | F8: 2015K4 | G8: =B14 -> 63.6
A9: 2015M05 | B9: =IF('Rådata - forsikring'!C6<>"",'Rådata - forsikring'!D6,"") -> 63.4 | D9: {=_xlfn.IFS(B9="","",B9>0,B9/B8)} -> 1 | F9: 2016K1 | G9: =B17 -> 63.6 | H9: Gjennomsnittlig endring i observert periode
A10: 2015M06 | B10: =IF('Rådata - forsikring'!C7<>"",'Rådata - forsikring'!D7,"") -> 63.4 | D10: {=_xlfn.IFS(B10="","",B10>0,B10/B9)} -> 1 | F10: 2016K2 | G10: =B20 -> 63.5 | H10: Periode | K10: Verdi
A11: 2015M07 | B11: =IF('Rådata - forsikring'!C8<>"",'Rådata - forsikring'!D8,"") -> 63.4 | D11: {=_xlfn.IFS(B11="","",B11>0,B11/B10)} -> 1 | F11: 2016K3 | G11: =B23 -> 63.6 | H11: Januar 2015 - desember 2023 (kvartalsvis) | K11: =EXP(LN(1+(G47/G5-1))/((COUNT(G5:G47))-1))-1 -> 0.022453427
A12: 2015M08 | B12: =IF('Rådata - forsikring'!C9<>"",'Rådata - forsikring'!D9,"") -> 63.4 | D12: {=_xlfn.IFS(B12="","",B12>0,B12/B11)} -> 1 | F12: 2016K4 | G12: =B26 -> 63.5 | H12: Januar 2015 - desember 2023 (månedsvis) | K12: =EXP(LN(1+(B131/B5-1))/((COUNT(B5:B131))-1))-1 -> 0.0037983673
A13: 2015M09 | B13: =IF('Rådata - forsikring'!C10<>"",'Rådata - forsikring'!D10,"") -> 63.4 | D13: {=_xlfn.IFS(B13="","",B13>0,B13/B12)} -> 1 | F13: 2017K1 | G13: =B29 -> 63.7
A14: 2015M10 | B14: =IF('Rådata - forsikring'!C11<>"",'Rådata - forsikring'!D11,"") -> 63.6 | D14: {=_xlfn.IFS(B14="","",B14>0,B14/B13)} -> 1.0031546 | F14: 2017K2 | G14: =B32 -> 64.1
A15: 2015M11 | B15: =IF('Rådata - forsikring'!C12<>"",'Rådata - forsikring'!D12,"") -> 63.6 | D15: {=_xlfn.IFS(B15="","",B15>0,B15/B14)} -> 1 | F15: 2017K3 | G15: =B35 -> 64.6
A16: 2015M12 | B16: =IF('Rådata - forsikring'!C13<>"",'Rådata - forsikring'!D13,"") -> 63.6 | C16: =AVERAGE(B5:B16) -> 63.4 | D16: {=_xlfn.IFS(B16="","",B16>0,B16/B15)} -> 1 | F16: 2017K4 | G16: =B38 -> 65.1
A17: 2016M01 | B17: =IF('Rådata - forsikring'!C14<>"",'Rådata - forsikring'!D14,"") -> 63.6 | D17: {=_xlfn.IFS(B17="","",B17>0,B17/B16)} -> 1 | F17: 2018K1 | G17: =B41 -> 65.5
A18: 2016M02 | B18: =IF('Rådata - forsikring'!C15<>"",'Rådata - forsikring'!D15,"") -> 63.6 | D18: {=_xlfn.IFS(B18="","",B18>0,B18/B17)} -> 1 | F18: 2018K2 | G18: =B44 -> 65.6
A19: 2016M03 | B19: =IF('Rådata - forsikring'!C16<>"",'Rådata - forsikring'!D16,"") -> 63.6 | D19: {=_xlfn.IFS(B19="","",B19>0,B19/B18)} -> 1 | F19: 2018K3 | G19: =B47 -> 65.7
A20: 2016M04 | B20: =IF('Rådata - forsikring'!C17<>"",'Rådata - forsikring'!D17,"") -> 63.5 | D20: {=_xlfn.IFS(B20="","",B20>0,B20/B19)} -> 0.99842767 | F20: 2018K4 | G20: =B50 -> 66.1
A21: 2016M05 | B21: =IF('Rådata - forsikring'!C18<>"",'Rådata - forsikring'!D18,"") -> 63.5 | D21: {=_xlfn.IFS(B21="","",B21>0,B21/B20)} -> 1 | F21: 2019K1 | G21: =B53 -> 66.5
A22: 2016M06 | B22: =IF('Rådata - forsikring'!C19<>"",'Rådata - forsikring'!D19,"") -> 63.5 | D22: {=_xlfn.IFS(B22="","",B22>0,B22/B21)} -> 1 | F22: 2019K2 | G22: =B56 -> 66.7
A23: 2016M07 | B23: =IF('Rådata - forsikring'!C20<>"",'Rådata - forsikring'!D20,"") -> 63.6 | D23: {=_xlfn.IFS(B23="","",B23>0,B23/B22)} -> 1.0015748 | F23: 2019K3 | G23: =B59 -> 67.3
A24: 2016M08 | B24: =IF('Rådata - forsikring'!C21<>"",'Rådata - forsikring'!D21,"") -> 63.6 | D24: {=_xlfn.IFS(B24="","",B24>0,B24/B23)} -> 1 | F24: 2019K4 | G24: =B62 -> 68.2
A25: 2016M09 | B25: =IF('Rådata - forsikring'!C22<>"",'Rådata - forsikring'!D22,"") -> 63.6 | D25: {=_xlfn.IFS(B25="","",B25>0,B25/B24)} -> 1 | F25: 2020K1 | G25: =B65 -> 68.6
A26: 2016M10 | B26: =IF('Rådata - forsikring'!C23<>"",'Rådata - forsikring'!D23,"") -> 63.5 | D26: {=_xlfn.IFS(B26="","",B26>0,B26/B25)} -> 0.99842767 | F26: 2020K2 | G26: =B68 -> 69.5
A27: 2016M11 | B27: =IF('Rådata - forsikring'!C24<>"",'Rådata - forsikring'!D24,"") -> 63.5 | D27: {=_xlfn.IFS(B27="","",B27>0,B27/B26)} -> 1 | F27: 2020K3 | G27: =B71 -> 70.3
A28: 2016M12 | B28: =IF('Rådata - forsikring'!C25<>"",'Rådata - forsikring'!D25,"") -> 63.5 | C28: =AVERAGE(B17:B28) -> 63.55 | D28: {=_xlfn.IFS(B28="","",B28>0,B28/B27)} -> 1 | F28: 2020K4 | G28: =B74 -> 71.5
A29: 2017M01 | B29: =IF('Rådata - forsikring'!C26<>"",'Rådata - forsikring'!D26,"") -> 63.7 | D29: {=_xlfn.IFS(B29="","",B29>0,B29/B28)} -> 1.0031496 | F29: 2021K1 | G29: =B77 -> 72.3
A30: 2017M02 | B30: =IF('Rådata - forsikring'!C27<>"",'Rådata - forsikring'!D27,"") -> 63.7 | D30: {=_xlfn.IFS(B30="","",B30>0,B30/B29)} -> 1 | F30: 2021K2 | G30: =B80 -> 73.9
A31: 2017M03 | B31: =IF('Rådata - forsikring'!C28<>"",'Rådata - forsikring'!D28,"") -> 63.7 | D31: {=_xlfn.IFS(B31="","",B31>0,B31/B30)} -> 1 | F31: 2021K3 | G31: =B83 -> 74.8
A32: 2017M04 | B32: =IF('Rådata - forsikring'!C29<>"",'Rådata - forsikring'!D29,"") -> 64.1 | D32: {=_xlfn.IFS(B32="","",B32>0,B32/B31)} -> 1.0062794 | F32: 2021K4 | G32: =B86 -> 76.1
A33: 2017M05 | B33: =IF('Rådata - forsikring'!C30<>"",'Rådata - forsikring'!D30,"") -> 64.1 | D33: {=_xlfn.IFS(B33="","",B33>0,B33/B32)} -> 1 | F33: 2022K1 | G33: =B89 -> 76.6
A34: 2017M06 | B34: =IF('Rådata - forsikring'!C31<>"",'Rådata - forsikring'!D31,"") -> 64.1 | D34: {=_xlfn.IFS(B34="","",B34>0,B34/B33)} -> 1 | F34: 2022K2 | G34: =B92 -> 77.8
A35: 2017M07 | B35: =IF('Rådata - forsikring'!C32<>"",'Rådata - forsikring'!D32,"") -> 64.6 | D35: {=_xlfn.IFS(B35="","",B35>0,B35/B34)} -> 1.0078003 | F35: 2022K3 | G35: =B95 -> 78.8
A36: 2017M08 | B36: =IF('Rådata - forsikring'!C33<>"",'Rådata - forsikring'!D33,"") -> 64.6 | D36: {=_xlfn.IFS(B36="","",B36>0,B36/B35)} -> 1 | F36: 2022K4 | G36: =B98 -> 79.5
A37: 2017M09 | B37: =IF('Rådata - forsikring'!C34<>"",'Rådata - forsikring'!D34,"") -> 64.6 | D37: {=_xlfn.IFS(B37="","",B37>0,B37/B36)} -> 1 | F37: 2023K1 | G37: =B101 -> 80.1
A38: 2017M10 | B38: =IF('Rådata - forsikring'!C35<>"",'Rådata - forsikring'!D35,"") -> 65.1 | D38: {=_xlfn.IFS(B38="","",B38>0,B38/B37)} -> 1.0077399 | F38: 2023K2 | G38: =B104 -> 81.7
A39: 2017M11 | B39: =IF('Rådata - forsikring'!C36<>"",'Rådata - forsikring'!D36,"") -> 65.1 | D39: {=_xlfn.IFS(B39="","",B39>0,B39/B38)} -> 1 | F39: 2023K3 | G39: =B107 -> 82.8
A40: 2017M12 | B40: =IF('Rådata - forsikring'!C37<>"",'Rådata - forsikring'!D37,"") -> 65.1 | C40: =AVERAGE(B29:B40) -> 64.375 | D40: {=_xlfn.IFS(B40="","",B40>0,B40/B39)} -> 1 | F40: 2023K4 | G40: =B110 -> 83.8
...

Sheet Administrasjon
A1: 03013: Konsumprisindeks, etter måned, statistikkvariabel og konsumgruppe
A2: 03013: Konsumprisindeks, etter konsumgruppe, måned og statistikkvariabel. Statistikkbanken (ssb.no)
B3: KPI totalindeks (2015=100)
A4: Måned | B4: 2015=100 | D4: Prisrelativer | G4: År | H4: 2015 | I4: 2016 | J4: 2017 | K4: 2018 | L4: 2019 | M4: 2020 | N4: 2021 | O4: 2022 | P4: 2023 | Q4: 2024 | R4: 2025
A5: 2015M01 | B5: =IF('Rådata - Administrasjon'!B2<>"",'Rådata - Administrasjon'!C2,"") -> 71.6 | D5: =B5/B5 -> 1 | G5: Administrasjon, årlig gjennomsnitt (%) | H5: 100 | I5: 103.55 | J5: 105.49167 | K5: 108.40833 | L5: 110.75833 | M5: 112.18333 | N5: 116.09167 | O5: 122.78333 | P5: =C112 -> 93.909091 | Q5: =C124 -> 97.05
A6: 2015M02 | B6: =IF('Rådata - Administrasjon'!B3<>"",'Rådata - Administrasjon'!C3,"") -> 71.8 | D6: {=_xlfn.IFS(B6="","",B6>0,B6/B5)} -> 1.0027933 | G6: Prisrelativer [(Pt/Pt-1)] | I6: =I5/H5 -> 1.0355 | J6: =J5/I5 -> 1.018751 | K6: =K5/J5 -> 1.0276483 | L6: =L5/K5 -> 1.0216773 | M6: =M5/L5 -> 1.0128658 | N6: =N5/M5 -> 1.0348388 | O6: =O5/N5 -> 1.0576412 | P6: =P5/O5 -> 0.76483582 | Q6: =Q5/P5 -> 1.0334463
A7: 2015M03 | B7: =IF('Rådata - Administrasjon'!B4<>"",'Rådata - Administrasjon'!C4,"") -> 72 | D7: {=_xlfn.IFS(B7="","",B7>0,B7/B6)} -> 1.0027855
A8: 2015M04 | B8: =IF('Rådata - Administrasjon'!B5<>"",'Rådata - Administrasjon'!C5,"") -> 72.3 | D8: {=_xlfn.IFS(B8="","",B8>0,B8/B7)} -> 1.0041667 | G8: Gjennomsnittlig endring i observert periode
A9: 2015M05 | B9: =IF('Rådata - Administrasjon'!B6<>"",'Rådata - Administrasjon'!C6,"") -> 72.5 | D9: {=_xlfn.IFS(B9="","",B9>0,B9/B8)} -> 1.0027663 | G9: Periode | I9: Verdi
A10: 2015M06 | B10: =IF('Rådata - Administrasjon'!B7<>"",'Rådata - Administrasjon'!C7,"") -> 72.7 | D10: {=_xlfn.IFS(B10="","",B10>0,B10/B9)} -> 1.0027586 | G10: Januar 2015 - juli 2025 | I10: =EXP(LN(1+(B131/B5-1))/((COUNT(B5:B131))-1))-1 -> 0.0027183172
A11: 2015M07 | B11: =IF('Rådata - Administrasjon'!B8<>"",'Rådata - Administrasjon'!C8,"") -> 72.7 | D11: {=_xlfn.IFS(B11="","",B11>0,B11/B10)} -> 1
A12: 2015M08 | B12: =IF('Rådata - Administrasjon'!B9<>"",'Rådata - Administrasjon'!C9,"") -> 72.5 | D12: {=_xlfn.IFS(B12="","",B12>0,B12/B11)} -> 0.99724897
A13: 2015M09 | B13: =IF('Rådata - Administrasjon'!B10<>"",'Rådata - Administrasjon'!C10,"") -> 73 | D13: {=_xlfn.IFS(B13="","",B13>0,B13/B12)} -> 1.0068966
A14: 2015M10 | B14: =IF('Rådata - Administrasjon'!B11<>"",'Rådata - Administrasjon'!C11,"") -> 73.3 | D14: {=_xlfn.IFS(B14="","",B14>0,B14/B13)} -> 1.0041096
A15: 2015M11 | B15: =IF('Rådata - Administrasjon'!B12<>"",'Rådata - Administrasjon'!C12,"") -> 73.6 | D15: {=_xlfn.IFS(B15="","",B15>0,B15/B14)} -> 1.0040928
A16: 2015M12 | B16: =IF('Rådata - Administrasjon'!B13<>"",'Rådata - Administrasjon'!C13,"") -> 73.3 | C16: =AVERAGE(B5:B16) -> 72.608333 | D16: {=_xlfn.IFS(B16="","",B16>0,B16/B15)} -> 0.99592391
A17: 2016M01 | B17: =IF('Rådata - Administrasjon'!B14<>"",'Rådata - Administrasjon'!C14,"") -> 73.7 | D17: {=_xlfn.IFS(B17="","",B17>0,B17/B16)} -> 1.005457
A18: 2016M02 | B18: =IF('Rådata - Administrasjon'!B15<>"",'Rådata - Administrasjon'!C15,"") -> 74.1 | D18: {=_xlfn.IFS(B18="","",B18>0,B18/B17)} -> 1.0054274
A19: 2016M03 | B19: =IF('Rådata - Administrasjon'!B16<>"",'Rådata - Administrasjon'!C16,"") -> 74.4 | D19: {=_xlfn.IFS(B19="","",B19>0,B19/B18)} -> 1.0040486
A20: 2016M04 | B20: =IF('Rådata - Administrasjon'!B17<>"",'Rådata - Administrasjon'!C17,"") -> 74.7 | D20: {=_xlfn.IFS(B20="","",B20>0,B20/B19)} -> 1.0040323
A21: 2016M05 | B21: =IF('Rådata - Administrasjon'!B18<>"",'Rådata - Administrasjon'!C18,"") -> 74.9 | D21: {=_xlfn.IFS(B21="","",B21>0,B21/B20)} -> 1.0026774
A22: 2016M06 | B22: =IF('Rådata - Administrasjon'!B19<>"",'Rådata - Administrasjon'!C19,"") -> 75.4 | D22: {=_xlfn.IFS(B22="","",B22>0,B22/B21)} -> 1.0066756
A23: 2016M07 | B23: =IF('Rådata - Administrasjon'!B20<>"",'Rådata - Administrasjon'!C20,"") -> 75.9 | D23: {=_xlfn.IFS(B23="","",B23>0,B23/B22)} -> 1.0066313
A24: 2016M08 | B24: =IF('Rådata - Administrasjon'!B21<>"",'Rådata - Administrasjon'!C21,"") -> 75.4 | D24: {=_xlfn.IFS(B24="","",B24>0,B24/B23)} -> 0.99341238
A25: 2016M09 | B25: =IF('Rådata - Administrasjon'!B22<>"",'Rådata - Administrasjon'!C22,"") -> 75.7 | D25: {=_xlfn.IFS(B25="","",B25>0,B25/B24)} -> 1.0039788
A26: 2016M10 | B26: =IF('Rådata - Administrasjon'!B23<>"",'Rådata - Administrasjon'!C23,"") -> 76 | D26: {=_xlfn.IFS(B26="","",B26>0,B26/B25)} -> 1.003963
